BEGIN:VCALENDAR
VERSION:2.0
PRODID:-//Filha - ECPv6.15.20//NONSGML v1.0//EN
CALSCALE:GREGORIAN
METHOD:PUBLISH
X-WR-CALNAME:Filha
X-ORIGINAL-URL:https://www.filha.fi
X-WR-CALDESC:Tapahtumat Filha
REFRESH-INTERVAL;VALUE=DURATION:PT1H
X-Robots-Tag:noindex
X-PUBLISHED-TTL:PT1H
BEGIN:VTIMEZONE
TZID:Europe/Helsinki
BEGIN:DAYLIGHT
TZOFFSETFROM:+0200
TZOFFSETTO:+0300
TZNAME:EEST
DTSTART:20250330T010000
END:DAYLIGHT
BEGIN:STANDARD
TZOFFSETFROM:+0300
TZOFFSETTO:+0200
TZNAME:EET
DTSTART:20251026T010000
END:STANDARD
BEGIN:DAYLIGHT
TZOFFSETFROM:+0200
TZOFFSETTO:+0300
TZNAME:EEST
DTSTART:20260329T010000
END:DAYLIGHT
BEGIN:STANDARD
TZOFFSETFROM:+0300
TZOFFSETTO:+0200
TZNAME:EET
DTSTART:20261025T010000
END:STANDARD
BEGIN:DAYLIGHT
TZOFFSETFROM:+0200
TZOFFSETTO:+0300
TZNAME:EEST
DTSTART:20270328T010000
END:DAYLIGHT
BEGIN:STANDARD
TZOFFSETFROM:+0300
TZOFFSETTO:+0200
TZNAME:EET
DTSTART:20271031T010000
END:STANDARD
END:VTIMEZONE
BEGIN:VEVENT
DTSTART;TZID=Europe/Helsinki:20260422T083000
DTEND;TZID=Europe/Helsinki:20260422T151500
DTSTAMP:20260422T130236
CREATED:20250908T112606Z
LAST-MODIFIED:20260420T103750Z
UID:33705-1776846600-1776870900@www.filha.fi
SUMMARY:Kymenlaakson alueellinen keuhkosairauksien ja allergologian koulutuspäivä\, Kouvola
DESCRIPTION:Paikka: Kouvolatalo\, Honkasali ja lämpiö\, Varuskuntakatu 11\, 45100 Kouvola\n\nKohderyhmät: Perusterveydenhuollon\, erikoissairaanhoidon ja yksityispuolen lääkärit ja hoitajat sekä\napteekkarit\, proviisorit\, farmaseutit\, jotka kohtaavat työssään keuhkosairauksia ja allergioita sairastavia\npotilaita. Koulutus on maksuton. \nIlmoittaudu mukaan koulutuskalenterimme kautta Koulutukset Kymenlaakson hyvinvointialue.\nHyvinvointialueen työntekijät ilmoittautuvat intran Fasu-koulutuskalenterin kautta. \nOHJELMA (PDF) \n8:30 Pientä tarjoilua ja näyttelyyn tutustuminen. \n9:00 Koulutuksen avaus. Mitä uutta Filhassa.\nVeera Partanen\, koulutuspäällikkö\, Kymenlaakson hyvinvointialue\nKrista Ahvenjärvi\, asiantuntija\, koulutusvastaava\, Filha ry \n9:05 Keuhkosyöpä tänään\nVille Koistinen\, keuhkosairauksien ylilääkäri\, Kymenlaakson hyvinvointialue \n10:10 Hoitajan puheenvuoro: Keuhkosyöpään sairastuneen tukeminen\,\nCia Sykkö sairaanhoitaja\, keuhkosairauksien poliklinikka\, Kymenlaakson hyvinvointialue \n11:00 Lounas ja näyttelyyn tutustuminen (oma kustanne) \n12:00 Pitkittyneen yskän tutkiminen ja hoito\nTuomas Toukomaa\, keuhkosairauksien erikoistuva lääkäri\, Kymenlaakson hyvinvointialue \n12:45 Astman hallinta\nAntti Saarinen\, keuhkosairauksien erikoislääkäri\, asiantuntijaylilääkäri\, Filha Ry \n13:30 Iltapäivän tarjoilua ja näyttelyyn tutustuminen \n14:00 Lasten ruoka-allergiat ja päivittynyt Käypä hoito suositus\nTimo Sillanpää\, lastentautien erikoislääkäri \n14:30 Tablettisiedätyshoito\nKrista Ahvenjärvi \n15:00 Keskustelua. Päätössanat. Seuraavasta koulutuksesta sopiminen. \n15:15 Tilaisuus päättyy. \nTapahtuman järjestävät yhteistyössä Kymenlaakson hyvinvointialue ja Filha ry \nKrista AhvenjärviAsiantuntija\, ahtauttavat keuhkosairaudet\, koulutusvastaava\, TtM +358 44 544 2209
URL:https://www.filha.fi/koulutus/kymenlaakson-alueellinen-keuhkosairauksien-ja-allergologian-koulutuspaiva/
END:VEVENT
END:VCALENDAR