BEGIN:VCALENDAR
VERSION:2.0
PRODID:-//Filha - ECPv6.15.20//NONSGML v1.0//EN
CALSCALE:GREGORIAN
METHOD:PUBLISH
X-ORIGINAL-URL:https://www.filha.fi
X-WR-CALDESC:Tapahtumat Filha
REFRESH-INTERVAL;VALUE=DURATION:PT1H
X-Robots-Tag:noindex
X-PUBLISHED-TTL:PT1H
BEGIN:VTIMEZONE
TZID:Europe/Helsinki
BEGIN:DAYLIGHT
TZOFFSETFROM:+0200
TZOFFSETTO:+0300
TZNAME:EEST
DTSTART:20180325T010000
END:DAYLIGHT
BEGIN:STANDARD
TZOFFSETFROM:+0300
TZOFFSETTO:+0200
TZNAME:EET
DTSTART:20181028T010000
END:STANDARD
BEGIN:DAYLIGHT
TZOFFSETFROM:+0200
TZOFFSETTO:+0300
TZNAME:EEST
DTSTART:20190331T010000
END:DAYLIGHT
BEGIN:STANDARD
TZOFFSETFROM:+0300
TZOFFSETTO:+0200
TZNAME:EET
DTSTART:20191027T010000
END:STANDARD
BEGIN:DAYLIGHT
TZOFFSETFROM:+0200
TZOFFSETTO:+0300
TZNAME:EEST
DTSTART:20200329T010000
END:DAYLIGHT
BEGIN:STANDARD
TZOFFSETFROM:+0300
TZOFFSETTO:+0200
TZNAME:EET
DTSTART:20201025T010000
END:STANDARD
END:VTIMEZONE
BEGIN:VEVENT
DTSTART;TZID=Europe/Helsinki:20190509T120000
DTEND;TZID=Europe/Helsinki:20190509T163000
DTSTAMP:20260426T022358
CREATED:20190507T102424Z
LAST-MODIFIED:20190514T115356Z
UID:1565-1557403200-1557419400@www.filha.fi
SUMMARY:Allergiaohjelman jatko: Alueellinen allergia- ja astmakoulutus
DESCRIPTION:Tietoa koulutuksesta:\nPaikka:\nSokos Hotel Alexandra\, Hannikaisenkatu 35\, Jyväskylä \nKohderyhmät\nPerusterveydenhuollon lääkärit ja sairaanhoitajat\, terveydenhoitajat ja erikoissairaanhoidon lastentautien\, keuhkosairauksien lääkärit ja hoitajat\, työterveyshuollon lääkärit ja hoitajat\, ravitsemusterapeutit\, apteekkien astmayhdyshenkilöt sekä kaikki asiasta kiinnostuneet terveydenhuollon ammattilaiset.Koulutus on maksuton. \nIlmoittautuminen\nLyyti-ohjelman kautta tästä linkistä \nOhjelma\n\n\n\n12:00\nKahvi ja näyttelyyn tutustuminen\n\n\n12:20\nTervetuloa\, tavoitteet\nErja Tommila\, projektivastaava\, esh\, Filha ry\n\n\n12:30\nAllergiaohjelman tuloksia – mikä muuttui?\nErkka Valovirta\, Filhan asiantuntijalääkäri\, prof.\, lastentautien\na lasten allergisten sairauksien el\n\n\n13:15\nAikuisten ruoka-allergia – hallinnassako?\nErkka Valovirta\, Erja Tommila \n\n\n14:00\nKahvi ja näyttelyyn tutustuminen\n\n\n14:30\nAstma – kontrollit kuntoon ja hoito hallintaan\nkoululaiset\, vanhukset laitoshoidossa mm.\nErkka Valovirta ja Erja Tommila\n\n\n15:00\nNyt on allergiatyöryhmän aika – keskustelua moniammatillisen\nkoulutuksen jatkumisesta Jyväskylässä\nErja Tommila ja Erkka Valovirta \n\n\n15:30\nAnafylaksia\nErkka Valovirta\n\n\n\n Lämpimästi tervetuloa!\n\n\n\nLisätietoja\nErja Tommila\nerja.tommila@filha.fi
URL:https://www.filha.fi/koulutus/allergiaohjelman-jatko-alueellinen-allergia-ja-astmakoulutus-2/
LOCATION:Sokos Hotel Alexandra\, Hannikaisenkatu 35\, Jyväskylä\, 40100\, Suomi
END:VEVENT
BEGIN:VEVENT
DTSTART;TZID=Europe/Helsinki:20190514T120000
DTEND;TZID=Europe/Helsinki:20190514T160000
DTSTAMP:20260426T022358
CREATED:20190507T103131Z
LAST-MODIFIED:20190514T115344Z
UID:1573-1557835200-1557849600@www.filha.fi
SUMMARY:Allergiaohjelman jatko: Alueellinen allergia- ja astmakoulutus
DESCRIPTION:Tietoa koulutuksesta:\nPaikka\nKanta-Hämeen keskussairaala\, Ahveniston luentosali\, 3. krs\, Ahvenistontie 20\, Hämeenlinna \nKohderyhmät\nPerusterveydenhuollon lääkärit ja sairaanhoitajat\, terveydenhoitajat ja erikoissairaanhoidon lastentautien\,\nkeuhkosairauksien lääkärit ja hoitajat\,  työterveyshuollon lääkärit ja hoitajat\, ravitsemusterapeutit\, apteekkien astmayhdyshenkilöt\nsekä kaikki asiasta kiinnostuneet terveydenhuollon ammattilaiset \nKustannukset\nKoulutus on maksuton. \nIlmoittautuminen\nIlmoittautuminen Lyyti-ohjelman kautta tästä linkistä. \nOhjelma\nAlueellinen allergia- ja astmakoulutus hameenlinna 14.5.2019 tulostettavana pdf-tiedostona. \nLisätietoja\nErja Tommila\nerja.tommila@filha.fi
URL:https://www.filha.fi/koulutus/allergiaohjelman-jatko-alueellinen-allergia-ja-astmakoulutus-3/
LOCATION:Kanta-Hämeen keskussairaala\, Ahvenistontie 20\, Hämeenlinna\, 13530\, Suomi
END:VEVENT
BEGIN:VEVENT
DTSTART;TZID=Europe/Helsinki:20190516T120000
DTEND;TZID=Europe/Helsinki:20190516T153000
DTSTAMP:20260426T022358
CREATED:20190507T103857Z
LAST-MODIFIED:20190514T115329Z
UID:1580-1558008000-1558020600@www.filha.fi
SUMMARY:Allergiaohjelman jatko: Alueellinen allergia- ja astmakoulutus
DESCRIPTION:Tietoa koulutuksesta:\nPaikka\nKainuun keskussairaala\, iso luentosali\, Sot­ka­mon­tie 13\,  Ka­jaa­ni \nKohderyhmä\nPerusterveydenhuollon lääkärit ja sairaanhoitajat\, terveydenhoitajat ja erikoissairaanhoidon lastentautien\,\nkeuhkosairauksien\, ihotautien\, korva-\, nenä- ja kurkkutautien lääkärit ja hoitajat\, työterveyshuollon lääkärit ja hoitajat\,\nravitsemusterapeutit\, apteekkien astmayhdyshenkilöt sekä kaikki asiasta kiinnostuneet terveydenhuollon ammattilaiset \nIlmoittautuminen\nKainuun sosiaali- ja terveydenhuollon kuntayhtymän henkilöstö ilmoittautuu eTyöpöydän koulutuskalenterin kautta\nja muut sähköpostitse: koulutus@kainuu.fi\n7.5.2019 mennessä. \nEtäyhteys\nEtäyhteys on mahdollinen. \nOhjelma\nKajaani 16.5.2019 alueellinen allergia- ja astmakoulutus\, ohjelma tulostettavana pdf-tiedostona \nLisätietoja\nKoulutuspäällikkö Merja Leinonen Kainuun sosiaali- ja terveydenhuollon kuntayhtymä merja.leinonen@kainuu.fi\nja Erja Tommila erja.tommila@filha.fi
URL:https://www.filha.fi/koulutus/allergiaohjelman-jatko-alueellinen-allergia-ja-astmakoulutus-4/
LOCATION:Kainuun keskussairaala\, Sotkamontie 13\, Kajaani\, 87300\, Suomi
END:VEVENT
BEGIN:VEVENT
DTSTART;TZID=Europe/Helsinki:20190516T130000
DTEND;TZID=Europe/Helsinki:20190516T160000
DTSTAMP:20260426T022358
CREATED:20190430T055613Z
LAST-MODIFIED:20190514T115039Z
UID:1230-1558011600-1558022400@www.filha.fi
SUMMARY:Tuberkuloosin uusi tartunnanjäljitysohje – mikä muuttuu?
DESCRIPTION:THL julkaisi vuoden 2017 lopussa päivitetyn tuberkuloosin (TB) tartunnanjäljitysohjeen\, jossa toimintaa keskitetään enemmän lähipiirin tutkimuksiin. Uutena on IGRA-testauksen ja latentin TB infektion (LTBI) hoidon laajentaminen nuoriin aikuisiin. Lisäksi on luotu yhtenäiset seurantalomakkeet valtakunnalliseen käyttöön. STM:n hanketuella järjestetään vuosien 2018–2019 aikana koulutuskierros\, jonka tavoitteena on edesauttaa ohjeen jalkauttamista sairaanhoitopiirien alueelliseen toimintaan.   \nPaikka\nKYS Pääsairaala\, auditorio 1\, \, rak. 1AA\, 2. krs\, Puijonlaaksontie 2\, Kuopio \nKohderyhmä\nPohjois-Savon sairaanhoitopiirin erityisvastuualueen perusterveydenhuollon ja erikoissairaanhoidon tartuntatauti- ja\nTB -vastuulääkärit ja hoitajat\, opiskeluterveydenhuollon ja yksityisten lääkäriasemien lääkärit ja hoitajat \nTavoitteet\nKoulutuksen tavoitteet \n– antaa tietoa tartunnanjäljitysohjeen sisällöstä ja uusista toiminnoista\n– kertoa tartunnanjäljitystoimintaan liittyvän latentin TB infektion toteamisesta ja hoidosta\n– kerrata uudistetun tartuntatautilain pääkohdat tuberkuloosityöhön liittyen\n– edistää paikallistoimijoiden verkostoitumista ja kokemusten vaihtoa tartunnanjäljitykseen liittyen. \nJärjestäjä\nKYS\, Koulutus- ja kehittämispalvelut yhteistyössä Filhan kanssa \nPuheenjohtaja\napulaisylilääkäri Riitta-Liisa Patovirta\, KYS \nOhjelma\nTulostettava ohjelma pdf-tiedostona  \n\n\n\n 13.00–13.10\nAvaus\n– apulaisylilääkäri Riitta-Liisa Patovirta\, KYS\n\n\n13.10–13.40\nTartuntatautilain pykäliä tuberkuloosin näkökulmasta\n– johtava asiantuntija Hanna Soini\, THL\n\n\n13.40–14.20\nTartunnanjäljitystä hallitusti\n– keuhkolääkäri Iiris Rajalahti\, Filha ry\n\n\n14.20–14.50\nIltapäiväkahvi (maksuton)\n\n\n14.50–15.30\nAltistuneiden LTBI:n tutkimukset ja hoito\n– infektiolääkäri Harri Marttila\, TYKS\n\n\n15.30–15.50\nKokemuksia tartunnanjäljityksestä alueellamme\n– tartuntataudeista vastaava lääkäri Raija Savolainen\, Kuopion kaupunki\n– tartuntatautihoitaja\n\n\n15.50–16.00\nLoppukeskustelua\n\n\n\nKustannukset\nTilaisuus on osallistujille maksuton. Tervetuloa! \nViestiseinä\nTilaisuudessa on käytössä viestiseinä\, johon on mahdollista kirjoittaa kysymyksiä/kommentteja paikan päällä ja etänä.\nPäivän kuluessa seurataan viestiseinää ja huomioidaan siellä esitettyjä sopivissa kohdissa. Viestiseinän linkki\nlähetetään tervetuloviestin yhteydessä ilmoittautumisajan päättymisen jälkeen. \nEtäyhteys\nKoulutus on seurattavissa yksisuuntaisella etäyhteydellä. Ilmoittaudu etäyhteyteen viimeistään 2.5.2019 osoitteessa: \nmy.surveypal.com/Ilmoittautuminen-etayhteyteen—Tuberkuloosin-uusi-tartunnanjaljitysohje—-16.5.2019\nHuom.! Jos yllä oleva linkki ei aukea\, kokeile avata se käyttäen toista selainta\, esim. Mozilla Firefox. \nOsallistumiseen tarvittava etäyhteyslinkki ja ohjeet lähetetään ilmoittautujan sähköpostiin noin viikkoa ennen tilaisuutta. \nEtäyhteys on kaikille maksuton. \nPysäköinti\nPysäköintitalossa (maksullinen) on paikkoja rajoitetusti. Pyydämme käyttämään julkisia kulkuneuvoja. \nIlmoittautuminen viimeistään 9.5.2019\nKysiläiset ja kysteriläiset: HR-työpöytä – Koulutus ja osaaminen – Koulutuskalenteri\nmuut: koulutuskalenterin kautta osoitteessa  koulutuskalenteri.psshp.fi \nEnsimmäisellä kerralla sinun tulee rekisteröityä koulutuskalenterin käyttäjäksi\, jonka jälkeen voit käyttää kalenteria luomillasi tunnuksilla. \nLisätietoja\nSisältö: apulaisylilääkäri Riitta-Liisa Patovirta puh. 044 717 5713 \nKäytännön järjestelyt: koulutusasiantuntija Eeva-Maria Ruuskanen puh. 044 717 2106
URL:https://www.filha.fi/koulutus/tuberkuloosin-uusi-tartunnanjaljitysohje-mika-muuttuu-2/
LOCATION:KYS\, Puijonlaaksontie 2\, Kuopio\, 70210\, Suomi
END:VEVENT
BEGIN:VEVENT
DTSTART;VALUE=DATE:20190522
DTEND;VALUE=DATE:20190524
DTSTAMP:20260426T022358
CREATED:20190507T084854Z
LAST-MODIFIED:20190514T115254Z
UID:1542-1558483200-1558655999@www.filha.fi
SUMMARY:Vertaisohjaajakoulutus
DESCRIPTION:Tietoa koulutuksesta:\nPaikka\nKalasataman kummeli\, Kokoustila Harppi\, Sörnäisten rantatie 29\, Helsinki \nKouluttajat\nFilha ry: Patrick Sandström\, Miska Reinikainen ja Katja Riikonen \nVertaisohjaajakoulutus antaa valmiudet toimia tupakoinnin lopettamiseen tähtäävien ryhmien ohjaajina ja vertaistukijana esimerkiksi vertaisvastaanotolla.\nKaksipäiväisen koulutuksen aikana syvennytään muun muassa nikotiiniriippuvuuteen\, eri korvaushoitovaihtoehtoihin sekä elintapojen merkitykseen tupakointia lopetettaessa. \nKustannukset\nKoulutus on maksuton. Hanke kustantaa pitkänmatkalaisten matka- ja majoituskulut. \nOhjelma\nHelsinki 22.-23.5.2019 ohjelma tulostettavana pdf-tiedostona. \nIlmoittautuminen\nIlmoittautuminen 13.5.2019 mennessä: katja.riikonen@filha.fi 044 567 4337 tai miska.reinikainen@filha.fi p. 044 5487 333.
URL:https://www.filha.fi/koulutus/vertaisohjaajakoulutus/
LOCATION:Kalasataman kummeli\, Sörnäisten rantatie 29\, Helsinki\, 00540\, Suomi
END:VEVENT
END:VCALENDAR