BEGIN:VCALENDAR
VERSION:2.0
PRODID:-//Filha - ECPv6.15.20//NONSGML v1.0//EN
CALSCALE:GREGORIAN
METHOD:PUBLISH
X-ORIGINAL-URL:https://www.filha.fi
X-WR-CALDESC:Tapahtumat Filha
REFRESH-INTERVAL;VALUE=DURATION:PT1H
X-Robots-Tag:noindex
X-PUBLISHED-TTL:PT1H
BEGIN:VTIMEZONE
TZID:Europe/Helsinki
BEGIN:DAYLIGHT
TZOFFSETFROM:+0200
TZOFFSETTO:+0300
TZNAME:EEST
DTSTART:20180325T010000
END:DAYLIGHT
BEGIN:STANDARD
TZOFFSETFROM:+0300
TZOFFSETTO:+0200
TZNAME:EET
DTSTART:20181028T010000
END:STANDARD
BEGIN:DAYLIGHT
TZOFFSETFROM:+0200
TZOFFSETTO:+0300
TZNAME:EEST
DTSTART:20190331T010000
END:DAYLIGHT
BEGIN:STANDARD
TZOFFSETFROM:+0300
TZOFFSETTO:+0200
TZNAME:EET
DTSTART:20191027T010000
END:STANDARD
BEGIN:DAYLIGHT
TZOFFSETFROM:+0200
TZOFFSETTO:+0300
TZNAME:EEST
DTSTART:20200329T010000
END:DAYLIGHT
BEGIN:STANDARD
TZOFFSETFROM:+0300
TZOFFSETTO:+0200
TZNAME:EET
DTSTART:20201025T010000
END:STANDARD
END:VTIMEZONE
BEGIN:VEVENT
DTSTART;TZID=Europe/Helsinki:20191002T090000
DTEND;TZID=Europe/Helsinki:20191002T151000
DTSTAMP:20260425T180642
CREATED:20190618T102959Z
LAST-MODIFIED:20190827T065816Z
UID:2283-1570006800-1570029000@www.filha.fi
SUMMARY:Alueellinen allergia- ja astmakoulutus
DESCRIPTION:Paikka\nPäijät-Hämeen keskussairaala \nKohderyhmä\nPerusterveydenhuollon lääkärit ja sairaanhoitajat\, terveydenhoitajat ja erikoissairaanhoidon lastentautien\, keuhkosairauksien lääkärit ja hoitajat\, työterveyshuollon lääkärit ja hoitajat\, ravitsemusterapeutit\, apteekkien astmayhdyshenkilöt sekä kaikki asiasta kiinnostuneet terveydenhuollon ammattilaiset. \nIlmoittautuminen\nIlmoittautuminen 26.9.2019 osoitteessa:\nwww.lyyti.in/aaklahti2019 \nOhjelma\nTutustu ohjelmaan tästä linkistä. \nHinta\nKoulutus on maksuton. \nTiedustelut\nErja Tommila\nerja.tommila@filha.fi
URL:https://www.filha.fi/koulutus/alueellinen-allergia-ja-astmakoulutus-2/
LOCATION:Päijät-Hämeen keskussairaala\, Keskussairaalankatu 7\, Lahti\, 15850\, Suomi
END:VEVENT
BEGIN:VEVENT
DTSTART;VALUE=DATE:20191009
DTEND;VALUE=DATE:20191010
DTSTAMP:20260425T180642
CREATED:20190514T104008Z
LAST-MODIFIED:20190924T081641Z
UID:1880-1570579200-1570665599@www.filha.fi
SUMMARY:Spirometrian tulkinta
DESCRIPTION:Keuhkokeskiviikko spirometriasta ja keuhkojen radiologiaa\nAika\nkeskiviikko 9.10.2019 klo 13 – 16.00 \nPaikka\nTurun kaupunginsairaalan luentosali\, rakennus 1\, ovi A \nKohderyhmä\nTurun\, Kaarinan\, Härkätien ja Paraisten terveyskeskuslääkärit\, erikoistuvat\nlääkärit\, muut lääkärit\, jotka tarvitsevat tietoa spirometriasta ja keuhkojen\nradiologiasta sekä alan hoitajat. \nOhjelma\nKeuhkokeskiviikko 9.10. 2019 \nIlmoittautuminen\nIlmoittautuminen 7.10. mennessä\, sähköpostiin ulla.vetelasuo@filha.fi tai puh. 040 575 3050.\nLisätietoja koulutuksesta antaa Ulla Veteläsuo\, Filha ry\, puh. 040 575 3050 tai ulla.vetelasuo@filha.fi.
URL:https://www.filha.fi/koulutus/spirometrian-tulkinta/
LOCATION:Turku\, Turku\, Suomi
END:VEVENT
BEGIN:VEVENT
DTSTART;VALUE=DATE:20191009
DTEND;VALUE=DATE:20191011
DTSTAMP:20260425T180642
CREATED:20190618T115609Z
LAST-MODIFIED:20190807T080024Z
UID:2317-1570579200-1570751999@www.filha.fi
SUMMARY:Vertaisohjaajakoulutus
DESCRIPTION:Vertaisohjaajakoulutus antaa maallikolle valmiudet toimia tupakoinnin lopettamiseen tähtäävien ryhmien ohjaajina ja vertaistukijana esimerkiksi vertaisvastaanotolla. \nKaksipäiväisen koulutuksen aikana syvennytään muun muassa nikotiiniriippuvuuteen\, tupakoinnin lopettamisen keinoihin sekä elintapojen merkitykseen tupakoinnin lopettamisessa. \nKoulutus on maksuton. Koulutukseen sisältyy lounas ja kahvit. \nKouvolan vertaisohjaajakoulutuksen ohjelma \nLisätiedot ja ilmoittautuminen 1.10.2019 mennessä:  \nkatja.riikonen(at)filha.fi\, p. 044 567 4337\nmiska.reinikainen(at)filha.fi\, p. 044 548 7333.
URL:https://www.filha.fi/koulutus/vertaisohjaajakoulutus-4/
LOCATION:Kouvola\, Kouvola
END:VEVENT
BEGIN:VEVENT
DTSTART;VALUE=DATE:20191011
DTEND;VALUE=DATE:20191012
DTSTAMP:20260425T180642
CREATED:20190430T055613Z
LAST-MODIFIED:20191007T121528Z
UID:1224-1570752000-1570838399@www.filha.fi
SUMMARY:Valtakunnallinen keuhkosyöpäpäivä lääkäreille
DESCRIPTION:Mitä uutta keuhkosyövän hoidosta ja diagnostiikasta?\nValtakunnallinen keuhkosyöpäpäivä järjestetään ensimmäistä kertaa. Koulutuspäivän aikana tarjotaan uusinta tietoa keuhkosyövästä\, perehdytään uusimpiin tekniikoihin\, tutkimuksiin ja hoitoihin. \nTilaisuus on tarkoitettu keuhkosyövän tutkimukseen\, diagnostiikkaan ja hoitoon osallistuville lääkäreille (keuhkolääkärit\, onkologit\, patologit\, radiologit\, thoraxkirurgit\, yleislääkärit) sekä alan tutkijoille. \nHuomiothan myös keuhkosyöpäpäivää edeltävän satelliittisymposiumin\, joka järjestetään samassa paikassa to 10.10.2019. Ohjelma\, ilmoittautumislinkki ja muuta lisätietoa löytyy erillisestä kutsusta alempana näiltä sivuilta. \nPaikka\nScandic Simonkenttä\, Simonkatu 9 Helsinki\, Ateljee 1-3 \nSijainti \nOhjelma\nTutustu alustavaan ohjelmaan. Keuhkosyöpäpäivän 11.10.2019 ohjelma (pdf päivitetty 4.10.2019)  \nOsallistumismaksu\n\nKoulutuksen hinta sisältäen tarjoilut on 100 €. \nIlmoittautuminen\nIlmoittaudu koulutukseen pe 4.10. 2019 mennessä tästä linkistä.\n \nPeruutusehdot\nViimeisen ilmoittautumispäivän jälkeen tehdystä peruutuksesta laskutamme 50 % osallistumismaksusta. Mikäli osallistuja jää saapumatta tilaisuuteen ilman peruutusilmoitusta\, veloitamme koko maksun. \nPosteri / Abstrakti (palautusaikaa on jatkettu 20.9. asti)\n\nKirjallinen abstrakti lähetetään pe 20.9.2019 mennessä sähköpostitse osoitteeseen paivi.pyykkola(at)filha.fi.\nAbstraktit arvioi prof. Riitta Kaarteenaho ja prof. Tuula Vasankari. \nAbstraktin enimmäispituus on 2500 merkkiä välilyönteineen (Arial\, fontti 11\, rv 1.0).\nAbstraktin alkuun tulee tekijä(t)\, organisaatio(t) sekä esittelijän yhteystiedot. Muuten noudatetaan rakennetta tausta\, materiaalit ja menetelmät\, tulokset ja johtopäätökset. \nHyväksymispäätökset ja esitysmuoto ilmoitetaan pe 27.9.2019 mennessä abstraktin lähettäneille.\nAbstraktin esitysmuoto on joko suullinen esitys tai posteri. \nOhjeistus suulliseen esitykseen valituille\nSuullisen esityksen pituus on 10 + 5 minuuttia siten\, että esityksen pituus on 10 min ja keskustelulle varataan aikaa 5 min. Esitys tehdään joko .pptx tai .ppt -formaatilla. Se lähetetään 3.10.2019 mennessä sähköpostitse osoitteeseen paivi.pyykkola(at)filha.fi. \nOhjeistus posteriesitykseen valituille\nPosterit voivat olla myös aiemmin esillä olleita. \nPosteritelineen korkeus on 220 cm. Huopakankainen kiinnityspinta on 98 x 118 cm. \nPosterit ovat esillä koko päivän ajan luentotilan yhteydessä. Tekijät huolehtivat itse posterinsa kiinnityksestä heti saavuttuaan ja ottavat alas tilaisuuden päätyttyä. Järjestäjät varaavat paikalle kiinnitystarvikkeita. Posterin tekijöitä pyydetään olemaan paikalla taukojen aikana. \nNäyttely\nTapahtuman yhteydessä järjestetään myös näyttely. Näyttelystä lisätietoa tästä linkistä. \nSatelliittisymposium MSD torstaina 10.10.2019 klo 16 alkaen\nAjankohtaista keuhkosyövästä – Murros keuhkosyövän diagnostiikassa ja hoidossa\nOhjelma ja ilmoittautuminen Kutsu satelliittisymposiumiin 2019 \nMatkat\nJos osallistut 10.10 symposiumiin\, katso matkustamiseen liittyvät ohjeet MSD:n kutsusta. \nMajoittuminen\nJos osallistut MSD:n symposiumiin 10.10.\, niin katso ohjeet majoituksesta edellä olevasta kutsulinkistä. \nJos osallistut vain 11.10. keuhkosyöpäpäivään ja tarvitset majoitusta\, niin Hotelli Scandic Simonkentästä on varattu huonekiintiö 10.-11.10.2019. Saat alennusta Scandic Simonkentän päivän hinnasta oheista linkkiä käyttämällä: http://www.scandichotels.fi/?bookingcode=FIARB. Varauskoodi on FIARB. \nVaraukset tulee tehdä viimeistään 14 vuorokautta ennen saapumista ja majoitusvarauksen voi perua klo 18.00. mennessä tulopäivänä.\nHuoneita voi varata tarjotulla koodilla hotellin varaustilanteen mukaan\, hotellilla on oikeus yksipuolisesti sulkea tarjoushinnan saatavuus.
URL:https://www.filha.fi/koulutus/valtakunnallinen-keuhkosyopapaiva/
LOCATION:Scandic Simonkenttä\, Simonkatu 9\, Helsinki\, 00100\, Suomi
END:VEVENT
BEGIN:VEVENT
DTSTART;TZID=Europe/Helsinki:20191016T090000
DTEND;TZID=Europe/Helsinki:20191016T160000
DTSTAMP:20260425T180642
CREATED:20190618T084620Z
LAST-MODIFIED:20191008T100927Z
UID:2274-1571216400-1571241600@www.filha.fi
SUMMARY:Alueellinen allergia-\, astma- ja sisäilmakoulutus
DESCRIPTION:Paikka\nOYS\, B2 sisäänkäynti\, luentosali 3 \nKohderyhmät\nPerusterveydenhuollon lääkärit ja sairaanhoitajat\, terveydenhoitajat ja erikoissairaanhoidon lastentautien\, keuhkosairauksien lääkärit ja hoitajat\, työterveyshuollon lääkärit ja hoitajat\, ravitsemusterapeutit\, apteekkien astmayhdyshenkilöt sekä kaikki asiasta kiinnostuneet terveydenhuollon ammattilaiset. \nIlmoittautuminen\nIlmoittautuminen to 10.10.2019 mennessä osoitteessa\nwww.lyyti.in/aasoulu2019 \nOhjelma\nKatso ohjelma tästä linkistä. \nHinta\nKoulutus on maksuton
URL:https://www.filha.fi/koulutus/alueellinen-allergia-astma-ja-sisailmakoulutus/
LOCATION:Oulun yliopistollinen sairaala\, Kajaanintie 50\, Oulu\, 90220\, Suomi
END:VEVENT
BEGIN:VEVENT
DTSTART;VALUE=DATE:20191017
DTEND;VALUE=DATE:20191018
DTSTAMP:20260425T180642
CREATED:20190430T050421Z
LAST-MODIFIED:20191001T155814Z
UID:1147-1571270400-1571356799@www.filha.fi
SUMMARY:Koulutuspäivä erikoistuville keuhkolääkäreille tuberkuloosista
DESCRIPTION:Tietoa koulutuksesta:\n\nPaikka\nTHL\, Sali 3\, Mannerheimintie 166\, Helsinki \nKohderyhmä\nErikoistuvat keuhkolääkärit ja tuoreesti erikoistuneet keuhkolääkärit valtakunnallisesti \nTavoite\nPäivittää tiedot tuberkuloosin diagnostiikasta ja hoidosta; mitä keuhkolääkärin pitää tietää tuberkuloosista? \nJärjestäjät\nFilha ry \nOhjelma (päivitetty 1.10.2019)\nKoulutuspäivä tuberkuloosista erikoistuville keuhkolääkäreille 2019 ohjelma \n\n\n\n09.00–10.00\nIlmoittautuminen ja aamukahvi\n\n\n\n10.00–10.10\nTervetuloa\n\n\n\n10.10–10.30\nTuberkuloosin epidemiologiaa ja taudinkuva\nTuula Vasankari\, professori\, keuhkosairauksien erikoislääkäri\, Filha ry/ Turun yliopisto\n\n\n10.30–11.30\nSuojautuminen ja hupputestaus\n\n\n\n11.30–12.00\nTuberkuloositaudin ja latentin tuberkuloosi-infektion diagnostiikka\nTuula Vasankari\n\n\n12.00–13.00\nLounas\n\n\n\n13.00–13.15\nAsiantuntijan kommenttipuheenvuoro\n\n\n\n13.15–14.15\nTuberkuloosin hoito\nIiris Rajalahti\, LT\, keuhkosairauksien ja allergologian erikoislääkäri\, Tays keuhkoklinikka\n\n\n14.15–14.45\nMonilääkeresistentin tuberkuloosin lääkehoito ja seuranta\nTuula Vasankari\n\n\n14.45–15.05\nTukimateriaalia sairasruneen ja altistuneen ohjaukseen \nTartuntatauti-ilmoitus\nSirkku Grierson\, TtM\, projektipäällikkö\, Filha ry \nTeemu Möttönen\, erikoissuunnittelija\, THL\n\n\n15.05–15.25\nKahvi\n\n\n\n15.25–15.45\nTuberkuloosin tartunnanjäljitys\nHanna Soini\, dosentti\, johtava asiantuntija\, THL\n\n\n15.45–16.00\nYhteenveto\nTuula Vasankari\n\n\n\nKustannukset\nOsallistumismaksu on 90\,00 euroa. Maksu sisältää koulutuksen lisäksi ohjelmassa mainitut tarjoilut. Ilmoittautumisen yhteydessä muodostuu lasku. \nMajoitus\nOsallistujia varten on varattu majoituskiintiö 25 henkilölle Scandic Meilahti\, Tukholmankatu 2\, 00250 Helsinki \nVaraus tehdään suoraan hotelliin\, varausta tehdessänne mainitkaa kiintiötunnus: Varauskoodi on FIARB.\nKiintiö alennuksen saat Scandic Meilahdessa oheista linkkiä käyttämällä: www.scandichotels.fi/?bookingcode=FIARB \nVaraukset tulee tehdä viimeistään 14 vuorokautta ennen saapumista ja majoitusvarauksen voi perua klo 18.00. mennessä tulopäivänä. Huoneita voi varata tarjotulla koodilla hotellin varaustilanteen mukaan\, hotellilla on oikeus yksipuolisesti sulkea tarjoushinnan saatavuus. Teethän varauksen 2.10.2019 mennessä. \nTodistus\nOsallistumisesta annetaan todistus. \nIlmoittautuminen\nIlmoittautuminen viimeistään 30.9.2019 mennessä sähköisesti tämän linkin kautta. \nTiedustelut\nSisältö: Professori\, pääsihteeri Tuula Vasankari tuula.vasankari@filha.fi \nJärjestelyt: koulutuspäällikkö Päivi Pyykkölä paivi.pyykkola@filha.fi\,\npuh 0405356379
URL:https://www.filha.fi/koulutus/koulutuspaiva-erikoistuville-keuhkolaakareille-tuberkuloosista/
LOCATION:THL\, Mannerheimintie 166\, Helsinki\, 00300\, Suomi
END:VEVENT
BEGIN:VEVENT
DTSTART;TZID=Europe/Helsinki:20191023T110000
DTEND;TZID=Europe/Helsinki:20191023T153000
DTSTAMP:20260425T180642
CREATED:20190514T104144Z
LAST-MODIFIED:20190625T113641Z
UID:1885-1571828400-1571844600@www.filha.fi
SUMMARY:Keuhkoahtaumatautia sairastavan omahoidon ohjauksen sisällöt
DESCRIPTION:Paikka\nTYKS\, T-sairaala\, Johan Haartman sali\, Hämeentie 11\, Turku \nKohderyhmä\nTYKS – erityisvastuualueella työskentelevät hoitajat\, lääkärit\, fysioterapeutit ja apteekkien henkilökunta\, jotka työssään kohtaavat keuhkoahtaumatautia sairastavia. \nKoulutuksen tavoitteet\n\nosallistujat tuntevat suositukset pääpiirteittäin\nymmärtävät\, miksi ohjaussuositus on laadittu ja miten keuhko-ahtaumatautia sairastavan ohjausta voidaan yhtenäistää hoito-suosituksen avulla\nkiinnostuvat kehittämään oman yksikkönsä ohjausta näyttöön perustuvaksi\n\nOhjelma\nTutustu ohjelmaan tästä (pdf). Keuhkoahtaumatauti omahoidon ohjaus TYKS 231019 ohjelma \nJärjestäjät\nVSSHP ja Filha ry \nIlmoittautuminen\n15.10.2019 mennessä alla olevan linkin kautta\nIlmoittautuminen tästä
URL:https://www.filha.fi/koulutus/keuhkoahtaumatautia-sairastavan-omahoidon-ohjauksen-sisallot-4/
LOCATION:TYKS T-sairaala\, Hämeentie 11\, Turku\, 20521\, Suomi
END:VEVENT
BEGIN:VEVENT
DTSTART;VALUE=DATE:20191024
DTEND;VALUE=DATE:20191025
DTSTAMP:20260425T180642
CREATED:20190828T073706Z
LAST-MODIFIED:20190828T074717Z
UID:2583-1571875200-1571961599@www.filha.fi
SUMMARY:Allergiaohjelman jatkokoulutus
DESCRIPTION:Paikka:\nPohjois-Karjalan keskussairaala\, A-talo (päätalo)\, Tikkasali -auditorio\, Joensuu \nKohderyhmät:\nPerusterveydenhuollon lääkärit ja sairaanhoitajat\, terveydenhoitajat ja lastentautien\, keuhkosairauksien\, ihotautien\, korva-\, nenä- ja kurkkutautien lääkärit ja hoitajat\, työterveyshuollon lääkärit ja hoitajat\, ravitsemusterapeutit\, apteekkien astmayhdyshenkilöt sekä kaikki asiasta kiinnostuneet terveydenhuollon ammattilaiset. \nKoulutus on maksuton. \nOhjelma:\nTutustu ohjelmaan tästä linkistä. \nIlmoittautuminen:\nSiun soten henkilöstö: Siun soten intra > koulutus > Onni -koulutuskalenteri \nPeruminen: Siun soten koulutuskalenteri > Omat ilmoittautumiset \nPohjois-Karjalan Pelastuslaitoksen\, Tohmajärven ja Rääkkylän Attendon\, Polkka Oy:n\, Siun Talouden sekä Siun työterveys Oy:n henkilöstö ilmoittautuvat Onni-koulutuskalenteriin linkistä: \nhttp://koulutus.pkssk.fi:8080/?mode=2 \nYksityiset palveluntarjoajat\, valtion viranhaltijat: Siun soten nettisivut www.siunsote.fi > Ammattilaiset > Täydennyskoulutus > Onni-koulutuskalenteri \nPeruminen: koulutus@siunsote.fi \nLisätietoja\nSisältö: erja.tommila@filha.fi \nIlmoittautuminen: koulutus@siunsote.fi
URL:https://www.filha.fi/koulutus/allergiaohjelman-jatkokoulutus/
LOCATION:Pohjois-Karjalan keskussairaala\, Tikkamäentie 16\, Joensuu\, 80210\, Suomi
END:VEVENT
BEGIN:VEVENT
DTSTART;VALUE=DATE:20191030
DTEND;VALUE=DATE:20191101
DTSTAMP:20260425T180642
CREATED:20190618T115039Z
LAST-MODIFIED:20191015T072531Z
UID:2308-1572393600-1572566399@www.filha.fi
SUMMARY:Vertaisohjaajakoulutus
DESCRIPTION:Vertaisohjaajakoulutus antaa valmiudet toimia tupakoinnin lopettamiseen tähtäävien ryhmien ohjaajina ja vertaistukijana esimerkiksi vertaisvastaanotolla. Kaksipäiväisen koulutuksen aikana syvennytään muun muassa nikotiiniriippuvuuteen\, tupakoinnin lopettamisen keinoihin sekä elintapojen merkitykseen tupakoinnin lopettamisessa. \nKoulutus on maksuton. Koulutukseen sisältyy lounas ja kahvit. \nJoensuun vertaisohjaajakoulutuksen ohjelma \nLisätiedot ja ilmoittautuminen 22.10.2019 mennessä: \nkatja.riikonen(at)filha.fi\, p. 044 567 4337\nmiska.reinikainen(at)filha.fi\, p. 044 548 7333
URL:https://www.filha.fi/koulutus/vertaisohjaajakoulutus-3/
LOCATION:Joensuu\, Joensuu
END:VEVENT
END:VCALENDAR