BEGIN:VCALENDAR
VERSION:2.0
PRODID:-//Filha - ECPv6.15.20//NONSGML v1.0//EN
CALSCALE:GREGORIAN
METHOD:PUBLISH
X-ORIGINAL-URL:https://www.filha.fi
X-WR-CALDESC:Tapahtumat Filha
REFRESH-INTERVAL;VALUE=DURATION:PT1H
X-Robots-Tag:noindex
X-PUBLISHED-TTL:PT1H
BEGIN:VTIMEZONE
TZID:Europe/Helsinki
BEGIN:DAYLIGHT
TZOFFSETFROM:+0200
TZOFFSETTO:+0300
TZNAME:EEST
DTSTART:20190331T010000
END:DAYLIGHT
BEGIN:STANDARD
TZOFFSETFROM:+0300
TZOFFSETTO:+0200
TZNAME:EET
DTSTART:20191027T010000
END:STANDARD
BEGIN:DAYLIGHT
TZOFFSETFROM:+0200
TZOFFSETTO:+0300
TZNAME:EEST
DTSTART:20200329T010000
END:DAYLIGHT
BEGIN:STANDARD
TZOFFSETFROM:+0300
TZOFFSETTO:+0200
TZNAME:EET
DTSTART:20201025T010000
END:STANDARD
BEGIN:DAYLIGHT
TZOFFSETFROM:+0200
TZOFFSETTO:+0300
TZNAME:EEST
DTSTART:20210328T010000
END:DAYLIGHT
BEGIN:STANDARD
TZOFFSETFROM:+0300
TZOFFSETTO:+0200
TZNAME:EET
DTSTART:20211031T010000
END:STANDARD
END:VTIMEZONE
BEGIN:VEVENT
DTSTART;VALUE=DATE:20200507
DTEND;VALUE=DATE:20200508
DTSTAMP:20260425T065452
CREATED:20200129T103553Z
LAST-MODIFIED:20200316T132614Z
UID:3699-1588809600-1588895999@www.filha.fi
SUMMARY:Alueellinen astma- ja allergiakoulutus PERUTAAN
DESCRIPTION:Paikka\nHUS/Porvoo\, auditorio \nKohderyhmät\nPerusterveydenhuollon lääkärit ja hoitajat\, terveydenhoitajat ja lastentautien\, keuhkosairauksien\, ihotautien\, korva-\, nenä- ja kurkkutautien lääkärit ja hoitajat\, työterveyshuollon lääkärit ja hoitajat\, ravitsemusterapeutit\, apteekkien astmayhdyshenkilöt sekä kaikki asiasta kiinnostuneet terveydenhuollon ammattilaiset. \nKoulutus on maksuton. \nOhjelma\nTutustu ohjelmaan (pdf\, päivitetty 25.2.2020) Porvoo_astma_allergiakoulutus \nIlmoittautuminen\nIlmoittautuminen koulutukseen Lyyti-järjestelmän kautta tästä linkistä.
URL:https://www.filha.fi/koulutus/alueellinen-astma-ja-allergiakoulutus-porvoo/
LOCATION:Porvoo\, Porvoo
END:VEVENT
BEGIN:VEVENT
DTSTART;VALUE=DATE:20200512
DTEND;VALUE=DATE:20200513
DTSTAMP:20260425T065452
CREATED:20200115T152051Z
LAST-MODIFIED:20200316T132542Z
UID:3520-1589241600-1589327999@www.filha.fi
SUMMARY:Alueellinen allergia-\, astma- ja sisäilmakoulutus PERUTAAN
DESCRIPTION:Keski-Suomen sairaanhoitopiiri\, Ks. koulutuspaikka alla! \nPaikka\nOriginal Sokos Hotelli Alexandra\, koulutustila Viskaali\, Hannikaisenkatu 35\, Jyväskylä \nKohderyhmät\nPerusterveydenhuollon lääkärit ja hoitajat\, terveydenhoitajat ja lastentautien\, keuhkosairauksien\, ihotautien\, korva-\, nenä- ja kurkkutautien lääkärit ja hoitajat\, työterveyshuollon lääkärit ja hoitajat\, ravitsemusterapeutit\, apteekkien astmayhdyshenkilöt sekä kaikki asiasta kiinnostuneet terveydenhuollon ammattilaiset. \nKoulutus on maksuton. \nOhjelma\nTutustu ohjelmaan (pdf\, päivitetty 5.2.2020) Jyväskylä_koulutus 120520 \nIlmoittautuminen\nIlmoittaudu Lyyti-järjestelmän kautta tästä linkistä.
URL:https://www.filha.fi/koulutus/alueellinen-astma-ja-allergiakoulutus-jyvaskyla/
LOCATION:Jyväskylä\, Jyväskylä
END:VEVENT
BEGIN:VEVENT
DTSTART;VALUE=DATE:20200513
DTEND;VALUE=DATE:20200514
DTSTAMP:20260425T065452
CREATED:20191017T061808Z
LAST-MODIFIED:20200316T155436Z
UID:2956-1589328000-1589414399@www.filha.fi
SUMMARY:XIII Valtakunnallinen Tuberkuloosipäivä PERUTAAN
DESCRIPTION:16.3.2020 Huom! Valtakunnallinen Tuberkuloosipäivä siirtyy koronavirusepidemian vuoksi vuodella eteenpäin. Uutta ajankohtaa haetaan toukokuulle 2021. Olemme ilmoittautuneisiin yhteydessä ja palautamme osallistumismaksun niille\, jotka ovat sen jo maksaneet.\nYhteistyöterveisin Filha\n\n_________________________________________________________________________________ \nValtakunnallinen Tuberkuloosipäivä järjestetään toukokuussa\, nyt jo kolmannentoista kerran. Tervetuloa kuulemaan mikä muuttuu Tuberkuloosiohjelmassa. Tulossa myös paljon muita ajankohtaisia tuberkuloosiin liittyviä aiheita sekä päivän päätteeksi paljon toivottu kyselytunti.\nTapahtumapaikka \nSuomen Kansallismuseo\, Mannerheimintie 34\, 00100 Helsinki \nKohderyhmä\n\ntuberkuloosin ehkäisyyn ja hoitoon osallistuvat lääkärit ja hoitajat erikoissairaanhoidossa ja perusterveydenhuollossa\nsairaaloiden ja terveyskeskusten tartuntataudeista vastaavat lääkärit ja hoitajat\ntyöterveyslääkärit ja -hoitajat\nmaahanmuuttoyksiköiden ja vastaanottokeskusten sosiaali- ja terveydenhuollossa työskentelevät\n\nOhjelma\nOhjelma (pdf 26.2.2020) Tuberkuloosipaivat-2020_ohjelmaA5 \nOsallistumismaksu (alv 0%)\n180 € voimassa 31.3.2020 asti (early bird) \n200 € voimassa 1.4.2020 alkaen \n95 € opiskelijat/eläkeläiset \nOsallistumismaksuun sisältyy ohjelma\, oheismateriaali sekä ohjelmaan merkityt lounas- ja taukotarjoilut. \nIlmoittautuminen\nHuom! Tarkistathan etukäteen\, että laskutustietosi ovat ajantasaiset\, koska lasku muodostuu automaattisesti ilmoittautumisen yhteydessä. Laskutustavat ovat verkkolasku\, jota suosittelemme ensisijaisesti tai PDF-lasku. PDF-lasku lähtee järjestelmästä ilmoittautujan omaan sähköpostiin\, joka tulee itse toimittaa maksajalle. \nIlmoittautuminen sähköisesti Lyyti-järjestelmän kautta tästä linkistä. \nErikoistuville lääkäreille\nKoulutus anotaan Helsingin yliopistolta teoreettiseksi kurssimuotoiseksi koulutukseksi seuraaville lääketieteen erikoisaloille: infektiosairaudet\, keuhkosairaudet ja allergologia\, kliininen farmakologia ja lääkehoito\, kliininen mikrobiologia\, lastentaudit\, patologia\, radiologia\, sisätaudit\, sydän- ja rintaelinkirurgia\, terveydenhuolto\, työterveyshuolto\, yleislääketiede\, kirurgia / runkokoulutus\, sisätaudit / runkokoulutus. \nNäyttely\nTapahtumassa on myös yritysten esittelypöytiä. \nPeruutusehdot\nViimeisen ilmoittautumispäivän jälkeen tehdystä peruutuksesta laskutamme 50 % osallistumismaksusta. Mikäli osallistuja jää saapumatta tilaisuuteen ilman peruutusilmoitusta\, veloitamme koko maksun. \nJärjestäjät\nFilha ry\, STM ja THL
URL:https://www.filha.fi/koulutus/xiii-valtakunnallinen-tuberkuloosipaiva/
LOCATION:Scandic Pasila\, Maistraatinportti 3\, Helsinki\, 00240
END:VEVENT
BEGIN:VEVENT
DTSTART;VALUE=DATE:20200526
DTEND;VALUE=DATE:20200527
DTSTAMP:20260425T065452
CREATED:20191210T101014Z
LAST-MODIFIED:20200316T132419Z
UID:3323-1590451200-1590537599@www.filha.fi
SUMMARY:Satakunnan alueellinen Keuhkopäivä PERUTAAN
DESCRIPTION:Kohderyhmä\nPerusterveydenhuollossa\, erikoissairaanhoidossa ja\ntyöterveyshuollossa työskentelevät lääkärit\, hoitajat\, fysioterapeutit ja kotihoidon henkilökunta sekä apteekkien henkilökunta. \nKoulutus on osallistujille maksuton. \nLisätietoja tulossa myöhemmin.
URL:https://www.filha.fi/koulutus/satakunnan-alueellinen-keuhkopaiva/
LOCATION:Satasairaala\, Sairaalantie 3\, Pori\, 28500
END:VEVENT
END:VCALENDAR