BEGIN:VCALENDAR
VERSION:2.0
PRODID:-//Filha - ECPv6.15.20//NONSGML v1.0//EN
CALSCALE:GREGORIAN
METHOD:PUBLISH
X-WR-CALNAME:Filha
X-ORIGINAL-URL:https://www.filha.fi
X-WR-CALDESC:Tapahtumat Filha
REFRESH-INTERVAL;VALUE=DURATION:PT1H
X-Robots-Tag:noindex
X-PUBLISHED-TTL:PT1H
BEGIN:VTIMEZONE
TZID:Europe/Helsinki
BEGIN:DAYLIGHT
TZOFFSETFROM:+0200
TZOFFSETTO:+0300
TZNAME:EEST
DTSTART:20190331T010000
END:DAYLIGHT
BEGIN:STANDARD
TZOFFSETFROM:+0300
TZOFFSETTO:+0200
TZNAME:EET
DTSTART:20191027T010000
END:STANDARD
BEGIN:DAYLIGHT
TZOFFSETFROM:+0200
TZOFFSETTO:+0300
TZNAME:EEST
DTSTART:20200329T010000
END:DAYLIGHT
BEGIN:STANDARD
TZOFFSETFROM:+0300
TZOFFSETTO:+0200
TZNAME:EET
DTSTART:20201025T010000
END:STANDARD
BEGIN:DAYLIGHT
TZOFFSETFROM:+0200
TZOFFSETTO:+0300
TZNAME:EEST
DTSTART:20210328T010000
END:DAYLIGHT
BEGIN:STANDARD
TZOFFSETFROM:+0300
TZOFFSETTO:+0200
TZNAME:EET
DTSTART:20211031T010000
END:STANDARD
END:VTIMEZONE
BEGIN:VEVENT
DTSTART;VALUE=DATE:20200825
DTEND;VALUE=DATE:20200826
DTSTAMP:20260425T011216
CREATED:20200129T103231Z
LAST-MODIFIED:20200508T093605Z
UID:3693-1598313600-1598399999@www.filha.fi
SUMMARY:Alueellinen astma- ja allergiakoulutus\, PERUTAAN
DESCRIPTION:Kohderyhmät\nPerusterveydenhuollon lääkärit ja hoitajat\, terveydenhoitajat ja lastentautien\, keuhkosairauksien\, ihotautien\, korva-\, nenä- ja kurkkutautien lääkärit ja hoitajat\, työterveyshuollon lääkärit ja hoitajat\, ravitsemusterapeutit\, apteekkien astmayhdyshenkilöt sekä kaikki asiasta kiinnostuneet terveydenhuollon ammattilaiset. \nKoulutus on maksuton. \nLisätietoa tulossa myöhemmin.
URL:https://www.filha.fi/koulutus/alueellinen-astma-ja-allergiakoulutus-maarianhamina/
LOCATION:Maarianhamina\, Maarianhamina
END:VEVENT
END:VCALENDAR