BEGIN:VCALENDAR
VERSION:2.0
PRODID:-//Filha - ECPv6.15.20//NONSGML v1.0//EN
CALSCALE:GREGORIAN
METHOD:PUBLISH
X-ORIGINAL-URL:https://www.filha.fi
X-WR-CALDESC:Tapahtumat Filha
REFRESH-INTERVAL;VALUE=DURATION:PT1H
X-Robots-Tag:noindex
X-PUBLISHED-TTL:PT1H
BEGIN:VTIMEZONE
TZID:Europe/Helsinki
BEGIN:DAYLIGHT
TZOFFSETFROM:+0200
TZOFFSETTO:+0300
TZNAME:EEST
DTSTART:20200329T010000
END:DAYLIGHT
BEGIN:STANDARD
TZOFFSETFROM:+0300
TZOFFSETTO:+0200
TZNAME:EET
DTSTART:20201025T010000
END:STANDARD
BEGIN:DAYLIGHT
TZOFFSETFROM:+0200
TZOFFSETTO:+0300
TZNAME:EEST
DTSTART:20210328T010000
END:DAYLIGHT
BEGIN:STANDARD
TZOFFSETFROM:+0300
TZOFFSETTO:+0200
TZNAME:EET
DTSTART:20211031T010000
END:STANDARD
BEGIN:DAYLIGHT
TZOFFSETFROM:+0200
TZOFFSETTO:+0300
TZNAME:EEST
DTSTART:20220327T010000
END:DAYLIGHT
BEGIN:STANDARD
TZOFFSETFROM:+0300
TZOFFSETTO:+0200
TZNAME:EET
DTSTART:20221030T010000
END:STANDARD
END:VTIMEZONE
BEGIN:VEVENT
DTSTART;TZID=Europe/Helsinki:20210112T130000
DTEND;TZID=Europe/Helsinki:20210112T143000
DTSTAMP:20260424T172158
CREATED:20201114T151134Z
LAST-MODIFIED:20201214T141242Z
UID:6162-1610456400-1610461800@www.filha.fi
SUMMARY:Tietoa keuhkosairauksista -webinaarisarjan osa 2
DESCRIPTION:Tervetuloa kuuntelemaan terveydenhuollon ammattilaisille suunnatun webinaarisarjan toista osiota 12.1.2021 klo 13-14:30. \nOhjelma: \n13:00–13:05   Tervetulosanat \n13:05–13:35   COPD nyt ja tulevaisuudessa\n                          Miia Aro\, LT\, asiantuntijaylilääkäri\, erikoislääkäri keuhkosairaudet ja allergologia\, Filha ry \n13:35–13:40   Yhteistyöyrityksen puheenvuoro \n13:40–13:50   Videokirjaston esittely\n                          Krista Abdulla Hama Salih\, terveyden edistämisen asiantuntija\, projektivastaava\, Filha ry \n13:50–14:25   Keuhkosyövän immuno-onkologiset hoidot\n                          Tuuli Heinikari\, LL\, asiantuntijaylilääkäri\, erikoislääkäri\, keuhkosairaudet ja allergologia\, Filha ry \n14:25–14:30   Keskustelua \nKoulutuksessa esitellään joulukuussa avattua Filhan Videokirjastoa\, terveydenhuollon ammattilaisten uutta koulutusportaalia. \nPääset osallistumaan Teamsissa järjestettävään koulutukseen tämän linkin kautta. \nKoulutus on maksuton\, eikä vaadi ilmoittautumista. \nKolmas webinaari järjestetään 16.2.2021 klo 13-14.30. \nTulosta tästä A4-ohjelmasivu (pdf)\, josta näkyy kaikki kolme ohjelmaa. Tietoa keuhkosairauksista –webinaarisarjan ohjelmat \nWebinaarit tallennetaan ja tallenteita pääsee katsomaan myöhemmin videokirjastossa. \nKoulutusta koskevat tiedustelut:\nKrista Abdulla Hama Salih\nkrista.abdullahamasalih (at) filha.fi
URL:https://www.filha.fi/koulutus/tietoa-keuhkosairauksista-webinaarisarjan-osa-2/
END:VEVENT
END:VCALENDAR