BEGIN:VCALENDAR
VERSION:2.0
PRODID:-//Filha - ECPv6.15.20//NONSGML v1.0//EN
CALSCALE:GREGORIAN
METHOD:PUBLISH
X-ORIGINAL-URL:https://www.filha.fi
X-WR-CALDESC:Tapahtumat Filha
REFRESH-INTERVAL;VALUE=DURATION:PT1H
X-Robots-Tag:noindex
X-PUBLISHED-TTL:PT1H
BEGIN:VTIMEZONE
TZID:Europe/Helsinki
BEGIN:DAYLIGHT
TZOFFSETFROM:+0200
TZOFFSETTO:+0300
TZNAME:EEST
DTSTART:20200329T010000
END:DAYLIGHT
BEGIN:STANDARD
TZOFFSETFROM:+0300
TZOFFSETTO:+0200
TZNAME:EET
DTSTART:20201025T010000
END:STANDARD
BEGIN:DAYLIGHT
TZOFFSETFROM:+0200
TZOFFSETTO:+0300
TZNAME:EEST
DTSTART:20210328T010000
END:DAYLIGHT
BEGIN:STANDARD
TZOFFSETFROM:+0300
TZOFFSETTO:+0200
TZNAME:EET
DTSTART:20211031T010000
END:STANDARD
BEGIN:DAYLIGHT
TZOFFSETFROM:+0200
TZOFFSETTO:+0300
TZNAME:EEST
DTSTART:20220327T010000
END:DAYLIGHT
BEGIN:STANDARD
TZOFFSETFROM:+0300
TZOFFSETTO:+0200
TZNAME:EET
DTSTART:20221030T010000
END:STANDARD
END:VTIMEZONE
BEGIN:VEVENT
DTSTART;TZID=Europe/Helsinki:20210211T130000
DTEND;TZID=Europe/Helsinki:20210211T143000
DTSTAMP:20260424T155212
CREATED:20201130T154729Z
LAST-MODIFIED:20210205T092006Z
UID:6298-1613048400-1613053800@www.filha.fi
SUMMARY:Tietoa tupakka- ja nikotiinivieroituksesta -webinaarisarjan osa 1
DESCRIPTION:Filhan tupakasta vieroituskoulutukset terveydenhuollon ammattilaisille jatkuvat keväällä 2021 kolmen koulutuksen webinaarisarjalla\, jossa käydään läpi perusasiat liittyen tupakoinnin terveyshaittoihin\, tupakka- ja nikotiiniriippuvuuteen\, uusiin nikotiinituotteisiin sekä nikotiiniriippuvuuden hoitoon. Webinaarisarjan huhtikuun koulutuksessa erityisteemana on puheeksiotto\, motovoiva keskustelu sekä verkosta löytyvät apuvälineet vieroitustyön tueksi. Suosittelemme osallistumista koko webinaarisarjaan\, mutta on myös mahdollista ilmoittautua yksittäisin koulutuksiin. Webinaarisarja soveltuu erityisesti uusille tupakastavieroitustyötä tekeville\, mutta myös kertauksena kokeneemmille vieroittajille. \nOsa 1: Terveyshaitat ja riippuvuus\nToteutus \nWebinaari toteutetaan Teams-kokouksena. Koulutuksesta ei tehdä tallennetta\, mutta webinaarisarja uusitaan syksyllä.\nLinkki koulutukseen lähetetään ilmoittautuneille 8.2.2021. \nKohderyhmä \nSosiaali- ja terveydenhuollon ammattilaiset \nOsallistumismaksu \nWebinarin osallistumismaksu on 40 € / yksi webinaari\, 70 € / kaksi webinaaria ja 100 € / kaikki kolme webinaaria \nOhjelma \nLataa koulutuksen ohjelma (pdf). Tupakka webinaari 11.2.2021 \n13.00-13.40 Tupakoinnin ja nikotiinin terveyshaitat; Krista Abdulla Hama Salih\, koulutuksen erityisasiantuntija\, Filha ry \n13.40-14.20 Tupakka- ja nikotiiniriippuvuus sekä uudet nikotiinituotteet? Patrick Sandström\, erityisasiantuntija\, Filha ry \n14.20-14.30 Keskustelu \nIlmoittautuminen \nIlmoittautuminen Lyytin kautta tästä linkistä. \nHuom! Tarkistathan etukäteen\, että laskutustietosi ovat ajantasaiset\, koska lasku muodostuu automaattisesti ilmoittautumisen yhteydessä. Laskutustavat ovat verkkolasku\, jota suosittelemme ensisijaisesti tai PDF-lasku. PDF-lasku lähtee järjestelmästä ilmoittautujan omaan sähköpostiin\, joka tulee itse toimittaa maksajalle \nPeruutusehdot\nViimeinen kuluton peruutuspäivä on viikkoa ennen koulutusta. Tämän jälkeen tulleista peruutuksista tai peruuttamatta jättämisistä veloitetaan täysi osallistumismaksu. Edellä mainittu ei koske sairastapauksia. \nMuut sarjan webinaarit \n25.3. osa 2: Tupakka- ja nikotiiniriippuvuuden hoito \n20.4. osa 3: Kuinka otan puheeksi ja tuen lopettamaan?
URL:https://www.filha.fi/koulutus/tietoa-tupakka-ja-nikotiinivieroituksesta-webinaarisarjan-osa-1/
END:VEVENT
BEGIN:VEVENT
DTSTART;TZID=Europe/Helsinki:20210216T130000
DTEND;TZID=Europe/Helsinki:20210216T143000
DTSTAMP:20260424T155212
CREATED:20201127T063639Z
LAST-MODIFIED:20210122T112331Z
UID:6267-1613480400-1613485800@www.filha.fi
SUMMARY:Tietoa keuhkosairauksista -webinaarisarjan osa 3
DESCRIPTION:Tervetuloa kuuntelemaan terveydenhuollon ammattilaisille suunnatun webinaarisarjan kolmatta osiota 16.2.2021 klo 13-14:30. \nOhjelma: \n13:00–13:05   Tervetulosanat \n13:05–13:35   Uniapnea ja ajoterveys\n                          Miia Aro\, LT\, asiantuntijaylilääkäri\, erikoislääkäri keuhkosairaudet ja allergologia\, Filha ry \n13:35–13:40   Yhteistyöyrityksen puheenvuoro \n13:40–13:50   Videokirjaston esittely\n                          Krista Abdulla Hama Salih\, terveyden edistämisen asiantuntija\, projektivastaava\, Filha ry \n13:50–14:25   Keuhkosyövän mutaatiospesifiset hoidot\n                          Tuuli Heinikari\, LL\, asiantuntijaylilääkäri\, erikoislääkäri\, keuhkosairaudet ja allergologia\, Filha ry \n14:25–14:30   Keskustelua \nKoulutuksessa esitellään Filhan Videokirjastoa\, terveydenhuollon ammattilaisten uutta koulutusportaalia. \nPääset osallistumaan Teamsissa järjestettävään koulutukseen tämän linkin kautta. \nKoulutus on maksuton\, eikä vaadi ilmoittautumista. \nTulosta tästä A4-ohjelmasivu (pdf)\, josta näkyy kaikki kolme ohjelmaa. Tietoa keuhkosairauksista –webinaarisarjan ohjelmat \nWebinaarit tallennetaan ja tallenteita pääsee katsomaan myöhemmin videokirjastossa. \nKoulutusta koskevat tiedustelut:\nKrista Abdulla Hama Salih\nkrista.abdullahamasalih (at) filha.fi
URL:https://www.filha.fi/koulutus/tietoa-keuhkosairauksista-webinaarisarjan-osa-3/
END:VEVENT
END:VCALENDAR