BEGIN:VCALENDAR
VERSION:2.0
PRODID:-//Filha - ECPv6.15.20//NONSGML v1.0//EN
CALSCALE:GREGORIAN
METHOD:PUBLISH
X-ORIGINAL-URL:https://www.filha.fi
X-WR-CALDESC:Tapahtumat Filha
REFRESH-INTERVAL;VALUE=DURATION:PT1H
X-Robots-Tag:noindex
X-PUBLISHED-TTL:PT1H
BEGIN:VTIMEZONE
TZID:Europe/Helsinki
BEGIN:DAYLIGHT
TZOFFSETFROM:+0200
TZOFFSETTO:+0300
TZNAME:EEST
DTSTART:20200329T010000
END:DAYLIGHT
BEGIN:STANDARD
TZOFFSETFROM:+0300
TZOFFSETTO:+0200
TZNAME:EET
DTSTART:20201025T010000
END:STANDARD
BEGIN:DAYLIGHT
TZOFFSETFROM:+0200
TZOFFSETTO:+0300
TZNAME:EEST
DTSTART:20210328T010000
END:DAYLIGHT
BEGIN:STANDARD
TZOFFSETFROM:+0300
TZOFFSETTO:+0200
TZNAME:EET
DTSTART:20211031T010000
END:STANDARD
BEGIN:DAYLIGHT
TZOFFSETFROM:+0200
TZOFFSETTO:+0300
TZNAME:EEST
DTSTART:20220327T010000
END:DAYLIGHT
BEGIN:STANDARD
TZOFFSETFROM:+0300
TZOFFSETTO:+0200
TZNAME:EET
DTSTART:20221030T010000
END:STANDARD
END:VTIMEZONE
BEGIN:VEVENT
DTSTART;TZID=Europe/Helsinki:20210505T083000
DTEND;TZID=Europe/Helsinki:20210505T150000
DTSTAMP:20260424T112319
CREATED:20201124T130126Z
LAST-MODIFIED:20210504T100313Z
UID:6247-1620203400-1620226800@www.filha.fi
SUMMARY:Valtakunnalliset keuhko- ja allergiapäivät\, verkkokoulutus
DESCRIPTION:Perinteikkäät Valtakunnalliset astma- ja allergiapäivät sekä Valtakunnalliset keuhkopäivät järjestetään nyt poikkeusoloista johtuen yhdistettynä koulutuksena virtuaalisesti. Koulutuksessa käsitellään eri keuhkosairauksien teemoja sekä allergiaa monipuolisesti. Ohjelmassa on niin lapsuusikään kuin elämän loppuvaiheen hyvään hoitoon liittyviä asioita moniammatillisesta näkökulmasta.\nTervetuloa terveydenhuollon ammattilaisten täydennyskoulutukseen. Tutustu ohjelmaan ja ilmoittaudu tiistaina 4.5. mennessä.\n\n\n\nToteutus \nWebinaari toteutetaan Teams-kokouksena. Linkki ilmoittautuneille lähetetään sähköpostitse ti 4.5.2021 klo 9 mennessä. Tämän jälkeen ilmoittauneille erikseen. Jos linkkiä ei kuulu\, ota yhteyttä paivi.pyykkola(at)filha.fi tai p. 0405356379/Päivi Pyykkölä. Tarkistathan sitä ennen myös sähköpostisi roskapostikansion\, kiitos. \nKohderyhmä \n\nLääkärit\, hoitajat ja fysioterapeutit\nErikoistuvat lääkärit\nApteekkien henkilökunta\nKuntoutusohjaajat\nHoitotyön opettajat\nOpiskelijat\n\nErikoistumispisteet \nKoulutus on hyväksytty Helsingin yliopistolta teoreettiseksi kurssimuotoiseksi koulutukseksi näille lääketieteen erikoisaloille: ihotaudit (3 h)\, yleislääketiede (6 h) työterveyshuolto (6 h) ja keuhkosairaudet ja allergia (6 h). Todistuspyynnöt paivi.pyykkola(at)filha.fi. \nOsallistumismaksu \n\n100 € osallistujat koko päivä\n50 € osallistujat puoli päivää\n10 € opiskelijat\n250 € yritysten edustajat\n\nOhjelma \nTutustu ohjelmaan (pdf 26.4.2021). \nValtakunnalliset keuhko- ja allergiapäivät 2021 ohjelma_ilman kuvaa \nValtakunnalliset keuhko- ja allergiapäivät 2021 ohjelma_kuvalla \nIlmoittautuminen \nIlmoittautumisaikaa on jatkettu. Ilmoittauduttu viimeistään 4.5.2021. Ilmoittaudu tästä linkistä. \nHuom! Tarkistathan etukäteen\, että laskutustietosi ovat ajantasaiset\, koska lasku muodostuu automaattisesti ilmoittautumisen yhteydessä. Laskutustavat ovat verkkolasku\, jota suosittelemme ensisijaisesti tai PDF-lasku. PDF-lasku lähtee järjestelmästä ilmoittautujan omaan sähköpostiin\, joka tulee itse toimittaa maksajalle \nPeruutusehdot \nViimeinen kuluton peruutuspäivä on viikkoa ennen koulutusta. Tämän jälkeen (28.4.2021) tulleista peruutuksista tai peruuttamatta jättämisistä veloitetaan täysi osallistumismaksu. Edellä mainittu ei koske sairastapauksia. \nYritysyhteistyö \nTarjoamma yrityksille mahdollisuutta puheenvuoron pitämiseen. Puheenvuoroille on varattu paikat ohjelmasta ja ne jaetaan varausjärjestyksessä.\nLisätietoa Krista Abdulla Hama Salih ja Päivi Pyykkölä.
URL:https://www.filha.fi/koulutus/valtakunnalliset-keuhko-ja-allergiapaivat/
END:VEVENT
BEGIN:VEVENT
DTSTART;TZID=Europe/Helsinki:20210506T130000
DTEND;TZID=Europe/Helsinki:20210506T160000
DTSTAMP:20260424T112319
CREATED:20201203T154532Z
LAST-MODIFIED:20210304T123554Z
UID:6423-1620306000-1620316800@www.filha.fi
SUMMARY:Alueellinen astma- ja allergiakoulutus\, SOITE
DESCRIPTION:Alueellinen terveydenhuollon koulutus\, joka järjestetään virtuaalisena. Koulutus on maksuton.\n\nKohderyhmä \nPerusterveydenhuollon lääkärit ja hoitajat\, terveydenhoitajat ja lastentautien\,\nkeuhkosairauksien\, ihotautien\, korva-\, nenä- ja kurkkutautien lääkärit ja hoitajat\, työterveyshuollon lääkärit\nja hoitajat\, ravitsemusterapeutit\, apteekkien astmayhdyshenkilöt sekä kaikki asiasta kiinnostuneet\nterveydenhuollon ammattilaiset. \nOhjelma \nLataa ohjelma itsellesi pdf-muodossa. SOITE webinaari 060521 \n13:00 Koulutuksen avaus\, ajankohtaista Filhasta; Krista Abdulla Hama Salih\, projektivastaava\, koulutuksen erityisasiantuntija\, Filha ry\n13:10 Aikuisten astma ja astmatutkimukset. Milloin erikoissairaanhoitoon? Hanna Rinne\, keuhkosairauksien ylilääkäri\, Soite\n13:50 Yhteistyöyrityksen puheenvuoro; Orion Pharma\n14:00 PEF-seurannat\, ohjaus potilaalle; Eija Tapaninen\, hengityshoitaja\, Soite\n14:35 Pieni virkistystauko\n14:40 Komponenttitutkimukset\, milloin hyödynnetään allergiadiagnostiikassa? Miia Aro\, asiantuntijaylilääkäri\, Filha ry\n15:05 Yhteistyöyrityksen puheenvuoro; Thermo Fisher\n15:15 Siedätyshoito\, pistokset vai tabletti? Krista Abdulla Hama Salih\n15:40 Soite/ allergiatyöryhmän puheenvuoro\n15:50 Keskustelua\, tilaa kysymyksille ja kommenteille.\n16:00 Tilaisuus päättyy \nIlmoittautuminen \nSoiten henkilöstö ilmoittautuu Soiten järjestelmän kautta.\nMuut ilmoittautuvat sähköpostitse koulutussihteeri Heidi Kainulle etunimi.sukunimi@soite.fi
URL:https://www.filha.fi/koulutus/alueellinen-astma-ja-allergiakoulutus-soite/
END:VEVENT
BEGIN:VEVENT
DTSTART;VALUE=DATE:20210519
DTEND;VALUE=DATE:20210520
DTSTAMP:20260424T112319
CREATED:20200902T073551Z
LAST-MODIFIED:20210521T083008Z
UID:5607-1621382400-1621468799@www.filha.fi
SUMMARY:XIII Valtakunnallinen Tuberkuloosipäivä - verkkokoulutus
DESCRIPTION:Valtakunnallinen Tuberkuloosipäivä järjestetään toukokuussa virtuaalisesti. Tervetuloa mukaan täydentämään tietojasi tuberkuloosista ja kuuntelemaan ajankohtaisia aiheita.\nToteutus\nKoulutus toteutetaan Teamsilla. Linkki koulutukseen lähetetään ilmoittautuneille 17.5. Koulutuspäivästä ei tehdä tallennetta. \nOsallistumismaksu\nWebinarin osallistumismaksu on 100 € \nKohderyhmä\n\ntuberkuloosin ehkäisyyn ja hoitoon osallistuvat lääkärit ja hoitajat erikoissairaanhoidossa ja perusterveydenhuollossa\nsairaaloiden ja terveyskeskusten tartuntataudeista vastaavat lääkärit ja hoitajat\ntyöterveyslääkärit ja -hoitajat\nerikoistuvat lääkärit\nmaahanmuuttoyksiköiden ja vastaanottokeskusten sosiaali- ja terveydenhuollossa työskentelevät\n\nErikoistumispisteet\nKoulutus anotaan Helsingin yliopistolta teoreettiseksi kurssimuotoiseksi koulutukseksi soveltuville lääketieteen erikoisaloille. Päätös 11.5.2021.\nInfektiosairaudet 7\, Keuhkosairaudet ja allergologia 7\, Kirurgia / runkokoulutus 7\, Kliininen farmakologia ja lääkehoito 5\, Kliininen mikrobiologia 7\, Lastentaudit 7\, Patologia 7\, Radiologia 4\, Sisätaudit / eriytyvä koulutus 7\, Sisätaudit / runkokoulutus 7\, Sydän- ja rintaelinkirurgia 7\, Terveydenhuolto (EL) 7\, Työterveyshuolto 7\, Yleislääketiede 7 \nOhjelma\nOhjelman pdf-versio (19.5.2021). TB-päivä 19.5.21 ohjelma \nPuheenjohtaja prof.\, keuhkosairauksien erikoislääkäri Tuula Vasankari\, Filha \n09.00 Tilaisuuden avaus: Tuberkuloositilanne tänään; Hanna Soini\, Terveyden ja hyvinvoinnin laitos \n09.20 Tuberkuloosiohjelmasta usein kysyttyä; Iiris Rajalahti Tays/Filha \n09.40 Tuberkuloosin diagnoosi ja hoito; Tuuli Heinikari\, Filha/HUS \n10.10 Tuberkuloosin seulonta ja hoito ulkomaalaistaustaisilla; Topi Turunen\, Espoon kaupunki \n10.40 Jaloittelutauko \n10.55 Tuberkuloosin psyykkiset vaikutukset\, hoitoon sitoutuminen ja tuen tarve; Florence Schmitt \n11.25 Hoitajan rooli tuberkuloosin torjunnassa Suomessa; Marianne Helander\, Filha \n11.45 Keskustelua \n12.00 LOUNASTAUKO \n13.00 Tuberkuloosin tartunnanjäljitys pääkaupunkiseudulla erikoissairaanhoidon ja perusterveydenhuollon näkökulmasta – tapausselostus; Eeva Ruotsalainen\, HUS ja Kirsi Valtonen\, Vantaan tartuntatauti- ja hygieniayksikkö \n13.20 Katsaus kansainväliseen tuberkuloositoimintaan – missä muualla mennään? Tuuli Heinikari\, Filha/HUS \n13.35 Lasten ympäristömykobakteeri-infektiot Suomessa; Antti Kontturi\, HUS \n14.00 Potilaan puheenvuoro Tadeja Munyui \n14.15 Jaloittelutauko \n14.25 Vertaistukea tuberkuloosipotilaalle – uusi pilotti käynnistynyt; Marianne Helander\, Filha \n14.45 Lääkeapuri – mistä löytyy ja kenelle hyödyksi? Kirsi Valve\, Tays \n14.55 Kysymyksiä ja vastauksia: kyselytunti tuberkuloosista \n15.15 Tilaisuuden päätös \nIlmoittautuminen\nIlmoittautuminen 17.5.2021 mennessä Lyyti-järjestelmästä. Ilmoittautumislinkki \nHuom! Tarkistathan etukäteen\, että laskutustietosi ovat ajantasaiset\, koska lasku muodostuu automaattisesti ilmoittautumisen yhteydessä. Laskutustavat ovat verkkolasku\, jota suosittelemme ensisijaisesti tai PDF-lasku. PDF-lasku lähtee järjestelmästä ilmoittautujan omaan sähköpostiin\, joka tulee itse toimittaa maksavalle taholle. \nPeruutusehdot\nViimeinen kuluton peruutuspäivä on viikkoa ennen koulutusta. Tämän jälkeen tulleista peruutuksista tai peruuttamatta jättämisistä veloitetaan täysi osallistumismaksu. Edellä mainittu ei koske sairastapauksia. \nJärjestäjät\nFilha ry\, STM ja THL
URL:https://www.filha.fi/koulutus/xiii-valtakunnallinen-tuberkuloosipaiva-2/
END:VEVENT
BEGIN:VEVENT
DTSTART;TZID=Europe/Helsinki:20210520T130000
DTEND;TZID=Europe/Helsinki:20210520T150000
DTSTAMP:20260424T112319
CREATED:20201130T161400Z
LAST-MODIFIED:20210517T114018Z
UID:6323-1621515600-1621522800@www.filha.fi
SUMMARY:Nikotiiniton leikkaus -webinaari
DESCRIPTION:Koulutuksessa kuullaan hyviä esimerkkejä siitä\, miksi ja miten tupakoimatonta/nikotiinitonta leikkausta kannattaa toteuttaa terveydenhuollossa. Ohjelmassa käydään läpi\, mihin erikoissairaanhoidon ja perusterveydenhuollon tulisi kiinnittää huomiota tupakka- ja nikotiinituotteiden vieroituksessa ennen leikkausta. Webinaarissa kerrotaan myös\, miten vieroitustyöstä saadaan tehokasta ja esitellään työkaluja tuloksellisuuden seurantaan sekä ammattilaisten osaamisen kehittämiseen. \nToteutus \nWebinaari toteutetaan Teams-kokouksena. Linkki lähetetään ilmoittautuneille sähköpostiin 17.5.2020. Tätä myöhemmin ilmoittautuneille linkki tulee vahvistuksen mukana. Webinaarista ei tehdä tallennetta. \nKohderyhmä \n\nSosiaali- ja terveydenhuollon ammattilaiset\, joiden vastaanotolla käy leikkaukseen valmistautuvia potilaita.\nTupakoimatonta/nikotiinitonta leikkausta toteuttavat ja kehittävät tahot terveydenhuollossa\n\nOsallistumismaksu \nWebinaarin osallistumismaksu on 60 € / henkilö tai 500 € / organisaatio \nOhjelma \nOhjelma pdf-muodossa (26.2.2021). Nikotiiniton leikkaus\, webinaari 20.5.2021 \n13.00 Seminaarin avaus\n13.05 Tupakoimattomana leikkaukseen\, miksi ja miten? Ari Katila\, Anestesiologian erikoislääkäri\, TYKS\n13.30 NikLei -toimintamalli tekonivelpotilaan prosessissa; Risto Kuronen\, asiantuntijalääkäri\, Päijät-Hämeen hyvinvointiyhtymä\n13.55 Tupakoimaton leikkaus – näyttöä alkaa syntymään; Heikki Ekroos\, ylilääkäri HUS ja Helene Gräsbeck\, erikoistuva lääkäri\, HUS ja Väitöskirjatutkija\, Kliininen tohtoriohjelma\, HY HUS\n14.20 Työkalu puheeksi oton tueksi – verkkokurssi; Patrick Sandström\, erityisasiantuntija\, Filha ry\n14.30 Keskustelua tupakattoman/nikotiinittoman leikkauksen haasteista ja onnistumisista\n15.00 Päätössanat \nIlmoittautuminen \nIlmoittautuminen 19.5.2021 mennessä. Ilmoittautumislinkki \nOrganisaatiohinnassa ei osallistujien määrää ole rajattu\, mutta huomioi seuraava: \nOrganisaatiohinta on toimipaikkakohtainen. Julkisten terveyspalvelujen ollessa kyseessä\, organisaatiolla tarkoitetaan yksittäistä terveysasemaa\, kaupungin hyvinvointipalveluiden yhtä osaa\, kuten neuvolapalveluita tai erikoissairaanhoidon yhden sairaalan klinikkaa. \nHuom! Organisaatiohinnan valitseville tiedoksi\, että vain yksi henkilö/organisaatio ilmoittautuu. Linkki webinaariin lähetetään ilmoittautujan sähköpostiin. \nHuom! Tarkistathan etukäteen\, että laskutustietosi ovat ajantasaiset\, koska lasku muodostuu automaattisesti ilmoittautumisen yhteydessä. Laskutustavat ovat verkkolasku\, jota suosittelemme ensisijaisesti tai PDF-lasku. PDF-lasku lähtee järjestelmästä ilmoittautujan omaan sähköpostiin. Lasku tulee itse toimittaa maksavalle taholle. \nPeruutusehdot \nViimeinen kuluton peruutuspäivä on pe 14.5.2021. Tämän jälkeen tulleista peruutuksista tai peruuttamatta jättämisistä veloitetaan täysi osallistumismaksu. Edellä mainittu ei koske sairastapauksia.
URL:https://www.filha.fi/koulutus/nikotiiniton-leikkaus-webinaari/
END:VEVENT
END:VCALENDAR