BEGIN:VCALENDAR
VERSION:2.0
PRODID:-//Filha - ECPv6.15.20//NONSGML v1.0//EN
CALSCALE:GREGORIAN
METHOD:PUBLISH
X-WR-CALNAME:Filha
X-ORIGINAL-URL:https://www.filha.fi
X-WR-CALDESC:Tapahtumat Filha
REFRESH-INTERVAL;VALUE=DURATION:PT1H
X-Robots-Tag:noindex
X-PUBLISHED-TTL:PT1H
BEGIN:VTIMEZONE
TZID:Europe/Helsinki
BEGIN:DAYLIGHT
TZOFFSETFROM:+0200
TZOFFSETTO:+0300
TZNAME:EEST
DTSTART:20200329T010000
END:DAYLIGHT
BEGIN:STANDARD
TZOFFSETFROM:+0300
TZOFFSETTO:+0200
TZNAME:EET
DTSTART:20201025T010000
END:STANDARD
BEGIN:DAYLIGHT
TZOFFSETFROM:+0200
TZOFFSETTO:+0300
TZNAME:EEST
DTSTART:20210328T010000
END:DAYLIGHT
BEGIN:STANDARD
TZOFFSETFROM:+0300
TZOFFSETTO:+0200
TZNAME:EET
DTSTART:20211031T010000
END:STANDARD
BEGIN:DAYLIGHT
TZOFFSETFROM:+0200
TZOFFSETTO:+0300
TZNAME:EEST
DTSTART:20220327T010000
END:DAYLIGHT
BEGIN:STANDARD
TZOFFSETFROM:+0300
TZOFFSETTO:+0200
TZNAME:EET
DTSTART:20221030T010000
END:STANDARD
END:VTIMEZONE
BEGIN:VEVENT
DTSTART;VALUE=DATE:20210609
DTEND;VALUE=DATE:20210611
DTSTAMP:20260424T100535
CREATED:20200221T102427Z
LAST-MODIFIED:20210607T085901Z
UID:3841-1623196800-1623369599@www.filha.fi
SUMMARY:European Advanced Course on Clinical Tuberculosis
DESCRIPTION:The European Advanced Course in Clinical Tuberculosis will take place in Borstel\, Germany. This is a clinically oriented course for physicians\, public health officers\, nurses and clinical scientists. \nOrganizer \nTuberculosis Network European Trialsgroup (TBNET) \nGerman Center for Infection Research (DZIF) \nResearch Center Borstel – University of Lübeck \nPartners\nFilha \nKarolinska Institute \nKNCV Tuberculosis Foundation \nTBnet \nVenue\nManor house\, Research Center Borstel\, \nLeibniz Center for Medicine and Biosciences\, \nParkallee 1\, 23845 Borstel\, Germany \nRegistration\nMrs. Cordula Ehlers \nClinical Tuberculosis Center  (DZIF) \nParkallee 35\, 23845 Borstel\, Germany \nTel.: +49 4537 188 7080 \nFax: +49 4537 188 5898 \nEmail: tbcourse2021@fz-borstel.de \nFee\n\nThere is no course fee. \nThis year´s course will be hybrid with a limited number of participants onsite. Participants attending the satellite workshop are encouraged to participate in person. \nFollowing registration all participants will receive online access codes. \nParticipants attending onsite will need to book their accommodation on their own\, e.g.: \nHotel Vitalia Bad Segeberg \n(Am Kurpark 3\, 23795 Bad Segeberg\, T+49(0)4551 8028) \nHotel Wilhelm Busch Norderstedt \n(Segeberger Chaussee 45\, 22850\, T+4940 5299000) \nMore information Flyer EACCTB 2021
URL:https://www.filha.fi/koulutus/european-advance-course-on-clinical-tuberculosis-germany/
LOCATION:Borstel\, Germany\, Parkallee 35\, Borstel\, 23845\, Saksa
END:VEVENT
END:VCALENDAR