BEGIN:VCALENDAR
VERSION:2.0
PRODID:-//Filha - ECPv6.15.20//NONSGML v1.0//EN
CALSCALE:GREGORIAN
METHOD:PUBLISH
X-WR-CALNAME:Filha
X-ORIGINAL-URL:https://www.filha.fi
X-WR-CALDESC:Tapahtumat Filha
REFRESH-INTERVAL;VALUE=DURATION:PT1H
X-Robots-Tag:noindex
X-PUBLISHED-TTL:PT1H
BEGIN:VTIMEZONE
TZID:Europe/Helsinki
BEGIN:DAYLIGHT
TZOFFSETFROM:+0200
TZOFFSETTO:+0300
TZNAME:EEST
DTSTART:20200329T010000
END:DAYLIGHT
BEGIN:STANDARD
TZOFFSETFROM:+0300
TZOFFSETTO:+0200
TZNAME:EET
DTSTART:20201025T010000
END:STANDARD
BEGIN:DAYLIGHT
TZOFFSETFROM:+0200
TZOFFSETTO:+0300
TZNAME:EEST
DTSTART:20210328T010000
END:DAYLIGHT
BEGIN:STANDARD
TZOFFSETFROM:+0300
TZOFFSETTO:+0200
TZNAME:EET
DTSTART:20211031T010000
END:STANDARD
BEGIN:DAYLIGHT
TZOFFSETFROM:+0200
TZOFFSETTO:+0300
TZNAME:EEST
DTSTART:20220327T010000
END:DAYLIGHT
BEGIN:STANDARD
TZOFFSETFROM:+0300
TZOFFSETTO:+0200
TZNAME:EET
DTSTART:20221030T010000
END:STANDARD
END:VTIMEZONE
BEGIN:VEVENT
DTSTART;TZID=Europe/Helsinki:20211005T093000
DTEND;TZID=Europe/Helsinki:20211005T134500
DTSTAMP:20260424T034949
CREATED:20210218T144933Z
LAST-MODIFIED:20210830T061820Z
UID:7185-1633426200-1633441500@www.filha.fi
SUMMARY:Alueellinen astma- ja sisäilmawebinaari\, Kainuun sote
DESCRIPTION:Alueellinen terveydenhuollon verkkokoulutus. Koulutus on maksuton. \nKoulutuksen toteutus \nKoulutus järjestetään webinaarina Skype-yhteydellä. \nJärjestäjät \nFilha ry ja Kainuun sote \nKohderyhmät \nKaikki alueen sote-ammattilaiset ovat tervetulleita koulutukseen \nIlmoittautuminen \nKainuun soten henkilöstö ilmoittautuu eTyöpöydän koulutuskalenterin kautta\,\nmuut sähköpostilla: koulutus @kainuu.fi \nOhjelma  \nLataa ohjelman pdf (20.5.21) – Kajaani_ohjelma_051021_päivitetty \n9:30 Koulutuksen avaus ja mitä uutta Filhassa tarjolla ammattilaisille; Maria Rytkönen\, keuhkosairauksien erikoislääkäri\, Kainuun sote ja Krista Abdulla Hama Salih\, erityisasiantuntija\, Filha ry \n09:45 Yskä pitkittyy\, milloin sitä on syytä tutkia; Maria Rytkönen \n10:35 Yhteistyöyrityksen puheenvuoro; Orion Pharma \n10:45 Astmapotilas ohjausvastaanotolla. Mitä huomioin; Krista Abdulla Hama Salih \n11:20 Yhteistyöyrityksen puheenvuoro; Thermo Fisher Scientific \n11:30 Kysymyksiä ja keskustelua \n11:40 Lounastauko \n12:15 Sisäilmaoireilun monet kasvot; Tuula Vasankari\, pääsihteeri\, LT\, prof. keuhkosairauksien erikoislääkäri\, Filha ry  \n12:45 Potilaan kohtaaminen – epäilyssä sisäilma; Hanna Renkola\, projektivastaava\, Filha ry \n13:05 Sisäilmaoireilu – potilastapaukset; Saila Koikkalainen\, työterveyshuollon erikoislääkäri\, Kainuunmeren työterveys \n13:30 Kysymyksiä ja keskustelua. Seuraavasta alueellisesta koulutuksesta sopiminen. \n13:45 Tilaisuus päättyy
URL:https://www.filha.fi/koulutus/alueellinen-keuhko-ja-allergiapaiva-2/
END:VEVENT
BEGIN:VEVENT
DTSTART;TZID=Europe/Helsinki:20211013T133000
DTEND;TZID=Europe/Helsinki:20211013T150000
DTSTAMP:20260424T034949
CREATED:20210219T105120Z
LAST-MODIFIED:20210916T052533Z
UID:7214-1634131800-1634137200@www.filha.fi
SUMMARY:Keuhkoahtaumatautikoulutus hoitajille -webinaarisarja osa 2
DESCRIPTION:Koulutuksen toteutus \nTeams-kokous. Linkki lähetetään sähköpostilla lähempänä koulutusta. \nKohderyhmä \nHoitajat\, jotka kohtaavat työssään keuhkoahtaumapotilaita ja hoitotyötä opiskelevat \nOhjelma \nOhjelman pdf-versio (20.5.21)  COPD-koulutus hoitajille 131021. \n13:30      Koulutuksen avaus. Krista Abdulla Hama Salih\, koulutuksen erityisasiantuntija\, Filha ry. \n13:35      COPD fenotyypit ja vaikutus hoitoon. Tuuli Heinikari\, asiantuntijaylilääkäri\, Filha ry. \n14:20      AstraZenecan puheenvuoro \n14:35      Keuhkoahtaumatautipotilas hoitajan vastaanotolla. Krista Abdulla Hama Salih. \n14:55      Keskustelua ja aikaa kysymyksille. \n15:00      Koulutus päättyy \nIlmoittautuminen \nKoulutus on maksuton.  Ilmoittautuminen tästä linkistä.
URL:https://www.filha.fi/koulutus/keuhkoahtaumatautikoulutus-hoitajille-webinaarisarja-osa-2/
END:VEVENT
BEGIN:VEVENT
DTSTART;TZID=Europe/Helsinki:20211014T133000
DTEND;TZID=Europe/Helsinki:20211014T150000
DTSTAMP:20260424T034949
CREATED:20210219T122314Z
LAST-MODIFIED:20211006T112612Z
UID:7238-1634218200-1634223600@www.filha.fi
SUMMARY:Tietoa tupakka- ja nikotiinivieroituksesta -webinaarisarjan osa 2
DESCRIPTION:Tietoa tupakka- ja nikotiinivieroituksesta webinaarisarjassa käydään läpi perusasiat liittyen tupakoinnin terveyshaittoihin\, tupakka- ja nikotiiniriippuvuuteen\, uusiin nikotiinituotteisiin sekä nikotiiniriippuvuuden hoitoon. Webinaarisarjan viimeisessä koulutuksessa 4.11. erityisteemana on puheeksiotto\, motivoiva keskustelu sekä verkosta löytyvät apuvälineet vieroitustyön tueksi. Suosittelemme osallistumista koko webinaarisarjaan\, mutta on myös mahdollista ilmoittautua yksittäisin koulutuksiin. Webinaarisarja soveltuu erityisesti uusille tupakastavieroitustyötä tekeville\, mutta myös kertauksena kokeneemmille vieroittajille. \nOsa 2: Tupakka- ja nikotiiniriippuvuuden hoito\nToteutus\nWebinaari toteutetaan Teams-kokouksena. Koulutuksesta ei tehdä tallennetta\, mutta webinaarisarja uusitaan myöhemmin. Linkki koulutukseen lähetetään ilmoittautuneille lähempänä koulutusta. \nKohderyhmä\nSosiaali- ja terveydenhuollon ammattilaiset \nOsallistumismaksu\nWebinarin osallistumismaksu on 40 € / yksi webinaari\, 70 € / kaksi webinaaria ja 100 € / kaikki kolme webinaaria\nKolmen webinaarin kokonaisuus on mahdollista valita myös isommalle osallistujajoukolle. Organisaatiohinta on 500 € / organisaatio. \nOrganisaatiohinnassa ei osallistujien määrää ole rajattu\, mutta huomioi seuraava: \nOrganisaatiohinta on toimipaikkakohtainen. Julkisten terveyspalvelujen ollessa kyseessä\, organisaatiolla tarkoitetaan yksittäistä terveysasemaa\, kaupungin hyvinvointipalveluiden yhtä osaa\, kuten neuvolapalveluita tai erikoissairaanhoidon yhden sairaalan klinikkaa. \nOhjelma\nLataa tästä ohjelma (pdf)  Tupakka webinaari 14.10.2021 \n13.30-14.00 Tupakka- ja nikotiiniriippuvuuden hoito Käypä hoito -suosituksen mukaisesti; Patrick Sandström\, erityisasiantuntija\, Filha \n14.00-14.50 Nikotiinikorvaushoito ja reseptilääkkeet käytännön vieroitustyössä; Päivi Grönroos\, tupakastavieroitushoitaja\, TYKS \n14.50-15.00 Keskustelu \nIlmoittautuminen\nIlmoittaudu koulutukseen 8.10.2021 mennessä: ilmoittautumislinkki \nOrganisaatiohinnan valitseville tiedoksi\, että vain yksi henkilö/organisaatio ilmoittautuu. Linkki webinaariin lähetetään ilmoittautujan sähköpostiin. \nTarkistathan etukäteen\, että laskutustietosi ovat ajantasaiset\, koska lasku muodostuu automaattisesti ilmoittautumisen yhteydessä. Laskutustavat ovat verkkolasku\, jota suosittelemme ensisijaisesti tai PDF-lasku. PDF-lasku lähtee järjestelmästä ilmoittautujan omaan sähköpostiin\, joka tulee itse toimittaa maksajalle. \nPeruutusehdot\nViimeinen kuluton peruutuspäivä on viikkoa ennen koulutusta. Tämän jälkeen tulleista peruutuksista tai peruuttamatta jättämisistä veloitetaan täysi osallistumismaksu. Edellä mainittu ei koske sairastapauksia. \nMuut sarjan webinaarit\n15.9. osa 1: Terveyshaitat ja riippuvuus \n4.11. osa 3: Kuinka otan puheeksi ja tuen lopettamaan?
URL:https://www.filha.fi/koulutus/tietoa-tupakka-ja-nikotiinivieroituksesta-webinaarisarjan-osa-2-2/
END:VEVENT
BEGIN:VEVENT
DTSTART;TZID=Europe/Helsinki:20211026T120000
DTEND;TZID=Europe/Helsinki:20211026T134500
DTSTAMP:20260424T034949
CREATED:20210621T120605Z
LAST-MODIFIED:20210929T115054Z
UID:9024-1635249600-1635255900@www.filha.fi
SUMMARY:Tuberkuloosipotilaiden videovalvottu hoito – miten toteutetaan? -webinaari\, TAYS erva
DESCRIPTION:Valtakunnallinen tuberkuloosiohjelma (TBO 2020) suosittelee videovalvottua lääkehoitoa (VOT\, Video Observed Treatment) siihen soveltuville potilaille. VOT lisää hoidon joustavuutta ja potilaan yksityisyyttä. Se mahdollistaa potilaan oleskelun ja matkustamisen kotipaikkakunnan ulkopuolella lääkehoidon aikana. VOT voi vähentää terveydenhuollon kustannuksia. Kenelle se voidaan aloittaa\, ja miten sitä toteutetaan? STM:n hanketuella järjestetään vuoden 2021 aikana erva-alueiden koulutuskierros\, jonka tavoitteena on edesauttaa videovalvotun lääkehoidon käyttöönottoa sairaanhoitopiireissä. Liity linjoille ja kuulet ammattilaisten kokemuksia ja näkemyksiä VOTin toteutuksesta. \nPaikka\nTeams-webinaari. Linkki koulutukseen lähetetään edeltävän viikon lopulla. \nJärjestäjät\nFilha ry ja Tays \nKoulutuksessa\n• kerrotaan valvotun lääkehoidon perusasiat\n• esitetään VOT-pilottiprojektin tuloksia\n• annetaan tietoa teknisistä toteuttamistavoista ja vinkkejä VOT arkeen\n• keskustellaan ja edistetään paikallistoimijoiden verkostoitumista \nKohderyhmä\nperusterveydenhuollon ja erikoissairaanhoidon tartuntatauti- ja TB-vastuulääkärit ja hoitajat\, neuvoloiden ja maahanmuuttopalveluiden vastuulääkärit ja -hoitajat\, kotihoidon vastuulääkärit ja hoitajat\, opiskeluterveydenhuollon ja yksityisten lääkäriasemien sekä työterveyshuollon lääkärit ja hoitajat \nOhjelma TAYS erva\nLataa ohjelma (pdf) linkistä.  Tuberkuloosipotilaiden videovalvottu hoito \nPuheenjohtaja erikoislääkäri Iiris Rajalahti Filha ry\, Tays\n12:00 – 12:10 Tervetuloa\, Jaana Syrjänen\, PSHP:n tartuntatautilääkäri\n12:10 – 12:25 Miksi ja miten valvottu lääkehoito? Marianne Helander\, TtM Filha ry\n12:25 – 12:40 VOT toimii – pilotin tuloksia ja tuotoksia; Iiris Rajalahti\, erikoislääkäri Filha ry / Tays\n12:40 – 12:50 Keskustelua ja jaloittelutauko\n12:50 – 13:05 Miten videovalvottua hoitoa voidaan toteuttaa? Videovisit ja Health-Fox\n13:05 – 13:30 Vinkkejä käytännön VOT hoitoon; Merja Laitala\, TB asiantuntijahoitaja Tays ja Liina Veissi\, os farmaseutti HYKS\n13:30 – 13:45 Loppukeskustelua \nOsallistumismaksu\nWebinaari on maksuton. \nIlmoittautuminen\nIlmoittautuminen 21.10.2021 mennessä. Ilmoittautumislinkki.
URL:https://www.filha.fi/koulutus/tuberkuloosipotilaiden-videovalvottu-hoito-miten-toteutetaan-webinaari-tays-erva/
END:VEVENT
BEGIN:VEVENT
DTSTART;TZID=Europe/Helsinki:20211027T120000
DTEND;TZID=Europe/Helsinki:20211027T134500
DTSTAMP:20260424T034949
CREATED:20210621T120744Z
LAST-MODIFIED:20211025T130037Z
UID:9027-1635336000-1635342300@www.filha.fi
SUMMARY:Tuberkuloosipotilaiden videovalvottu hoito – miten toteutetaan? -webinaari\, TYKS erva
DESCRIPTION:Valtakunnallinen tuberkuloosiohjelma (TBO 2020) suosittelee videovalvottua lääkehoitoa (VOT\, Video Observed Treatment) siihen soveltuville potilaille. VOT lisää hoidon joustavuutta ja potilaan yksityisyyttä. Se mahdollistaa potilaan oleskelun ja matkustamisen kotipaikkakunnan ulkopuolella lääkehoidon aikana. VOT voi vähentää terveydenhuollon kustannuksia. Kenelle se voidaan aloittaa\, ja miten sitä toteutetaan? STM:n hanketuella järjestetään vuoden 2021 aikana erva-alueiden koulutuskierros\, jonka tavoitteena on edesauttaa videovalvotun lääkehoidon käyttöönottoa sairaanhoitopiireissä. Liity linjoille ja kuulet ammattilaisten kokemuksia ja näkemyksiä VOTin toteutuksesta. \nPaikka\nTeams-webinaari. Linkki koulutukseen lähetetään lähempänä ajankohtaa viikon 43 alussa. \nJärjestäjät\nFilha ry ja Tyks \nKoulutuksessa\n• kerrotaan valvotun lääkehoidon perusasiat\n• esitetään VOT-pilottiprojektin tuloksia\n• annetaan tietoa teknisistä toteuttamistavoista ja vinkkejä VOT arkeen\n• keskustellaan ja edistetään paikallistoimijoiden verkostoitumista \nKohderyhmä\nperusterveydenhuollon ja erikoissairaanhoidon tartuntatauti- ja TB-vastuulääkärit ja hoitajat\, neuvoloiden ja maahanmuuttopalveluiden vastuulääkärit ja -hoitajat\, kotihoidon vastuulääkärit ja hoitajat\, opiskeluterveydenhuollon ja yksityisten lääkäriasemien sekä työterveyshuollon lääkärit ja hoitajat \nOhjelma TYKS erva\nLataa ohjelma (pdf) linkistä.  TYKS Tuberkuloosipotilaiden videovalvottu hoito \n12:00 – 12:10 Avaus; puheenjohtaja Päivi Ojanen\, keuhkolääkäri Tyks\n12:10 – 12:25 Miksi ja miten valvottu lääkehoito? Marianne Helander\, TtM Filha ry\n12:25 – 12:40 VOT toimii – pilotin tuloksia ja tuotoksia; Iiris Rajalahti\, erikoislääkäri Filha ry / Tays\n12:40 – 12:50 Keskustelua ja jaloittelutauko\n12:50 – 13:05 Miten videovalvottua hoitoa voidaan toteuttaa? Videovisit ja Health-Fox\n13:05 – 13:30 Vinkkejä käytännön VOT hoitoon; Merja Laitala\, TB asiantuntijahoitaja Tays ja Liina Veissi\, os farmaseutti HYKS\n13:30 – 13:45 Loppukeskustelua \nOsallistumismaksu\nWebinaari on maksuton. \nIlmoittautuminen\nIlmoittautuminen pe 22.10.2021 mennessä. Ilmoittautumislinkki
URL:https://www.filha.fi/koulutus/tuberkuloosipotilaiden-videovalvottu-hoito-miten-toteutetaan-webinaari-tyks-erva/
END:VEVENT
BEGIN:VEVENT
DTSTART;VALUE=DATE:20211029
DTEND;VALUE=DATE:20211030
DTSTAMP:20260424T034949
CREATED:20200117T122832Z
LAST-MODIFIED:20211021T090507Z
UID:3615-1635465600-1635551999@www.filha.fi
SUMMARY:Valtakunnallinen keuhkosyöpäpäivä lääkäreille\, virtuaalikoulutus
DESCRIPTION:Muutos järjestelyihin 25.8.2021\nValtakunnallinen keuhkosyöpäpäivä järjestetään lokakuussa vain virtuaalikoulutuksena. Myös Rochen järjestämä pre-symposiumin  edeltävänä päivänä on virtuaalinen. Linkki Rochen sivuille tämän sivun alareunassa. \nLaitathan ajankohdan 28.-29.10.2021 kalenteriin. Tallenna Save the date -kutsu tästä. Kutsu_keuhkosyöpä_2021 \n\nPaikka\nVirtuaalikoulutus. Liittymislinkki lähetetään osallistujille lähempänä koulututusta viikolla 43. Virtuaalitapahtuman toteuttaa Prospectum.\nTarkistathan myös roskapostikansiosi\, jos et saa linkkiä. \nKohderyhmä\nTilaisuus on tarkoitettu keuhkosyövän tutkimukseen\, diagnostiikkaan ja hoitoon osallistuville lääkäreille (keuhkolääkärit\, onkologit\, patologit\, radiologit\, thoraxkirurgit\, yleislääkärit). \nErikoistuville\nKoulutukselle haetaan erikoistumispisteitä Helsingin yliopistolta. \nOhjelma\nKoulutuspäivän aikana tarjotaan uusinta tietoa keuhkosyövästä\, perehdytään uusimpiin tekniikoihin\, tutkimuksiin ja hoitoihin.\nTallenne on ilmoittautuneiden katsottavissa kaksi viikkoa tilaisuuden jälkeen (12.11. asti). \nLataa ohjelma linkistä (päivitetty 20.10.21). Keuhkosyöpäpäivän ohjelma 2021 \n9.00 Linjat avautuvat\, tervetuloa tutustumaan näyttelyyn\n09.30 Avaussanat\, Tuula Vasankari\, Filha ry\nSessio I Puheenjohtaja Aija Knuuttila\, HUS\n09.35 Keuhkosyövän molekyylipatologisen diagnostiikan päivitys; Mikko Mäyränpää\, HUS\n10.05 Uudet lääkkeet – suomalaisia tosielämän tutkimustuloksia; Sanna Iivanainen\, OYS\n10.35 Tauko\nUudet tutkimustulokset vuodelta 2021\n10.40 Ei-pienisoluiset keuhkosyövät; Antti Jekunen\, Vaasan ks\n11.15 Pienisoluinen keuhkosyöpä ja mesoteliooma; Aija Knuuttila\, HUS\n11.50 Lounas ja näyttelyyn tutustuminen\nSessio II Puheenjohtaja Jussi Koivunen\, OYS\n13.00 Mitä uutta keuhkosyövän seulonnassa? Jussi Koivunen\, OYS\n13.20 NSCLC:n kemosädehoito; Karolina Rasi\, OYS\n13.50 Keuhkosyövän kuvantaminen; Lauri Ahvenjärvi\, OYS\n14.10 Käytännön kokemuksia avoterveydenhuollon TT-kuvantamisesta; Reijo Autio\, Vaasan ks\n14.30 Kommenttipuheenvuoro; Antti Jekunen\, Vaasan ks\n14.40 Tauko\n14.55 Keuhkosyövän vaikeita kysymyksiä – keskustelua ja pohdintaa; keskustelun moderointi Riitta Kaarteenaho\, OYS\n15.45 koulutuspäivä päättyy \nOsallistumismaksu\nOsallistuminen 120 € \nIlmoittautuminen\nIlmoittaudu koulutukseen 27.10.2021 klo 16 mennessä. Ilmoittautumislinkki 29.10.2021. \nTarkistathan etukäteen\, että laskutustietosi ovat ajantasaiset\, koska lasku muodostuu automaattisesti ilmoittautumisen yhteydessä. Laskutustavat ovat verkkolasku\, jota suosittelemme ensisijaisesti tai PDF-lasku. PDF-lasku lähtee järjestelmästä ilmoittautujan omaan sähköpostiin\, joka tulee itse toimittaa maksajalle. \nPeruutusehdot\nViimeinen kuluton peruutuspäivä on viikkoa ennen koulutusta. Tämän jälkeen tulleista peruutuksista tai peruuttamatta jättämisistä veloitetaan täysi osallistumismaksu. Edellä mainittu ei koske sairastapauksia. \nNäyttely\nTilaisuudessa järjestetään virtuaalinen näyttely. Lisätietoa tästä linkistä.\n \nPre-symposium lääkäreille 28.10.2021\nAika ja paikka: to 28.10. klo 17 – 19.00\, virtuaalinen tapahtuma \nJärjestäjä: Roche \nOhjelmassa ajankohtaista keuhkosyövän hoidosta. Ohjelma tarkentuu myöhemmin. Linkki Rochen tapahtumiin. \nIlmoittautumislinkki 28.10.2021
URL:https://www.filha.fi/koulutus/valtakunnallinen-keuhkosyopapaiva-laakareille/
END:VEVENT
END:VCALENDAR