BEGIN:VCALENDAR
VERSION:2.0
PRODID:-//Filha - ECPv6.15.20//NONSGML v1.0//EN
CALSCALE:GREGORIAN
METHOD:PUBLISH
X-WR-CALNAME:Filha
X-ORIGINAL-URL:https://www.filha.fi
X-WR-CALDESC:Tapahtumat Filha
REFRESH-INTERVAL;VALUE=DURATION:PT1H
X-Robots-Tag:noindex
X-PUBLISHED-TTL:PT1H
BEGIN:VTIMEZONE
TZID:Europe/Helsinki
BEGIN:DAYLIGHT
TZOFFSETFROM:+0200
TZOFFSETTO:+0300
TZNAME:EEST
DTSTART:20200329T010000
END:DAYLIGHT
BEGIN:STANDARD
TZOFFSETFROM:+0300
TZOFFSETTO:+0200
TZNAME:EET
DTSTART:20201025T010000
END:STANDARD
BEGIN:DAYLIGHT
TZOFFSETFROM:+0200
TZOFFSETTO:+0300
TZNAME:EEST
DTSTART:20210328T010000
END:DAYLIGHT
BEGIN:STANDARD
TZOFFSETFROM:+0300
TZOFFSETTO:+0200
TZNAME:EET
DTSTART:20211031T010000
END:STANDARD
BEGIN:DAYLIGHT
TZOFFSETFROM:+0200
TZOFFSETTO:+0300
TZNAME:EEST
DTSTART:20220327T010000
END:DAYLIGHT
BEGIN:STANDARD
TZOFFSETFROM:+0300
TZOFFSETTO:+0200
TZNAME:EET
DTSTART:20221030T010000
END:STANDARD
END:VTIMEZONE
BEGIN:VEVENT
DTSTART;TZID=Europe/Helsinki:20211130T120000
DTEND;TZID=Europe/Helsinki:20211201T160000
DTSTAMP:20260424T010541
CREATED:20201201T132939Z
LAST-MODIFIED:20230406T035817Z
UID:6335-1638273600-1638374400@www.filha.fi
SUMMARY:IX Valtakunnalliset Tupakka ja terveys -päivät 30.11.-1.12.2021\, virtuaalikoulutus
DESCRIPTION:Tervetuloa kuulemaan uusinta tutkimustietoa\, käytännön esimerkkejä vieroituksesta ja pohtimaan miten parhaiten saavutetaan nikotiiniton Suomi. Koulutuspäivien teemana on ’vieroita viisaasti’. Tupakka ja terveys -päivät järjestetään nyt yhdeksännen kerran.\n26.8.2021 Tilannepäivitys \nTupakka ja terveys -päivät tullaan järjestämään ainoastaan virtuaalikoulutuksena koronapandemiaan liittyvien epävarmuuksien vuoksi. \nOhjelma \nKoulutuksesta ei tehdä tallennetta\, mutta esitykset jaetaan jäkikäteen soveltuvilta osin. \nTiistai 30.11.2021 Työpajapäivä \n12.00–14.00 Tutkimustyöpaja (THL)\n14.00–14.15  Tauko\n14.15–16.15  Vieroitustyöpaja\, Tupakaton Sote-verkoston tapaaminen (STESO ry ja Filha ry) \nTutkimustyöpajan ohjelma \nVieroitustyöpajan ohjelma \nKeskiviikko 1.12.2021 Koulutuspäivä \nTupakka ja terveys -päivät 2021 ohjelma päivitetty 26.11.2021 \n9.00–9.30 Linjat avataan\, tervetuloa! Posterinäyttely avoinna tutustumista varten.\nPuheenjohtaja pääsihteeri Tuula Vasankari\, Filha ry\n9.30–10.00 Avaussanat\nValtiosihteeri Eila Mäkipää\, STM\nPääjohtaja Markku Tervahauta\, THL\n10.00–10.50 Ajankohtaista tutkimuksesta\nCOVID-19 ja nikotiini – uusin tutkimustieto\nTuula Vasankari\, pääsihteeri\, professori\, Filha ry\nTupakointi sosiaali- ja terveyspalveluissa asioivien päihteiden käyttäjien keskuudessa\nKristiina Kuussaari\, erikoistutkija\, THL\nVarusmiesten tupakka- ja nikotiinituotteiden käyttö\nMaria Danielsson\, PE terveysaseman päällikkölääkäri\, Puolustusvoimat\n10.50–11.00 Tauko\n11.00–12.20 Lopettamisen tuki – Eväät omaan työhön\nKäytännön demonstraatio vieroitustilanteesta – mitä menetelmiä kannattaa käyttää?\nPäivi Grönroos\, tupakastavieroitushoitaja ja Ari Katila\, anestesiologian el Tyks; Sirpa Rytky\, asiantuntija Oulun kaupunki; Agata Linna ja Marika Uusitalo\, ryhmäkoordinaattorit Helsingin kaupunki; Patrick Sandström\, eritysasiantuntija Filha ry; Sirpa Viherkoski\, kokemusasiantuntija Kohti savuttomuutta – miten tuemme raskaana olevaa ja hänen puolisoaan\nPäivi Saari\, erikoislääkäri ja Tea Hansson\, osastonhoitaja\, Riihimäen seudun terveyskeskuksen KY\nLiikunnan hyödyntäminen akuutin nikotiinin himon lieventämisessä\nFysioterapeutti ja TtM-opiskelija Herkko Ryynänen\n12.20–13.20 Lounastauko\nPuheenjohtaja erityisasiantuntija Patrick Sandström\, Filha ry\n13.20–14.25 Nikotiinituotteet ja kannabis\nKannabinoidien ja nikotiinituotteiden yhteiskäytön vaikutukset ja puheeksi otto\nKim Kannussaari\, asiantuntija\, Ehyt ry\nThe “Triangulum” – Cannabis\, Tobacco\, and Vaping: Insights for public health and policy\nGillian L. Schauer\, PhD\, MPH\, Washingtonin yliopisto\n14.25–14.45 Tauko\, postereihin ja muuhun materiaaliin tutustumista\n14.45–15.00 Posteripalautteiden läpikäyntiä ja keskustelua\nMikael Ekblad\, yleislääketieteen el\, kliininen opettaja\, TY\n15.00–15.50 Nuuska ja nuuskaamisen lopettaminen\nNuuskariippuvuus ja vieroitus nuuskan käytöstä\nPatrick Sandström\, erityisasiantuntija\, Filha ry\nNuuskan käyttöön puuttuminen suun terveydenhuollossa\nAnna Maria Heikkinen\, dos.\, erikoishammaslääkäri\, terveydenhuollon tutkimusjohtaja\, HUS\n15.50–16.00 Loppukeskustelu ja päätössanat\n \nKohderyhmä\nSote-ammattilaiset ja tulevat ammattilaiset\, tutkijat\, viranomaiset ja päätöksentekijät \nErikoistumispisteet\nKoulutus anotaan erikoistumiskoulutukseksi soveltuville erikoisaloille Helsingin yliopistolta. \nOsallistumismaksut\nYhden päivän hinnat\n31.11. työpajat online 50 €\n1.12. koulutuspäivä online 70 € \nKahden päivän hinnat\n31.11. työpajat online ja 1.12. koulutuspäivä online\, yht. 110 € \nopiskelijat/eläkeläiset\nAinoastaan kahden päivän pakettihinta\n31.11. työpajat online ja 1.12. koulutuspäivä online\, yht. 55 € \nIlmoittautuminen\nIlmoittaudu koulutuspäiville pe 26.11.2021 mennessä. Ilmoittautumislinkki \nLiittymislinkki koulutukseen lähetetään osallistujille lähempänä koulutusta. \nTarkistathan etukäteen\, että laskutustietosi ovat ajantasaiset\, koska lasku muodostuu automaattisesti ilmoittautumisen yhteydessä. Laskutustavat ovat verkkolasku\, jota suosittelemme ensisijaisesti tai PDF-lasku. PDF-lasku lähtee järjestelmästä ilmoittautujan omaan sähköpostiin\, joka tulee itse toimittaa maksajalle. \nPeruutusehdot\nViimeinen kuluton peruutuspäivä on viikkoa ennen koulutusta. Tämän jälkeen tulleista peruutuksista tai peruuttamatta jättämisistä veloitetaan täysi osallistumismaksu. Edellä mainittu ei koske sairastapauksia. \nPosterinäyttely\nTupakka ja terveys -päivillä posterinäyttely toteutetaan virtuaalisesti. \nNäyttelyssä on mahdollista esitellä postereita aiheeseen sopivista tutkimuksia\, kehittämishankkeista tai hyvistä käytännön toimintamalleista. Posterit voivat olla aiemmin esillä olleita ja suomen-\, ruotsin- tai englanninkielisiä. Posterinäyttelyssä myös järjestöt voivat esittäytyä. \nPosterin muoto \nPosteri voi olla pdf-muodossa tai 1–2 min videomuotoisena esittelynä. \nPostereiden esilläolo \nPosterit ovat esillä useamman päivän 30.11.-3.12. Linkki posterinäyttelyyn lähetetään sähköpostilla koulutukseen ilmoittautuneille. Postereista voi esittää kysymyksiä ja käydä keskustelua verkon kautta. Ohjelmassa on myös varattu aikaa posteripalautteille. \nLähetä vapaamuotoinen kuvaus/tiivistelmä posterista sähköpostilla paivi.pyykkola@filha.fi viimeistään 22.11.2021.\nTarkempi ohjeistus materiaalin lähettämisestä toimitetaan tämän jälkeen. \nPosterin esittäjät maksavat normaalin osallistumismaksun. \nTiedustelut: Päivi Pyykkölä paivi.pyykkola@filha.fi
URL:https://www.filha.fi/koulutus/ix-valtakunnallinen-tupakka-ja-terveys-paiva-2/
END:VEVENT
BEGIN:VEVENT
DTSTART;TZID=Europe/Helsinki:20211208T140000
DTEND;TZID=Europe/Helsinki:20211208T151500
DTSTAMP:20260424T010541
CREATED:20210817T111953Z
LAST-MODIFIED:20210818T091611Z
UID:9147-1638972000-1638976500@www.filha.fi
SUMMARY:Latentti tuberkuloosi-infektio (LTBI) ja elinsiirto − digityökaluja LTBI-hoidon tueksi
DESCRIPTION:Tuberkuloositartunnan saaneilla on 5-10% elinikäinen riski sairastua tuberkuloosiin. Kaikki eivät sairastu ja riski vaihtelee väestössä. Käytössä olevat testit eivät varmuudella erota niitä\, jotka tulevat sairastumaan tautiin. LTBI:n lääkehoidosta kertyy kustannuksia ja voi tulla vaikeitakin haittavaikutuksia. Lääkehoito on sen vuoksi tarpeen kohdistaa ryhmiin\, joilla sairastumisriski on suurentunut. Näistä yksi ryhmä on potilaat\, joille suunnitellaan elinsiirtoa. TBO 2020 suosittelee tälle ryhmälle LTBI-seulontaa\, ja Filhan sivustolta löytyy ohjeita ammattilaisille ja potilaille tähän liittyen. Hoitopäätöksen jälkeen toteutetaan LTBI:n lääkehoito sairastumisen ehkäisemiseksi. Riippumatta potilasryhmästä kaikki LTBI:n lääkehoitoa saavat potilaat tarvitsevat tukea 3-6 kk mittaisen lääkehoidon toteuttamiseen. \nAmmattilaisille on tehty digityökalu elinsiirtopotilaiden LTBI:n hoitopäätöksen tueksi. Myös muut LTBI:n lääkehoitoa saavat potilaat voivat käyttää hoidon seurannan apuna mobiilikalenteria. Liity linjoille ja kuulet LTBI:n hoidon perusteista munuais- ja keuhkosiirtopotilailla sekä digityökalujen käytöstä. \nPaikka\nTeams-webinaari. Linkki koulutukseen lähetetään edeltävän viikon lopulla. \nJärjestäjä \nFilha ry \nKoulutuksen sisältö\nKoulutuksessa saat tietoa\n– munuais- ja keuhkonsiirtopotilaiden latentista tuberkuloosi-infektiosta\n– miten LTBI:tä seulotaan ennen elinsiirtoa\n– miten päätöstyökalua voi hyödyntää elinsiirtopotilaiden LTBI:n hoidon aloituksessa\n– miten LTBI:n lääkehoitoa saavat potilaat voivat seurata hoitoaan mobiilikalenterin avulla \nKohderyhmä\nerikoissairaanhoidon lääkärit ja hoitajat (keuhkosairaudet\, infektiosairaudet\, lastentaudit\, sisätaudit\, ihotaudit)\, perusterveydenhuollon tartuntatauti- ja TB-vastuulääkärit ja hoitajat\, opiskeluterveydenhuollon sekä työterveyshuollon lääkärit ja hoitajat \nOhjelma\nOhjelman pdf-versio (päivitetty 18.8.2021) LTBI Digi koulutusohjelma \n14:00 – 14:25 LTBI ja elinsiirto – mitä tulisi huomioida? Tuuli Heinikari\, asiantuntijaylilääkäri Filha ry\n14:25 – 14:35 Kysymyksiä ja keskustelua\n14:35 – 15:00 Uusia digityökaluja LTBI:n hoitopäätöksen ja hoidon tueksi Iiris Rajalahti\, erikoislääkäri Filha ry / Tays\n15:00 – 15:15 Loppukeskustelua \nOsallistumismaksu\nWebinaari on maksuton. \nIlmoittautuminen\nIlmoittautuminen 2.12.2021 mennessä. Ilmoittautumislinkki
URL:https://www.filha.fi/koulutus/latentti-tuberkuloosi-infektio-ltbi-ja-elinsiirto-%c2%ac-digityokaluja-ltbi-hoidon-tueksi/
END:VEVENT
END:VCALENDAR