BEGIN:VCALENDAR
VERSION:2.0
PRODID:-//Filha - ECPv6.15.20//NONSGML v1.0//EN
CALSCALE:GREGORIAN
METHOD:PUBLISH
X-WR-CALNAME:Filha
X-ORIGINAL-URL:https://www.filha.fi
X-WR-CALDESC:Tapahtumat Filha
REFRESH-INTERVAL;VALUE=DURATION:PT1H
X-Robots-Tag:noindex
X-PUBLISHED-TTL:PT1H
BEGIN:VTIMEZONE
TZID:Europe/Helsinki
BEGIN:DAYLIGHT
TZOFFSETFROM:+0200
TZOFFSETTO:+0300
TZNAME:EEST
DTSTART:20210328T010000
END:DAYLIGHT
BEGIN:STANDARD
TZOFFSETFROM:+0300
TZOFFSETTO:+0200
TZNAME:EET
DTSTART:20211031T010000
END:STANDARD
BEGIN:DAYLIGHT
TZOFFSETFROM:+0200
TZOFFSETTO:+0300
TZNAME:EEST
DTSTART:20220327T010000
END:DAYLIGHT
BEGIN:STANDARD
TZOFFSETFROM:+0300
TZOFFSETTO:+0200
TZNAME:EET
DTSTART:20221030T010000
END:STANDARD
BEGIN:DAYLIGHT
TZOFFSETFROM:+0200
TZOFFSETTO:+0300
TZNAME:EEST
DTSTART:20230326T010000
END:DAYLIGHT
BEGIN:STANDARD
TZOFFSETFROM:+0300
TZOFFSETTO:+0200
TZNAME:EET
DTSTART:20231029T010000
END:STANDARD
END:VTIMEZONE
BEGIN:VEVENT
DTSTART;TZID=Europe/Helsinki:20220215T133000
DTEND;TZID=Europe/Helsinki:20220215T150000
DTSTAMP:20260423T214534
CREATED:20211214T114312Z
LAST-MODIFIED:20220210T145752Z
UID:11045-1644931800-1644937200@www.filha.fi
SUMMARY:Tietoa tupakka- ja nikotiinivieroituksesta -webinaarisarjan osa 1
DESCRIPTION:Tietoa tupakka- ja nikotiinivieroituksesta webinaarisarjassa käydään läpi perusasiat liittyen tupakoinnin terveyshaittoihin\, tupakka- ja nikotiiniriippuvuuteen\, uusiin nikotiinituotteisiin sekä nikotiiniriippuvuuden hoitoon. Webinaarisarjan viimeisessä koulutuksessa 5.4. erityisteemana on puheeksiotto\, motivoiva keskustelu sekä verkosta löytyvät apuvälineet vieroitustyön tueksi. Suosittelemme osallistumista koko webinaarisarjaan\, mutta on myös mahdollista ilmoittautua yksittäisin koulutuksiin. Webinaarisarja soveltuu erityisesti uusille tupakastavieroitustyötä tekeville\, mutta myös kertauksena kokeneemmille vieroittajille.  \nOsa 1: Terveyshaitat ja riippuvuus\nToteutus\nWebinaari toteutetaan Teams-kokouksena. Koulutuksesta ei tehdä tallennetta\, mutta webinaarisarja uusitaan myöhemmin. Linkki koulutukseen lähetetään ilmoittautuneille ma 14.2.2022. \nKohderyhmä\nSosiaali- ja terveydenhuollon ammattilaiset \nOsallistumismaksu\nWebinarin osallistumismaksu on 40 € / yksi webinaari\, 70 € / kaksi webinaaria ja 100 € / kaikki kolme webinaaria\nKolmen webinaarin kokonaisuus on mahdollista valita myös isommalle osallistujajoukolle. Organisaatiohinta on 500 € / organisaatio. \nOrganisaatiohinnassa ei osallistujien määrää ole rajattu\, mutta huomioi seuraava: \nOrganisaatiohinta on toimipaikkakohtainen. Julkisten terveyspalvelujen ollessa kyseessä\, organisaatiolla tarkoitetaan yksittäistä terveysasemaa\, kaupungin hyvinvointipalveluiden yhtä osaa\, kuten neuvolapalveluita tai erikoissairaanhoidon yhden sairaalan klinikkaa. \nOhjelma 15.2.2022\n13.30-14.10 Tupakoinnin ja nikotiinin terveyshaitat; Krista Abdulla Hama Salih\, koulutuksen erityisasiantuntija\, Filha \n14.10-14.50 Tupakka- ja nikotiiniriippuvuus sekä uudet nikotiinituotteet\, Patrick Sandström\, erityisasiantuntija\, Filha \n14.50-15.00 Keskustelu \nWebinaariohjelmat 1-3 (pdf)  Tupakka ja nikotiinivieroituksesta –webinaarit \nIlmoittautuminen\nIlmoittautumisen yhteydessä kysytään laskutustietoja. Tarkistathan etukäteen\, että laskutustiedot ovat oikein. Laskutus tapahtuu jälkikäteen näiden tietojen pohjalta. \nIlmoittaudu koulutukseen 12.2.2022 mennessä: Ilmoittautumislinkki \nOrganisaatiohinnan valitseville tiedoksi\, että vain yksi henkilö/organisaatio ilmoittautuu. Linkki webinaariin lähetetään ilmoittautujan sähköpostiin. \nPeruutusehdot\nViimeinen kuluton peruutuspäivä on viikkoa ennen koulutusta. Tämän jälkeen tulleista peruutuksista tai peruuttamatta jättämisistä veloitetaan täysi osallistumismaksu. Edellä mainittu ei koske sairastapauksia. \nMuut sarjan webinaarit\n23.3. osa 2: Tupakka- ja nikotiiniriippuvuuden hoito \n5.4. osa 3: Kuinka otan puheeksi ja tuen lopettamaan?
URL:https://www.filha.fi/koulutus/tietoa-tupakka-ja-nikotiinivieroituksesta-webinaarisarjan-osa-1-3/
END:VEVENT
END:VCALENDAR