BEGIN:VCALENDAR
VERSION:2.0
PRODID:-//Filha - ECPv6.15.20//NONSGML v1.0//EN
CALSCALE:GREGORIAN
METHOD:PUBLISH
X-WR-CALNAME:Filha
X-ORIGINAL-URL:https://www.filha.fi
X-WR-CALDESC:Tapahtumat Filha
REFRESH-INTERVAL;VALUE=DURATION:PT1H
X-Robots-Tag:noindex
X-PUBLISHED-TTL:PT1H
BEGIN:VTIMEZONE
TZID:Europe/Helsinki
BEGIN:DAYLIGHT
TZOFFSETFROM:+0200
TZOFFSETTO:+0300
TZNAME:EEST
DTSTART:20210328T010000
END:DAYLIGHT
BEGIN:STANDARD
TZOFFSETFROM:+0300
TZOFFSETTO:+0200
TZNAME:EET
DTSTART:20211031T010000
END:STANDARD
BEGIN:DAYLIGHT
TZOFFSETFROM:+0200
TZOFFSETTO:+0300
TZNAME:EEST
DTSTART:20220327T010000
END:DAYLIGHT
BEGIN:STANDARD
TZOFFSETFROM:+0300
TZOFFSETTO:+0200
TZNAME:EET
DTSTART:20221030T010000
END:STANDARD
BEGIN:DAYLIGHT
TZOFFSETFROM:+0200
TZOFFSETTO:+0300
TZNAME:EEST
DTSTART:20230326T010000
END:DAYLIGHT
BEGIN:STANDARD
TZOFFSETFROM:+0300
TZOFFSETTO:+0200
TZNAME:EET
DTSTART:20231029T010000
END:STANDARD
END:VTIMEZONE
BEGIN:VEVENT
DTSTART;TZID=Europe/Helsinki:20220315T123000
DTEND;TZID=Europe/Helsinki:20220315T150000
DTSTAMP:20260423T201327
CREATED:20211028T102817Z
LAST-MODIFIED:20220309T114230Z
UID:10245-1647347400-1647356400@www.filha.fi
SUMMARY:Mitä uutta keuhkosyövän hoidossa -webinaari hoitajille
DESCRIPTION:Paikka\nWebinaari Teams-alustalla. Linkki lähetetään ilmoittautuneille sähköpostiin viimeistään 15.3.2022 aamulla. \nKohderyhmä\nHoitotyötä tekevät ja keuhkosyöpäpotilaita työssään kohtaavat hoitajat \nOhjelma\nLataa tästä ohjelma (päivitetty 8.2.2022) Keuhkosyöpäkoulutus hoitajille 150322 \n12.30–12.35  Tervehdyssanat\, Krista Abdulla Hama Salih\, Filha \n12.35–13.00  Kannattaako keuhkosyöpää seuloa? Miia Aro\, Filha \n13.00–13.30  Keuhkosyöpä – mitä uutta? Tuula Vasankari\, Filha \n13.30–13.35  Kysymyksiä ja kommentteja \n13.35–13.45  BI:n puheenvuoro \n13.45–14.15  Keuhkosyöpäpotilaan hyvä hoito osastolla\, Jan Kosonen\, Tyks \n14.15–14.45  Palliatiivinen hoito\, Minna Kellokumpu-Räsänen\, Kys \n14.45–15.00  Keskustelua ja päätössanat \nHinta\nOsallistumismaksu on 40 €. Opiskeiljat 0 €. \nIlmoittautuminen\nIlmoittautumisen yhteydessä kysytään laskutustietoja. Tarkistathan etukäteen\, että laskutustiedot ovat oikein. Laskutus tapahtuu jälkikäteen näiden tietojen pohjalta. \nIlmoittaudu viimeistään 14.3.  Ilmoittautumislinkki webinaariin \nPeruutusehdot\nViimeinen kuluton peruutuspäivä on viikkoa ennen koulutusta. Tämän jälkeen tulleista peruutuksista tai peruuttamatta jättämisistä veloitetaan täysi osallistumismaksu. Edellä mainittu ei koske sairastapauksia.
URL:https://www.filha.fi/koulutus/mita-uutta-keuhkosyovan-hoidossa-webinaari-hoitajille/
END:VEVENT
BEGIN:VEVENT
DTSTART;TZID=Europe/Helsinki:20220323T133000
DTEND;TZID=Europe/Helsinki:20220323T150000
DTSTAMP:20260423T201327
CREATED:20211214T122314Z
LAST-MODIFIED:20220202T131234Z
UID:11052-1648042200-1648047600@www.filha.fi
SUMMARY:Tietoa tupakka- ja nikotiinivieroituksesta -webinaarisarjan osa 2
DESCRIPTION:Tietoa tupakka- ja nikotiinivieroituksesta webinaarisarjassa käydään läpi perusasiat liittyen tupakoinnin terveyshaittoihin\, tupakka- ja nikotiiniriippuvuuteen\, uusiin nikotiinituotteisiin sekä nikotiiniriippuvuuden hoitoon. Webinaarisarjan viimeisessä koulutuksessa 5.4. erityisteemana on puheeksiotto\, motivoiva keskustelu sekä verkosta löytyvät apuvälineet vieroitustyön tueksi. Suosittelemme osallistumista koko webinaarisarjaan\, mutta on myös mahdollista ilmoittautua yksittäisin koulutuksiin. Webinaarisarja soveltuu erityisesti uusille tupakastavieroitustyötä tekeville\, mutta myös kertauksena kokeneemmille vieroittajille.  \nOsa 2: Tupakka- ja nikotiiniriippuvuuden hoito\nToteutus\nWebinaari toteutetaan Teams-kokouksena. Koulutuksesta ei tehdä tallennetta\, mutta webinaarisarja uusitaan myöhemmin. Linkki koulutukseen lähetetään ilmoittautuneille lähempänä koulutusta. \nKohderyhmä\nSosiaali- ja terveydenhuollon ammattilaiset \nOsallistumismaksu\nWebinarin osallistumismaksu on 40 € / yksi webinaari\, 70 € / kaksi webinaaria ja 100 € / kaikki kolme webinaaria\nKolmen webinaarin kokonaisuus on mahdollista valita myös isommalle osallistujajoukolle. Organisaatiohinta on 500 € / organisaatio. \nOrganisaatiohinnassa ei osallistujien määrää ole rajattu\, mutta huomioi seuraava: \nOrganisaatiohinta on toimipaikkakohtainen. Julkisten terveyspalvelujen ollessa kyseessä\, organisaatiolla tarkoitetaan yksittäistä terveysasemaa\, kaupungin hyvinvointipalveluiden yhtä osaa\, kuten neuvolapalveluita tai erikoissairaanhoidon yhden sairaalan klinikkaa. \nOhjelma 23.3.2022\n13.30-14.00 Tupakka- ja nikotiiniriippuvuuden hoito Käypä hoito -suosituksen mukaisesti; Patrick Sandström\, erityisasiantuntija\, Filha \n14.00-14.50 Nikotiinikorvaushoito ja reseptilääkkeet käytännön vieroitustyössä; Päivi Grönroos\, tupakastavieroitushoitaja\, Tyks\n \n14.50-15.00 Keskustelu \nWebinaariohjelmat 1-3 (pdf) Tupakka ja nikotiinivieroituksesta –webinaarit \nIlmoittautuminen\nIlmoittautumisen yhteydessä kysytään laskutustietoja. Tarkistathan etukäteen\, että laskutustiedot ovat oikein. Laskutus tapahtuu jälkikäteen näiden tietojen pohjalta. \nIlmoittaudu koulutukseen 21.3.2022 mennessä: ilmoittautumislinkki \nOrganisaatiohinnan valitseville tiedoksi\, että vain yksi henkilö/organisaatio ilmoittautuu. Linkki webinaariin lähetetään ilmoittautujan sähköpostiin. \nPeruutusehdot\nViimeinen kuluton peruutuspäivä on viikkoa ennen koulutusta. Tämän jälkeen tulleista peruutuksista tai peruuttamatta jättämisistä veloitetaan täysi osallistumismaksu. Edellä mainittu ei koske sairastapauksia. \nMuut sarjan webinaarit\n15.2. osa 1: Terveyshaitat ja riippuvuus \n5.4. osa 3: Kuinka otan puheeksi ja tuen lopettamaan?
URL:https://www.filha.fi/koulutus/tietoa-tupakka-ja-nikotiinivieroituksesta-webinaarisarjan-osa-2-3/
END:VEVENT
BEGIN:VEVENT
DTSTART;TZID=Europe/Helsinki:20220330T100000
DTEND;TZID=Europe/Helsinki:20220330T150000
DTSTAMP:20260423T201327
CREATED:20211004T073708Z
LAST-MODIFIED:20220131T082115Z
UID:10068-1648634400-1648652400@www.filha.fi
SUMMARY:Koulutuspäivä erikoistuville lääkäreille tuberkuloosista\, virtuaalinen
DESCRIPTION:Paikka\nTeams-alusta. Linkki lähetetään ilmoittautuneille lähempänä koulutusta. \nKohderyhmä\nErikoistuvat keuhkolääkärit ja tuoreesti erikoistuneet keuhkolääkärit valtakunnallisesti. \nTavoite\nPäivittää tiedot tuberkuloosin diagnostiikasta ja hoidosta. Saada käsitys\, mitä keuhkolääkärin pitää tietää tuberkuloosista? \nOhjelma\nOhjelman pdf ( päivitetty 31.1.2022)  Koulutuspäivä tuberkuloosista erikoistuville keuhkolääkäreille\n10.00 Tervetuloa\n10.05 Tuberkuloosin epidemiologiaa\, Hanna Soini\, THL\n10.20 Tuberkuloosin taudinkuva\, Tuula Vasankari\, Filha\n10.30 Tuberkuloositaudin ja latentin tuberkuloosi-infektion diagnostiikka\, Tuuli Heinikari\, Filha\n11.00 Tauko\n11.10 Tuberkuloosin hoito TB-ohjelman mukaisesti\, Iiris Rajalahti Tays/Filha\n11.40 Lounas\n12.40 TB-Lääkeapuri –tuberkuloosin lääkehoidon seurannan työkalu\, Tuula Vasankari\n13.00 Monilääkeresistentin tuberkuloosin lääkehoito ja seuranta (sis. potilastapauksia)\, Tuula Vasankari\n13.40 Tauko\n13.45 TB-potilaiden videovalvottu hoito VOT\, Iiris Rajalahti\n14.10 Vertaistukea/tukimateriaalia sairastuneen ja altistuneen ohjaukseen\, Marianne Helander\, Filha\n14.25 Tuberkuloosin tartunnanjäljitys\, Hanna Soini\n14.45 Kysymyksiä ja vastauksia\n15.00 Koulutus päättyy \nJärjestäjä\nFilha ry \nErikoistumispisteet\nErikoistumispisteitä haetaan soveltuville erikoisaloille. \nOsallistumismaksu\nOsallistumismaksu on 60 €. \nIlmoittautuminen\nIlmoittautumisen yhteydessä kysytään laskutustietoja. Tarkistathan etukäteen\, että laskutustiedot ovat oikein. Laskutus tapahtuu jälkikäteen näiden tietojen pohjalta. \nIlmoittaudu viimeistään 28.3.2022.  Ilmoittautumislinkki \nPeruutusehdot\nViimeinen kuluton peruutuspäivä on viikkoa ennen koulutusta. Tämän jälkeen tulleista peruutuksista tai peruuttamatta jättämisistä veloitetaan täysi osallistumismaksu. Edellä mainittu ei koske sairastapauksia. \nLisätietoa\nSisältökysymykset: Tuula Vasankari ja Tuuli Heinikari\nJärjestelyt: Päivi Pyykkölä
URL:https://www.filha.fi/koulutus/koulutuspaiva-erikoistuville-laakareille-tuberkuloosista/
END:VEVENT
BEGIN:VEVENT
DTSTART;TZID=Europe/Helsinki:20220331T133000
DTEND;TZID=Europe/Helsinki:20220331T150000
DTSTAMP:20260423T201327
CREATED:20220117T132215Z
LAST-MODIFIED:20220124T143245Z
UID:11531-1648733400-1648738800@www.filha.fi
SUMMARY:Astmakoulutus hoitajille -webinaari osa 1
DESCRIPTION:Koulutuksen toteutus \nTeams-kokous. Linkki lähetetään sähköpostilla lähempänä koulutusta. Muista tarkistaa myös roskapostikansiosi. \nKohderyhmä \nHoitajat\, jotka kohtaavat työssään astmapotilaita ja hoitotyötä opiskelevat. \nOsallistumismaksu \nKoulutus on maksuton. \nOhjelma \nOhjelma pdf-versiona. Astmakoulutus hoitajille osa 1 \n13:30 Koulutuksen avaus; Krista Abdulla Hama Salih\, erityisasiantuntija\, Filha ry\n13:35 Astman huonon hoitotasapainon tunnistaminen; Tuuli Heinikari\, asiantuntijaylilääkäri\, Filha ry\n14:10 Yhteistyökumppanin puheenvuoro\n14:25 Astmapotilas ohjausvastaanotolla. Mitä huomioin; Krista Abdulla Hama Salih\n14:50 Keskustelua ja aikaa kysymyksille\n15:00 Koulutus päättyy \nIlmoittautuminen \nIlmoittautuminen on avoinna tästä linkistä. Ilmoittaudu viimeistään 30.3.2022. Linkki lähetetään ilmoittautuneille 31.3.2022 klo 9 mennessä. \nWebinaarin toinen osa järjestetään 27.4.2022. Tähän avataan erillinen ilmoittautuminen. Muistathan ilmoittautua\, sillä linkki lähetetään vain etukäteen ilmoittautuneille.
URL:https://www.filha.fi/koulutus/astmakoulutus-hoitajille-webinaari-osa-1/
END:VEVENT
END:VCALENDAR