BEGIN:VCALENDAR
VERSION:2.0
PRODID:-//Filha - ECPv6.15.20//NONSGML v1.0//EN
CALSCALE:GREGORIAN
METHOD:PUBLISH
X-WR-CALNAME:Filha
X-ORIGINAL-URL:https://www.filha.fi
X-WR-CALDESC:Tapahtumat Filha
REFRESH-INTERVAL;VALUE=DURATION:PT1H
X-Robots-Tag:noindex
X-PUBLISHED-TTL:PT1H
BEGIN:VTIMEZONE
TZID:Europe/Helsinki
BEGIN:DAYLIGHT
TZOFFSETFROM:+0200
TZOFFSETTO:+0300
TZNAME:EEST
DTSTART:20210328T010000
END:DAYLIGHT
BEGIN:STANDARD
TZOFFSETFROM:+0300
TZOFFSETTO:+0200
TZNAME:EET
DTSTART:20211031T010000
END:STANDARD
BEGIN:DAYLIGHT
TZOFFSETFROM:+0200
TZOFFSETTO:+0300
TZNAME:EEST
DTSTART:20220327T010000
END:DAYLIGHT
BEGIN:STANDARD
TZOFFSETFROM:+0300
TZOFFSETTO:+0200
TZNAME:EET
DTSTART:20221030T010000
END:STANDARD
BEGIN:DAYLIGHT
TZOFFSETFROM:+0200
TZOFFSETTO:+0300
TZNAME:EEST
DTSTART:20230326T010000
END:DAYLIGHT
BEGIN:STANDARD
TZOFFSETFROM:+0300
TZOFFSETTO:+0200
TZNAME:EET
DTSTART:20231029T010000
END:STANDARD
END:VTIMEZONE
BEGIN:VEVENT
DTSTART;VALUE=DATE:20220606
DTEND;VALUE=DATE:20220609
DTSTAMP:20260423T152823
CREATED:20210908T131406Z
LAST-MODIFIED:20220605T195242Z
UID:9781-1654473600-1654732799@www.filha.fi
SUMMARY:European Advanced Course on Clinical Tuberculosis 6-8 June 2022\, Helsinki
DESCRIPTION:Newsletter April 2022 \nThis year the European Advanced Course on Clinical Tuberculosis (EACCTB) will be held in Finland. \nThe course offers you an opportunity to access up-to-date knowledge in the field of clinical TB. The course topics include novelties in diagnosis TB and latent TB infection\, medication and treatment among special groups. The course faculty (Filha\, TBNET\, KNCV and Karolinska Institutet) has a comprehensive experience in the field of clinical TB\, and during the course you will have a possibility to ask\, discuss and network.\n \nVenue\nFinnish Institute for Health and Welfare (THL)\,\nMannerheimintie 166\, Helsinki (reception in building  A)\nhttps://thl.fi/en/web/thlfi-en/about-us/contact-us/welcome-to-tilkanmaki \nLanguage\nEnglish \nTarget group\nClinicians and allied professionals interested in TB\, public health officers (nurses)\, TB programme\npersonnel\, microbiologists \nOrganizers\nFilha (Finland)\, TBNET (Germany)\, KNCV (Netherlands) and Karolinska Institutet (Sweden) \nProgramme\nProgramme (pdf 30.5.2022)  EACCTB Programme \nProgramme at a glance EACCTB at a glance \nRegistration fee\nOnsite course fee is 450 € including coffee\, lunch and get-together (not including accommodation and travel)\nStudent fee is 250 €\nParticipants holding a Ukrainian passport will be exempt from the course fee. \n(Edit 25.5.) Online registration is open until 31.5.2022. Register here \nPayment methods\n\nOnline payment to customers of Finnish banks\nCredit card\nInvoice\n\nPostgraduate specialist training credits\nSpecialist training study credits for the course will be applied from the Helsinki University Faculty of Medicine.\nThere is no CME accreditation for this course. \nCertificates\nCertificate of attendance  will be provided on request. \nAccommodation\nAn open block reservation has been made for EACCTB participants from Scandic Park Helsinki. Make your room reservation by 26.5.2022. After that the unsold rooms will be released to free sale. \nScandic Park Helsinki\nMannerheimintie 46\n00260 Helsinki \nRoom rates standard \n164 eur/1 adult/night and 184 eur/2 adults/night \nRoom rates superior \n184 eur/1 adult/night and 204 eur/2 adults/night \nRoom rates include breakfast. \nBooking code BFIL060622 \nBook your room online here \nOr you can book by phone +358 300 308407  or email parkhelsinki@scandichotels.com \nPractical tips for travellers \nhttps://new.visitfinland.com/en/practical-tips/ \nhttps://www.myhelsinki.fi/ \nCancellation policy \nAttendees may cancel participation as long as Filha receives course cancellation confirmation greater than 5 working days prior to the course being scheduled. The attendee will receive a full refund of that course less a € 50 processing fee. \nAttendees may cancel participation 3 to 5 working days prior to the course being schedule and the attendee will receive a 50% refund of that course. \nAttendees canceling participation less than 3 working days prior of that course will be required to pay for the entire course fee. \nFilha is not responsible for fees incurred related to cancellation of travel expenses to include but not limited to airline\, rental car\, and/or hotel reservations. \nHashtag in social media\n#EACCTB2022
URL:https://www.filha.fi/koulutus/european-advanced-course-on-clinical-tuberculosis-6-8-june-2022-helsinki/
END:VEVENT
END:VCALENDAR