BEGIN:VCALENDAR
VERSION:2.0
PRODID:-//Filha - ECPv6.15.20//NONSGML v1.0//EN
CALSCALE:GREGORIAN
METHOD:PUBLISH
X-WR-CALNAME:Filha
X-ORIGINAL-URL:https://www.filha.fi
X-WR-CALDESC:Tapahtumat Filha
REFRESH-INTERVAL;VALUE=DURATION:PT1H
X-Robots-Tag:noindex
X-PUBLISHED-TTL:PT1H
BEGIN:VTIMEZONE
TZID:Europe/Helsinki
BEGIN:DAYLIGHT
TZOFFSETFROM:+0200
TZOFFSETTO:+0300
TZNAME:EEST
DTSTART:20210328T010000
END:DAYLIGHT
BEGIN:STANDARD
TZOFFSETFROM:+0300
TZOFFSETTO:+0200
TZNAME:EET
DTSTART:20211031T010000
END:STANDARD
BEGIN:DAYLIGHT
TZOFFSETFROM:+0200
TZOFFSETTO:+0300
TZNAME:EEST
DTSTART:20220327T010000
END:DAYLIGHT
BEGIN:STANDARD
TZOFFSETFROM:+0300
TZOFFSETTO:+0200
TZNAME:EET
DTSTART:20221030T010000
END:STANDARD
BEGIN:DAYLIGHT
TZOFFSETFROM:+0200
TZOFFSETTO:+0300
TZNAME:EEST
DTSTART:20230326T010000
END:DAYLIGHT
BEGIN:STANDARD
TZOFFSETFROM:+0300
TZOFFSETTO:+0200
TZNAME:EET
DTSTART:20231029T010000
END:STANDARD
END:VTIMEZONE
BEGIN:VEVENT
DTSTART;TZID=Europe/Helsinki:20221004T083000
DTEND;TZID=Europe/Helsinki:20221004T150000
DTSTAMP:20260423T085042
CREATED:20220208T151513Z
LAST-MODIFIED:20220829T061757Z
UID:11880-1664872200-1664895600@www.filha.fi
SUMMARY:Alueellinen keuhko- ja allergiapäivä\, Kajaani
DESCRIPTION:Alueellinen koulutus Kainuun soten kanssa yhteistyössä. \nPaikka \nKainuun keskussairaala\, luentosali F4\, Sotkamontie 13 \nKohderyhmät \nPerusterveydenhuollon lääkärit ja hoitajat\, terveydenhoitajat ja lastentautien\, keuhkosairauksien\, ihotautien\, korva-\, nenä- ja kurkkutautien lääkärit ja hoitajat\, työterveyshuollon lääkärit ja hoitajat\, ravitsemusterapeutit\, apteekkien henkilöstö sekä kaikki asiasta kiinnostuneet terveydenhuollon ammattilaiset \nIlmoittautuminen\n Kainuun soten henkilöstö ilmoittautuu eTyöpöydän koulutuskalenterin kautta\, muut sähköpostilla: koulutus @kainuu.fi \nOhjelma \nOhjelmalinkki Kajaani_alueellinen_keuhko- ja allergiapäivä_041022
URL:https://www.filha.fi/koulutus/alueellinen-keuhko-ja-allergiapaiva-kajaani/
END:VEVENT
BEGIN:VEVENT
DTSTART;TZID=Europe/Helsinki:20221005T133000
DTEND;TZID=Europe/Helsinki:20221005T150000
DTSTAMP:20260423T085042
CREATED:20220407T141708Z
LAST-MODIFIED:20220824T165746Z
UID:12439-1664976600-1664982000@www.filha.fi
SUMMARY:Tietoa tupakka- ja nikotiinivieroituksesta -webinaarisarjan osa 2
DESCRIPTION:Tietoa tupakka- ja nikotiinivieroituksesta webinaarisarjassa käydään läpi perusasiat liittyen tupakoinnin terveyshaittoihin\, tupakka- ja nikotiiniriippuvuuteen\, uusiin nikotiinituotteisiin sekä nikotiiniriippuvuuden hoitoon. Webinaarisarjan viimeisessä koulutuksessa erityisteemana on puheeksiotto\, motivoiva keskustelu sekä verkosta löytyvät apuvälineet vieroitustyön tueksi. Suosittelemme osallistumista koko webinaarisarjaan\, mutta on myös mahdollista ilmoittautua yksittäisin koulutuksiin. Webinaarisarja soveltuu erityisesti uusille tupakastavieroitustyötä tekeville\, mutta myös kertauksena kokeneemmille vieroittajille. \nWebinaarisarja on uusinta keväältä 2022. \nOsa 2: Tupakka- ja nikotiiniriippuvuuden hoito\nToteutus\nWebinaari toteutetaan Teams-kokouksena. Koulutuksesta ei tehdä tallennetta\, mutta webinaarisarja uusitaan myöhemmin. Linkki koulutukseen lähetetään ilmoittautuneille lähempänä koulutusta. \nKohderyhmä\nSosiaali- ja terveydenhuollon ammattilaiset \nOsallistumismaksu\nWebinarin osallistumismaksu on 40 € / yksi webinaari\, 70 € / kaksi webinaaria ja 100 € / kaikki kolme webinaaria\nKolmen webinaarin kokonaisuus on mahdollista valita myös isommalle osallistujajoukolle. Organisaatiohinta on 500 € / organisaatio. \nOrganisaatiohinnassa ei osallistujien määrää ole rajattu\, mutta huomioi seuraava: \nOrganisaatiohinta on toimipaikkakohtainen. Julkisten terveyspalvelujen ollessa kyseessä\, organisaatiolla tarkoitetaan yksittäistä terveysasemaa\, kaupungin hyvinvointipalveluiden yhtä osaa\, kuten neuvolapalveluita tai erikoissairaanhoidon yhden sairaalan klinikkaa. \nOhjelma\n13.30-14.00 Tupakka- ja nikotiiniriippuvuuden hoito Käypä hoito -suosituksen mukaisesti; Patrick Sandström\, erityisasiantuntija\, Filha \n14.00-14.50 Nikotiinikorvaushoito ja reseptilääkkeet käytännön vieroitustyössä; Päivi Grönroos\, tupakastavieroitushoitaja\, Tyks\n \n14.50-15.00 Keskustelu \nKatso tästä tiedostosta koko webinaarisarjan ohjelmat. Tupakka ja nikotiinivieroituksesta –webinaarit 1-3 \nIlmoittautuminen\nIlmoittautumisen yhteydessä kysytään laskutustietoja. Tarkistathan etukäteen\, että laskutustiedot ovat oikein. Laskutus tapahtuu jälkikäteen näiden tietojen pohjalta. \nIlmoittautumislinkki webinaarisarjaan \nOrganisaatiohinnan valitseville tiedoksi\, että vain yksi henkilö/organisaatio ilmoittautuu. Linkki webinaariin lähetetään ilmoittautujan sähköpostiin. \nPeruutusehdot\nViimeinen kuluton peruutuspäivä on viikkoa ennen koulutusta. Tämän jälkeen tulleista peruutuksista tai peruuttamatta jättämisistä veloitetaan täysi osallistumismaksu. Edellä mainittu ei koske sairastapauksia. \nMuut sarjan webinaarit\n14.9. osa 1: Terveyshaitat ja riippuvuus \n26.10. osa 3: Kuinka otan puheeksi ja tuen lopettamaan?
URL:https://www.filha.fi/koulutus/tietoa-tupakka-ja-nikotiinivieroituksesta-webinaarisarjan-osa-2-4/
END:VEVENT
BEGIN:VEVENT
DTSTART;TZID=Europe/Helsinki:20221013T133000
DTEND;TZID=Europe/Helsinki:20221013T150000
DTSTAMP:20260423T085042
CREATED:20220428T153238Z
LAST-MODIFIED:20221012T082052Z
UID:12545-1665667800-1665673200@www.filha.fi
SUMMARY:Keuhkoahtaumatautikoulutus hoitajille -webinaarisarja osa 1
DESCRIPTION:Koulutuksen toteutus \nTeams-kokous. Linkki lähetetään sähköpostilla lähempänä koulutusta.\nLinkki on lähetetty 12.10. aamupäivällä. Ole yhteydessä\, jos viesti ei ole tullut perille.\nTarkistathan myös roskapostikansion! \nKohderyhmä \nHoitajat\, jotka kohtaavat työssään keuhkoahtaumapotilaita ja hoitotyötä opiskelevat. \nOhjelma \nOhjelman pdf-versio (10.8.22) ladattavissa tästä COPD-koulutus hoitajille 131022 \n13:30 Koulutuksen avaus\nKrista Abdulla Hama Salih\, erityisasiantuntija\, Filha ry \n13:35 COPD:n lääkehoito\nTuuli Heinikari\, asiantuntijaylilääkäri\, Filha ry \n14:20 Yhteistyökumppanin puheenvuoro \n14:35 Lääkehoidon ohjaus – mitä huomioin\nKrista Abdulla Hama Salih \n14:50 Keskustelua ja aikaa kysymyksille \n15:00 Koulutus päättyy \nIlmoittautuminen \nIlmoittautuminen ti 11.10. mennessä. Ilmoittaudu webinaariin tästä linkistä \nOsallistumismaksu \nWebinaari on maksuton
URL:https://www.filha.fi/koulutus/keuhkoahtaumatautikoulutus-hoitajille-webinaarisarja-osa-1-2/
END:VEVENT
BEGIN:VEVENT
DTSTART;TZID=Europe/Helsinki:20221026T133000
DTEND;TZID=Europe/Helsinki:20221026T150000
DTSTAMP:20260423T085042
CREATED:20220407T143442Z
LAST-MODIFIED:20221024T181604Z
UID:12443-1666791000-1666796400@www.filha.fi
SUMMARY:Tietoa tupakka- ja nikotiinivieroituksesta -webinaarisarjan osa 3
DESCRIPTION:Tietoa tupakka- ja nikotiinivieroituksesta webinaarisarjassa käydään läpi perusasiat liittyen tupakoinnin terveyshaittoihin\, tupakka- ja nikotiiniriippuvuuteen\, uusiin nikotiinituotteisiin sekä nikotiiniriippuvuuden hoitoon. Webinaarisarjan viimeisessä koulutuksessa erityisteemana on puheeksiotto\, motivoiva keskustelu sekä verkosta löytyvät apuvälineet vieroitustyön tueksi. Suosittelemme osallistumista koko webinaarisarjaan\, mutta on myös mahdollista ilmoittautua yksittäisin koulutuksiin. Webinaarisarja soveltuu erityisesti uusille tupakastavieroitustyötä tekeville\, mutta myös kertauksena kokeneemmille vieroittajille. \nWebinaarisarja on uusinta keväältä 2022. \nOsa 3: Kuinka otan tupakka- ja nikotiinituotteet puheeksi ja tuen lopettamaan\nToteutus\nWebinaari toteutetaan Teams-kokouksena. Koulutuksesta ei tehdä tallennetta\, mutta webinaarisarja uusitaan myöhemmin. Linkki koulutukseen lähetetään ilmoittautuneille lähempänä koulutusta. \nKohderyhmä\nSosiaali- ja terveydenhuollon ammattilaiset \nOsallistumismaksu\nWebinarin osallistumismaksu on 40 € / yksi webinaari\, 70 € / kaksi webinaaria ja 100 € / kaikki kolme webinaaria\nKolmen webinaarin kokonaisuus on mahdollista valita myös isommalle osallistujajoukolle. Organisaatiohinta on 500 € / organisaatio. \nOrganisaatiohinnassa ei osallistujien määrää ole rajattu\, mutta huomioi seuraava: \nOrganisaatiohinta on toimipaikkakohtainen. Julkisten terveyspalvelujen ollessa kyseessä\, organisaatiolla tarkoitetaan yksittäistä terveysasemaa\, kaupungin hyvinvointipalveluiden yhtä osaa\, kuten neuvolapalveluita tai erikoissairaanhoidon yhden sairaalan klinikkaa. \nOhjelma\n13.30-13.50 Kuinka otan tupakoinnin puheeksi? Patrick Sandström\, erityisasiantuntija\, Filha ry \n13.50-14.20 Motivoiva keskustelu; Krista Abdulla Hama Salih\, erityisasiantuntija\, Filha ry \n14.20-14.50 Miten hyödynnän erilaisia työkaluja vieroitustyössä; Patrick Sandström\, erityisasiantuntija\, Filha ry \n14.50-15.00 Keskustelu \nKatso tästä tiedostosta koko webinaarisarjan ohjelmat. Tupakka ja nikotiinivieroituksesta –webinaarit 1-3 \nIlmoittautuminen\nIlmoittautumisen yhteydessä kysytään laskutustietoja. Tarkistathan etukäteen\, että laskutustiedot ovat oikein. Laskutus tapahtuu jälkikäteen näiden tietojen pohjalta. \nIlmoittautumislinkki webinaarisarjaan \nOrganisaatiohinnan valitseville tiedoksi\, että vain yksi henkilö/organisaatio ilmoittautuu. Linkki webinaariin lähetetään ilmoittautujan sähköpostiin. \nPeruutusehdot\nViimeinen kuluton peruutuspäivä on viikkoa ennen koulutusta. Tämän jälkeen tulleista peruutuksista tai peruuttamatta jättämisistä veloitetaan täysi osallistumismaksu. Edellä mainittu ei koske sairastapauksia. \nMuut sarjan webinaarit\n14.9. osa 1: Terveyshaitat ja riippuvuus \n26.10. osa 2: Tupakka- ja nikotiiniriippuvuuden hoito
URL:https://www.filha.fi/koulutus/tietoa-tupakka-ja-nikotiinivieroituksesta-webinaarisarjan-osa-3-4/
END:VEVENT
END:VCALENDAR