BEGIN:VCALENDAR
VERSION:2.0
PRODID:-//Filha - ECPv6.15.20//NONSGML v1.0//EN
CALSCALE:GREGORIAN
METHOD:PUBLISH
X-ORIGINAL-URL:https://www.filha.fi
X-WR-CALDESC:Tapahtumat Filha
REFRESH-INTERVAL;VALUE=DURATION:PT1H
X-Robots-Tag:noindex
X-PUBLISHED-TTL:PT1H
BEGIN:VTIMEZONE
TZID:Europe/Helsinki
BEGIN:DAYLIGHT
TZOFFSETFROM:+0200
TZOFFSETTO:+0300
TZNAME:EEST
DTSTART:20220327T010000
END:DAYLIGHT
BEGIN:STANDARD
TZOFFSETFROM:+0300
TZOFFSETTO:+0200
TZNAME:EET
DTSTART:20221030T010000
END:STANDARD
BEGIN:DAYLIGHT
TZOFFSETFROM:+0200
TZOFFSETTO:+0300
TZNAME:EEST
DTSTART:20230326T010000
END:DAYLIGHT
BEGIN:STANDARD
TZOFFSETFROM:+0300
TZOFFSETTO:+0200
TZNAME:EET
DTSTART:20231029T010000
END:STANDARD
BEGIN:DAYLIGHT
TZOFFSETFROM:+0200
TZOFFSETTO:+0300
TZNAME:EEST
DTSTART:20240331T010000
END:DAYLIGHT
BEGIN:STANDARD
TZOFFSETFROM:+0300
TZOFFSETTO:+0200
TZNAME:EET
DTSTART:20241027T010000
END:STANDARD
END:VTIMEZONE
BEGIN:VEVENT
DTSTART;TZID=Europe/Helsinki:20230209T133000
DTEND;TZID=Europe/Helsinki:20230209T150000
DTSTAMP:20260423T030401
CREATED:20220823T162641Z
LAST-MODIFIED:20230206T070905Z
UID:17658-1675949400-1675954800@www.filha.fi
SUMMARY:Tietoa tupakka- ja nikotiinivieroituksesta -webinaarisarjan osa 1
DESCRIPTION:Tietoa tupakka- ja nikotiinivieroituksesta webinaarisarjassa käydään läpi perusasiat liittyen tupakoinnin terveyshaittoihin\, tupakka- ja nikotiiniriippuvuuteen\, uusiin nikotiinituotteisiin sekä nikotiiniriippuvuuden hoitoon. Webinaarisarjan viimeisessä koulutuksessa erityisteemana on puheeksiotto\, motivoiva keskustelu sekä verkosta löytyvät apuvälineet vieroitustyön tueksi. Suosittelemme osallistumista koko webinaarisarjaan\, mutta on myös mahdollista ilmoittautua yksittäisin koulutuksiin. Webinaarisarja soveltuu erityisesti uusille tupakastavieroitustyötä tekeville\, mutta myös kertauksena kokeneemmille vieroittajille. \nWebinaarisarja on uusinta syksyltä 2022. \nOsa 1: Terveyshaitat ja riippuvuus\nToteutus\nWebinaari toteutetaan Teams-kokouksena. Koulutuksesta ei tehdä tallennetta\, mutta webinaarisarja uusitaan myöhemmin. Linkki koulutukseen lähetetään ilmoittautuneille lähempänä webinaaria. \nKohderyhmä\nSosiaali- ja terveydenhuollon ammattilaiset \nOsallistumismaksu\nWebinarin osallistumismaksu on 40 € / yksi webinaari\, 70 € / kaksi webinaaria ja 100 € / kaikki kolme webinaaria\nKolmen webinaarin kokonaisuus on mahdollista valita myös isommalle osallistujajoukolle. Organisaatiohinta on 500 € / organisaatio. \nOrganisaatiohinnassa ei osallistujien määrää ole rajattu\, mutta huomioi seuraava: \nOrganisaatiohinta on toimipaikkakohtainen. Julkisten terveyspalvelujen ollessa kyseessä\, organisaatiolla tarkoitetaan yksittäistä terveysasemaa\, kaupungin hyvinvointipalveluiden yhtä osaa\, kuten neuvolapalveluita tai erikoissairaanhoidon yhden sairaalan klinikkaa. \nOhjelma\n13.30-14.10 Tupakoinnin ja nikotiinin terveyshaitat; Krista Abdulla Hama Salih\, erityisasiantuntija\, Filha \n14.10-14.50 Tupakka- ja nikotiiniriippuvuus sekä uudet nikotiinituotteet\, Patrick Sandström\, erityisasiantuntija\, Filha \n14.50-15.00 Keskustelu \nKatso tästä tiedostosta koko webinaarisarjan ohjelmat. Tupakka ja nikotiinivieroituksesta –webinaarit 1-3 \nIlmoittautuminen\nilmoittautuminen viimeistään ti 7.2. mennessä. Ilmoittautumisen yhteydessä kysytään laskutustietoja. Tarkistathan etukäteen\, että laskutustiedot ovat oikein. Laskutus tapahtuu jälkikäteen näiden tietojen pohjalta. \nIlmoittautumislinkki webinaariin\n \nOrganisaatiohinnan valitseville tiedoksi\, että vain yksi henkilö/organisaatio ilmoittautuu. Linkki webinaariin lähetetään ilmoittautujan sähköpostiin. \nPeruutusehdot\nViimeinen kuluton peruutuspäivä on viikkoa ennen koulutusta. Tämän jälkeen tulleista peruutuksista tai peruuttamatta jättämisistä veloitetaan täysi osallistumismaksu. Edellä mainittu ei koske sairastapauksia. \nMuut sarjan webinaarit\n21.3.2023 Osa 2: Tupakka- ja nikotiiniriippuvuuden hoito \n20.4.2023 Osa 3: Kuinka otan tupakka- ja nikotiinituotteet puheeksi ja tuen lopettamaan
URL:https://www.filha.fi/koulutus/tietoa-tupakka-ja-nikotiinivieroituksesta-webinaarisarjan-osa-1-5/
END:VEVENT
BEGIN:VEVENT
DTSTART;VALUE=DATE:20230214
DTEND;VALUE=DATE:20230215
DTSTAMP:20260423T030402
CREATED:20220818T153031Z
LAST-MODIFIED:20221117T193929Z
UID:17629-1676332800-1676419199@www.filha.fi
SUMMARY:Alueellinen keuhko- ja allergiapäivä\, Kokkola
DESCRIPTION:Alueellinen terveydenhuollon lähikoulutus yhteistyössä Filhan ja Soiten kanssa. \nPaikka\nSoite\, Kokkola\, keskussairaalan auditorio \nKohderyhmät\nPerusterveydenhuollon lääkärit ja hoitajat\, terveydenhoitajat ja lastentautien\, keuhkosairauksien\, ihotautien\, korva-\, nenä- ja kurkkutautien lääkärit ja hoitajat\, työterveyshuollon lääkärit ja hoitajat\, ravitsemusterapeutit\, apteekkien astmayhdyshenkilöt sekä kaikki asiasta kiinnostuneet terveydenhuollon ammattilaiset. \nOhjelma\nOhjelma (pdf 17.11.2022) Kokkola_astma_allergiakoulutus_140223 \n08:30 Aamukahvit ja näyttelyyn tutustuminen\n09:15 Koulutuksen avaus\, tervetulosanat\, Hanna Rinne\, keuhkosairauksien ylilääkäri\, Soite\n09:30 Komponenttidiagnostiikkaa\, milloin ja miten? Miia Aro\, asiantuntijaylilääkäri\, Filha ry\n10:00 Siedätyshoidolla helpotusta siitepölyallergiaan Krista Abdulla Hama Salih\, erityisasiantuntija\, Filha ry\n10:30 Astman uusi käypä hoito – mikä muuttui? Hanna Rinne\n11:15 Lounas (omakustanteinen)\n12:15 Astmaatikko hoitajan vastaanotolla\nElisa Häkkilä\, sairaanhoitaja\, Soite\, keuhkosairauksien pkl\n Eija Tapaninen\, sairaanhoitaja\, Soite\, perusterveydenhuollon yksikkö\n12:45 Uniapneapotilaan (digi)hoitopolku Soitessa\nMarkku Keski-Rahkonen\, uniapneahoitaja\, Soite keuhkosairauksien pkl\nAnne Rahkola-Nissilä\, sairaanhoitaja\, Soite\, perusterveydenhuollon yksikkö\n13:15 Ajoterveysedellytykset uniapneapotilaalla\, Marja Palomäki\, osastonylilääkäri\, Soite\n13:45 Iltapäivän kahvit ja näyttelyyn tutustuminen\n14:15 Akuutin ja kroonisen keuhkopotilaan kuntoutus\, Herkko Ryynänen\, Fysioterapeutti TtM\, Filha ry\n14:15 Mitä uutta Filhassa ammattilaisille\, Krista Abdulla Hama Salih\n15:00 Keskustelua\, kysymyksiä ja seuraavasta koulutuksesta sopiminen\n15:30 Tilaisuus päättyy. Hyvää kotimatkaa! \nOsallistumismaksu\nKoulutus on maksuton. \nIlmoittautuminen\nSoitelaiset ilmoittautuvat Soiten koulutuskalenterin kautta\, muut Soiten julkisen koulutuskalenterin kautta. Huom. julkisen kalenterin käyttäjäksi tulee ensin rekisteröityä! Julkinen koulutuskalenteri löytyy osoitteesta: \nhttps://hrmpublic.services.plat.fi/kpshpPublicTraining/public?PAGE=PublicTrainingCalendar \n                            
URL:https://www.filha.fi/koulutus/alueellinen-keuhko-ja-allergiapaiva-kokkola/
END:VEVENT
END:VCALENDAR