BEGIN:VCALENDAR
VERSION:2.0
PRODID:-//Filha - ECPv6.15.20//NONSGML v1.0//EN
CALSCALE:GREGORIAN
METHOD:PUBLISH
X-WR-CALNAME:Filha
X-ORIGINAL-URL:https://www.filha.fi
X-WR-CALDESC:Tapahtumat Filha
REFRESH-INTERVAL;VALUE=DURATION:PT1H
X-Robots-Tag:noindex
X-PUBLISHED-TTL:PT1H
BEGIN:VTIMEZONE
TZID:Europe/Helsinki
BEGIN:DAYLIGHT
TZOFFSETFROM:+0200
TZOFFSETTO:+0300
TZNAME:EEST
DTSTART:20220327T010000
END:DAYLIGHT
BEGIN:STANDARD
TZOFFSETFROM:+0300
TZOFFSETTO:+0200
TZNAME:EET
DTSTART:20221030T010000
END:STANDARD
BEGIN:DAYLIGHT
TZOFFSETFROM:+0200
TZOFFSETTO:+0300
TZNAME:EEST
DTSTART:20230326T010000
END:DAYLIGHT
BEGIN:STANDARD
TZOFFSETFROM:+0300
TZOFFSETTO:+0200
TZNAME:EET
DTSTART:20231029T010000
END:STANDARD
BEGIN:DAYLIGHT
TZOFFSETFROM:+0200
TZOFFSETTO:+0300
TZNAME:EEST
DTSTART:20240331T010000
END:DAYLIGHT
BEGIN:STANDARD
TZOFFSETFROM:+0300
TZOFFSETTO:+0200
TZNAME:EET
DTSTART:20241027T010000
END:STANDARD
END:VTIMEZONE
BEGIN:VEVENT
DTSTART;TZID=Europe/Helsinki:20230418T123000
DTEND;TZID=Europe/Helsinki:20230418T150000
DTSTAMP:20260423T001009
CREATED:20220930T160850Z
LAST-MODIFIED:20230329T115140Z
UID:17992-1681821000-1681830000@www.filha.fi
SUMMARY:Keuhkosyöpäkoulutus hoitotyön ammattilaisille
DESCRIPTION:Paikka \nWebinaari Teams-alustalla. Linkki lähetetään ilmoittautuneille sähköpostiin lähempänä koulutusta. \nKohderyhmä \nHoitotyötä tekevät ja keuhkosyöpäpotilaita työssään kohtaavat hoitotyön ammattilaiset. \nHinta \nOsallistumismaksu on 30 €.\nOrganisaatiohinta on 400 € (esim. yksi hoitoyksikkö).\nHoitotyön opiskelijat 0 €.\nLuennoitsija 0 €. \nIlmoittautuminen \nIlmoittaudu viimeistään 17.4.2023 klo 22:00.\nIlmoittautuminen: https://ssl.eventilla.com/event/aqy47 \nVarmistathan\, että saat ilmoittautumisesta vahvistusviestin  sähköpostiisi. Tarkista tarvittaessa myös roskaposti. Mikäli et saa vahvistusviestiä\, otathan yhteyttä koulutuksen yhteyshenkilöön\, kiitos! \nOhjelma \nLataa ohjelma tästä: Keuhkosyöpäkoulutus hoitotyön ammattilaisille. \n12.30–12.35 Tervehdyssanat\, Krista Abdulla Hama Salih\, erityisasiantuntija \n12.35–13.00 Kannattaako keuhkosyöpää seuloa? Miia Aro\, asiantuntijaylilääkäri\, keuhkosairauksien erikoislääkäri \n13.00–13.30 Keuhkosyöpä – mitä uutta? Tuula Vasankari\, professori\, keuhkosairauksien erikoislääkäri \n13.30–13.35 Kysymyksiä ja kommentteja \n13.35–13.45 Koulutuksen tukijan AstraZenecan puheenvuoro \n13.45–14.15 Potilaan aito ymmärtäminen käytännössä\, psykologin näkökulma kohtaamiseen\, Jukka Oksanen\, psykologi \n14.15–14.45 Keuhkosyövän vaikutukset potilaan arjessa – Miten huomioin ohjauksessa\, Heli Granlund\, hankevastaava (Valtakunnallinen keuhkosyöpäohjelma) \n14.45–15.00 Keskustelu ja loppusanat\, Krista Abdulla Hama Salih
URL:https://www.filha.fi/koulutus/keuhkosyopawebinaari-hoitajille/
END:VEVENT
BEGIN:VEVENT
DTSTART;TZID=Europe/Helsinki:20230420T133000
DTEND;TZID=Europe/Helsinki:20230420T150000
DTSTAMP:20260423T001009
CREATED:20220823T163246Z
LAST-MODIFIED:20230330T061758Z
UID:17664-1681997400-1682002800@www.filha.fi
SUMMARY:Tietoa tupakka- ja nikotiinivieroituksesta -webinaarisarjan osa 3
DESCRIPTION:Tietoa tupakka- ja nikotiinivieroituksesta webinaarisarjassa käydään läpi perusasiat liittyen tupakoinnin terveyshaittoihin\, tupakka- ja nikotiiniriippuvuuteen\, uusiin nikotiinituotteisiin sekä nikotiiniriippuvuuden hoitoon. Webinaarisarjan viimeisessä koulutuksessa erityisteemana on puheeksiotto\, motivoiva keskustelu sekä verkosta löytyvät apuvälineet vieroitustyön tueksi. Suosittelemme osallistumista koko webinaarisarjaan\, mutta on myös mahdollista ilmoittautua yksittäisin koulutuksiin. Webinaarisarja soveltuu erityisesti uusille tupakastavieroitustyötä tekeville\, mutta myös kertauksena kokeneemmille vieroittajille. \nWebinaarisarja on uusinta syksyltä 2022. \nOsa 3: Kuinka otan tupakka- ja nikotiinituotteet puheeksi ja tuen lopettamaan\nToteutus\nWebinaari toteutetaan Teams-kokouksena. Koulutuksesta ei tehdä tallennetta\, mutta webinaarisarja uusitaan myöhemmin. Linkki koulutukseen lähetetään ilmoittautuneille lähempänä koulutusta. \nKohderyhmä\nSosiaali- ja terveydenhuollon ammattilaiset \nOsallistumismaksu\nWebinarin osallistumismaksu on 40 € / yksi webinaari\, 70 € / kaksi webinaaria ja 100 € / kaikki kolme webinaaria\nKolmen webinaarin kokonaisuus on mahdollista valita myös isommalle osallistujajoukolle. Organisaatiohinta on 500 € / organisaatio. \nOrganisaatiohinnassa ei osallistujien määrää ole rajattu\, mutta huomioi seuraava: \nOrganisaatiohinta on toimipaikkakohtainen. Julkisten terveyspalvelujen ollessa kyseessä\, organisaatiolla tarkoitetaan yksittäistä terveysasemaa\, kaupungin hyvinvointipalveluiden yhtä osaa\, kuten neuvolapalveluita tai erikoissairaanhoidon yhden sairaalan klinikkaa. \nOhjelma\n13.30-13.50 Kuinka otan tupakoinnin puheeksi? Patrick Sandström\, erityisasiantuntija\, Filha ry \n13.50-14.20 Motivoiva keskustelu; Krista Abdulla Hama Salih\, erityisasiantuntija\, Filha ry \n14.20-14.50 Miten hyödynnän erilaisia työkaluja vieroitustyössä; Patrick Sandström\, erityisasiantuntija\, Filha ry \n14.50-15.00 Keskustelu \nKatso tästä tiedostosta koko webinaarisarjan ohjelmat. Tupakka ja nikotiinivieroituksesta –webinaarit 1-3 \nIlmoittautuminen\nilmoittautuminen viimeistään ti 18.4. Ilmoittautumisen yhteydessä kysytään laskutustietoja. Tarkistathan etukäteen\, että laskutustiedot ovat oikein. Laskutus tapahtuu jälkikäteen näiden tietojen pohjalta. \nilmoittautumislinkki webinaariin\n \nVarmistathan\, että saat ilmoittautumisesta vahvistusviestin sähköpostiisi. Tarkista tarvittaessa myös roskaposti. Mikäli et saa vahvistusviestiä\, otathan yhteyttä koulutuksen yhteyshenkilöön\, kiitos! \nOrganisaatiohinnan valitseville tiedoksi\, että vain yksi henkilö/organisaatio ilmoittautuu. Linkki webinaariin lähetetään ilmoittautujan sähköpostiin. \nPeruutusehdot\nViimeinen kuluton peruutuspäivä on viikkoa ennen koulutusta. Tämän jälkeen tulleista peruutuksista tai peruuttamatta jättämisistä veloitetaan täysi osallistumismaksu. Edellä mainittu ei koske sairastapauksia. \nMuut sarjan webinaarit\n9.2.2023 osa 1: Terveyshaitat ja riippuvuus \n21.3.2023 osa 2: Tupakka- ja nikotiiniriippuvuuden hoito
URL:https://www.filha.fi/koulutus/tietoa-tupakka-ja-nikotiinivieroituksesta-webinaarisarjan-osa-3-5/
END:VEVENT
BEGIN:VEVENT
DTSTART;TZID=Europe/Helsinki:20230425T083000
DTEND;TZID=Europe/Helsinki:20230425T153000
DTSTAMP:20260423T001009
CREATED:20230119T130043Z
LAST-MODIFIED:20230126T142743Z
UID:19959-1682411400-1682436600@www.filha.fi
SUMMARY:Astma-\, allergia- ja uniapneakoulutus Etelä-Savon hyvinvointialueella (Eloisa)
DESCRIPTION:Aika: 25.4.2023 \nPaikka: Mikkeli\, Keskussairaalan auditorio. Porrassalmenkatu 35–37. Etäosallistuminen mahdollinen pitkämatkalaisille. \nKohderyhmät: Perusterveydenhuollon lääkärit ja hoitajat\, terveydenhoitajat ja lastentautien\, keuhkosairauksien\, ihotautien\, korva-\, nenä- ja kurkkutautien lääkärit ja hoitajat\, työterveyshuollon lääkärit ja hoitajat\, ravitsemusterapeutit\, apteekkien astmayhdyshenkilöt sekä kaikki asiasta kiinnostuneet terveydenhuollon ammattilaiset. Koulutus on maksuton. \nOhjeet ilmoittautumiseen\nEloisan työntekijät \n1. Ilmoittaudu viimeistään 14.4. osoitteessa https://link.webropolsurveys.com/S/CC270CB58BF26370 \n2. Käy tekemässä myös Hakemus ulkopuoliseen koulutukseen OSS-järjestelmän kautta. Ennen koulutukseen hakeutumista keskustele kuitenkin ensin esihenkilösi kanssa. \nMuut osallistujat \nIlmoittaudu viimeistään 14.4. osoitteessa https://link.webropolsurveys.com/S/CC270CB58BF26370\n \nOHJELMA \n9:00 Aamukahvi ja näyttelyyn tutustuminen \n9:30 Koulutuksen avaus \nNiina Hyöppinen\, koulutussuunnittelija\, Eloisa \n9:40 Mitä uutta Filhassa ammattilaisille \nKrista Abdulla Hama Salih\, erityisasiantuntija\, Filha ry \n10:00 Perustason allergiaselvittelyt ja milloin katsotaan komponentit? \nAntti Saarinen\, asiantuntijaylilääkäri\, Filha ry \n10:45 Allergisen astmaatikon ohjaus \nLaura Skön\, sairaanhoitaja ja Anne Kesänen\, sairaanhoitaja\, Eloisa \n11:15 Lounas (omakustanteinen) ja näyttelyyn tutustuminen \n12:15 Astman uusi käypä hoito – mikä muuttui? \nAnssi Ukkonen\, ylilääkäri\, keuhkosairauksien vastaanotto\, Eloisa \n13:00 Iltapäivän kahvi ja näyttelyyn tutustuminen \n13:30 Uniapnea – miten diagnosoin ja hoidan \nAntti Saarinen\, asiantuntijaylilääkäri\, Filha ry \n14:15 Uniapneaa sairastavan elintapaohjaus \nMarko Pirskanen\, sairaanhoitaja\, elintapaohjaaja\, Eloisa \n15:00 Keskustelua koulutuksen teemoista ja seuraavasta koulutuksesta sopiminen \n15:30 Tilaisuus päättyy. Hyvää kotimatkaa. \nLämpimästi tervetuloa! \nKoulutuksen ohjelma (pdf)
URL:https://www.filha.fi/koulutus/astma-allergia-upiapnea-eloisa-2023-04-25/
END:VEVENT
END:VCALENDAR