BEGIN:VCALENDAR
VERSION:2.0
PRODID:-//Filha - ECPv6.15.20//NONSGML v1.0//EN
CALSCALE:GREGORIAN
METHOD:PUBLISH
X-WR-CALNAME:Filha
X-ORIGINAL-URL:https://www.filha.fi
X-WR-CALDESC:Tapahtumat Filha
REFRESH-INTERVAL;VALUE=DURATION:PT1H
X-Robots-Tag:noindex
X-PUBLISHED-TTL:PT1H
BEGIN:VTIMEZONE
TZID:Europe/Helsinki
BEGIN:DAYLIGHT
TZOFFSETFROM:+0200
TZOFFSETTO:+0300
TZNAME:EEST
DTSTART:20220327T010000
END:DAYLIGHT
BEGIN:STANDARD
TZOFFSETFROM:+0300
TZOFFSETTO:+0200
TZNAME:EET
DTSTART:20221030T010000
END:STANDARD
BEGIN:DAYLIGHT
TZOFFSETFROM:+0200
TZOFFSETTO:+0300
TZNAME:EEST
DTSTART:20230326T010000
END:DAYLIGHT
BEGIN:STANDARD
TZOFFSETFROM:+0300
TZOFFSETTO:+0200
TZNAME:EET
DTSTART:20231029T010000
END:STANDARD
BEGIN:DAYLIGHT
TZOFFSETFROM:+0200
TZOFFSETTO:+0300
TZNAME:EEST
DTSTART:20240331T010000
END:DAYLIGHT
BEGIN:STANDARD
TZOFFSETFROM:+0300
TZOFFSETTO:+0200
TZNAME:EET
DTSTART:20241027T010000
END:STANDARD
END:VTIMEZONE
BEGIN:VEVENT
DTSTART;VALUE=DATE:20230502
DTEND;VALUE=DATE:20230503
DTSTAMP:20260422T223717
CREATED:20221020T155358Z
LAST-MODIFIED:20230124T071235Z
UID:18275-1682985600-1683071999@www.filha.fi
SUMMARY:Alueellinen Keuhko- ja allergiapäivä\, Jyväskylä
DESCRIPTION:Alueellinen\, maksuton terveydenhuollon lähikoulutus. \nPaikka: Sairaala Nova. Luentosali C1\, 1.kerros. \nKohderyhmät: Perusterveydenhuollon lääkärit ja hoitajat\, terveydenhoitajat ja lastentautien\,\nkeuhkosairauksien\, ihotautien\, korva-\, nenä- ja kurkkutautien lääkärit ja hoitajat\,\ntyöterveyshuollon lääkärit ja hoitajat\, ravitsemusterapeutit\, apteekkien sote-ammattilaiset sekä\nkaikki asiasta kiinnostuneet terveydenhuollon ammattilaiset. \nTavoite: Keuhkosairauksien osaamisen ylläpitäminen ja vahvistaminen Keski-Suomen\nhyvinvointialueella. \nIlmoittautuminen tästä linkistä. \nKoulutus on maksuton. Lämpimästi tervetuloa! \nOHJELMA \n8:30 Aamukahvi ja näyttelyyn tutustuminen\n9:00 Koulutuksen avaus\nAntti Saarinen\, pj\, keuhkosairauksien ylilääkäri\, Hyvaks\n9:10 Mitä uutta Filhassa ammattilaisille\nKrista Abdulla Hama Salih\, erityisasiantuntija\, Filha ry\n9:25 Astman uusi käypä hoito – mikä muuttui?\nAntti Saarinen\n10:10 Alueellisen astman hoitopolun esittely\nJohanna Kinnunen\, kl. asiantuntijasairaanhoitaja\, Hyvaks\n10:30 Omahoitolomake ja hoitosuunnitelma astmapotilaan omahoidon tueksi\nSanna Olkkonen\, kliinisesti erikoistunut sairaanhoitaja\, Hyvaks\n11:00 Lounas (omakustanteinen) ja näyttelyyn tutustuminen\n12:00 Siedätyshoidolla helpotusta siitepölyallergiaan\nKrista Abdulla Hama Salih\n12:30 Anafylaksia. Kuinka tunnistan ja hoidan.\nMiia Aro\, asiantuntijaylilääkäri\, Filha ry\n13:15 Iltapäivän kahvit ja näyttelyyn tutustuminen\n14:00 Uniapnea sairautena\, tunnistaminen ja hoitomuodot\nMiia Aro\n14:45 Uniapneapotilaan ohjaus hoitajan vastaanotolla\nSatu Ojanperä\, kliinisesti erikoistunut sairaanhoitaja\, Hyvaks\n15:15 Uniapnea ja elintavat\nMerja Perhonen\, ylilääkäri\, liikuntalääketieteen pkl\, Hyvaks\n15:45 Keskustelua päivän teemoista.\n16:00 Tilaisuus päättyy. Hyvää kotimatkaa. \nOhjelma pdf-muodossa \nOhjelmamuutokset mahdollisia. \nLisätiedot: Itä-Suomen yliopiston terveystieteiden tiedekunta on hyväksynyt koulutuksen erikoislääkärikoulutuksen teoreettiseksi kurssimuotoiseksi koulutukseksi seuraavasti (päätöksen käsittelytunnus UEF231963): \n• Keuhkosairaudet ja allergologia (5h) \n• Terveydenhuolto (EL)(5h) \n• Työterveyshuolto(5h) \n• Yleislääketiede (5h) \nYhteystiedot: koulutuspalvelut@hyvaks.fi
URL:https://www.filha.fi/koulutus/alueellinen-keuhko-ja-allergiapaiva-jyvaskyla/
END:VEVENT
BEGIN:VEVENT
DTSTART;VALUE=DATE:20230504
DTEND;VALUE=DATE:20230505
DTSTAMP:20260422T223717
CREATED:20230111T082605Z
LAST-MODIFIED:20230220T080335Z
UID:19755-1683158400-1683244799@www.filha.fi
SUMMARY:Alueellinen keuhko- ja allergiapäivä\, Joensuu
DESCRIPTION:Ajankohta\n4.5.2023 klo 9- 16 \nPaikka\nSiun sote\, M-talon auditorio 2. krs \nKohderyhmä\nPerusterveydenhuollon lääkärit ja hoitajat\, terveydenhoitajat ja lastentautien\, keuhkosairauksien\, ihotautien\, korva-\, nenä- ja kurkkutautien lääkärit ja hoitajat\, työterveyshuollon lääkärit ja hoitajat\, ravitsemusterapeutit\, apteekkien astmayhdyshenkilöt sekä kaikki asiasta kiinnostuneet terveydenhuollon ammattilaiset.  \nJärjestäjät\nSiun sote ja Filha ry \nOsallistumismaksu\nKoulutus on maksuton\, lounas omakustanteinen. \nIlmoittautuminen\nOnni-koulutuskalenterin kautta.  \nMikäli olet organisaation ulkopuolelta\, ilmoittaudu Siun soten www-sivuilla olevasta koulutuskalenterista. \nOhjelma\nKoulutuksen ohjelma (pdf)
URL:https://www.filha.fi/koulutus/alueellinen-keuhko-ja-allergiapaiva-joensuu/
LOCATION:Pohjois-Karjalan keskussairaala\, Tikkamäentie 16\, Joensuu\, 80210
END:VEVENT
BEGIN:VEVENT
DTSTART;TZID=Europe/Helsinki:20230509T133000
DTEND;TZID=Europe/Helsinki:20230509T150000
DTSTAMP:20260422T223717
CREATED:20220823T161329Z
LAST-MODIFIED:20230330T061959Z
UID:17653-1683639000-1683644400@www.filha.fi
SUMMARY:Keuhkoahtaumatautiwebinaari hoitajille osa 1
DESCRIPTION:Koulutuksen toteutus\nTeams-alusta. Linkki lähetetään sähköpostilla lähempänä koulutusta. \nKohderyhmä\nHoitajat ja hoitotyötä opiskelevat\, jotka kohtaavat työssään keuhkoahtaumaa sairastavia potilaita. \nOsallistumismaksu\nKoulutus on maksuton. \nOhjelma\nOhjelma (pdf) \n13:30 Koulutuksen avaus\, Krista Abdulla Hama Salih\, erityisasiantuntija\, Filha ry\n13:35 COPD ja sen pahenemisvaiheet\, Antti Saarinen\, asiantuntijaylilääkäri\, Filha ry\n14:20 Yhteistyökumppanin puheenvuoro\n14:35 COPD\, kokonaisvaltainen ohjaus\, Krista Abdulla Hama Salih\n14:50 Keskustelua ja aikaa kysymyksille\n15:00 Koulutus päättyy \nIlmoittautuminen\nIlmoittautumislinkki webinaariin \nVarmistathan\, että saat ilmoittautumisesta vahvistusviestin sähköpostiisi. Tarkista tarvittaessa myös roskaposti. Mikäli et saa vahvistusviestiä\, otathan yhteyttä koulutuksen yhteyshenkilöön\, kiitos!
URL:https://www.filha.fi/koulutus/keuhkoahtaumatautiwebinaari-hoitajille-osa-1/
END:VEVENT
BEGIN:VEVENT
DTSTART;TZID=Europe/Helsinki:20230523T083000
DTEND;TZID=Europe/Helsinki:20230523T153000
DTSTAMP:20260422T223717
CREATED:20230119T130619Z
LAST-MODIFIED:20230206T121750Z
UID:19963-1684830600-1684855800@www.filha.fi
SUMMARY:Alueellinen keuhko- ja allergiapäivä\, Kotka
DESCRIPTION:Paikka: Kotkantie 41\, 48210 Kotka KOKS (Luentosali) \nKohderyhmät: Perusterveydenhuollon lääkärit ja hoitajat\, terveydenhoitajat ja lastentautien\,\nkeuhkosairauksien\, ihotautien\, korva-\, nenä- ja kurkkutautien lääkärit ja hoitajat\, työterveyshuollon\nlääkärit ja hoitajat\, ravitsemusterapeutit\, apteekkien henkilöstö sekä kaikki asiasta kiinnostuneet\nterveydenhuollon ammattilaiset. \nKoulutus on maksuton. Koulutus on live koulutus. \nIlmoittaudu mukaan viimeistään 16.5. Kymen HVA koulutuskalenterin kautta: Ilmoittaudu\nkoulutukseen \nOHJELMA \n9:00 Aamukahvit ja näyttelyyn tutustuminen. \n9:45 Koulutuksen avaus ja mitä uutta Filhassa.Krista Abdulla Hama Salih\, erityisasiantuntija\, Filha ry \n10:00 Astman hoito 2020-luvulla.Jukka Viikari\, keuhkosairauksien- ja allergologian erikoislääkäri ja osastonylilääkäri\, Kymen HVA \n11:00 Astmapotilas ohjausvastaanotolla\, mitä huomion?\nEija Mantila\, astmahoitaja ja sairaanhoitaja\, Keuhkosairauksien poliklinikka KOKS\, Kymen HVA \n11:30 Lounas (oma kustanne) \n12:30 Keuhkoahtaumatautipotilaan kokonaisvaltainen hoito.\nAntti Saarinen\, asiantuntijaylilääkäri\, Filha ry \n13:30 Näyttelyyn tutustuminen ja kahvitauko \n14:00 Perustason allergiaselvittely ja milloin katsotaan komponentit? Antti Saarinen \n14:45 Elämänlaatua siedätyshoidolla.\nKrista Abdulla Hama Salih \n15:15 Päätössanat. Seuraavasta koulutuksesta sopiminen. \n15:30 Tilaisuus päättyy. \nOhjelma (PDF) \nTapahtuman järjestävät yhteistyössä Kymenlaakson hyvinvointialue ja Filha ry \nLisätietoja: veera.partanen@kymenhva.fi\, koulutuspäällikkö Kymen HVA ja\nkrista.abdullahamasalih@filha.fi \,erityisasiantuntija Filha ry
URL:https://www.filha.fi/koulutus/alueellinen-keuhko-ja-allergiapaiva-kotka/
END:VEVENT
BEGIN:VEVENT
DTSTART;TZID=Europe/Helsinki:20230529T130000
DTEND;TZID=Europe/Helsinki:20230529T150000
DTSTAMP:20260422T223717
CREATED:20230223T074940Z
LAST-MODIFIED:20230330T062116Z
UID:20481-1685365200-1685372400@www.filha.fi
SUMMARY:Keuhkohoitajaverkoston koulutus ja kevätkokous
DESCRIPTION:Aika:       29.5.2023 klo 13:00-15:00 \nKenelle:  Keuhkohoitajaverkoston jäsenille \nPaikka:   Teams-kokous\, linkki lähetetään ilmoittautuneille. \n Koulutus on maksuton. \nIlmoittaudu tästä. \nVarmistathan\, että saat ilmoittautumisesta vahvistusviestin sähköpostiisi. Tarkista tarvittaessa myös roskaposti. Mikäli et saa vahvistusviestiä\, otathan yhteyttä koulutuksen yhteyshenkilöön\, kiitos! \nOhjelma:\nOhjelma (pdf)\n \n13:00      Koulutuksen avaus.\nKrista Abdulla Hama Salih\, erityisasiantuntija\, Filha ry. \n13:15      Astman ja keuhkoahtaumataudin sekamuoto. Miten tunnistan ja hoidan.\nAntti Saarinen\, asiantuntijaylilääkäri\, Filha ry. \n13:50      Yhteistyökumppanin puheenvuoro. \n14:00      Äkillisen hengitysvajauksen tunnistaminen ja hoito.\nKati Tuominen\, sairaanhoitaja\, TtM-opiskelija\, Filha ry. \n14:20      Keuhkohoitajaverkoston kokous Filhan johdolla. \n15:00      Tilaisuus päättyy.
URL:https://www.filha.fi/koulutus/keuhkohoitajaverkoston-koulutus-ja-kevatkokous/
END:VEVENT
END:VCALENDAR