BEGIN:VCALENDAR
VERSION:2.0
PRODID:-//Filha - ECPv6.15.20//NONSGML v1.0//EN
CALSCALE:GREGORIAN
METHOD:PUBLISH
X-ORIGINAL-URL:https://www.filha.fi
X-WR-CALDESC:Tapahtumat Filha
REFRESH-INTERVAL;VALUE=DURATION:PT1H
X-Robots-Tag:noindex
X-PUBLISHED-TTL:PT1H
BEGIN:VTIMEZONE
TZID:Europe/Helsinki
BEGIN:DAYLIGHT
TZOFFSETFROM:+0200
TZOFFSETTO:+0300
TZNAME:EEST
DTSTART:20220327T010000
END:DAYLIGHT
BEGIN:STANDARD
TZOFFSETFROM:+0300
TZOFFSETTO:+0200
TZNAME:EET
DTSTART:20221030T010000
END:STANDARD
BEGIN:DAYLIGHT
TZOFFSETFROM:+0200
TZOFFSETTO:+0300
TZNAME:EEST
DTSTART:20230326T010000
END:DAYLIGHT
BEGIN:STANDARD
TZOFFSETFROM:+0300
TZOFFSETTO:+0200
TZNAME:EET
DTSTART:20231029T010000
END:STANDARD
BEGIN:DAYLIGHT
TZOFFSETFROM:+0200
TZOFFSETTO:+0300
TZNAME:EEST
DTSTART:20240331T010000
END:DAYLIGHT
BEGIN:STANDARD
TZOFFSETFROM:+0300
TZOFFSETTO:+0200
TZNAME:EET
DTSTART:20241027T010000
END:STANDARD
END:VTIMEZONE
BEGIN:VEVENT
DTSTART;TZID=Europe/Helsinki:20231011T133000
DTEND;TZID=Europe/Helsinki:20231011T150000
DTSTAMP:20260422T144034
CREATED:20230331T083030Z
LAST-MODIFIED:20230412T103640Z
UID:21156-1697031000-1697036400@www.filha.fi
SUMMARY:Tietoa tupakka- ja nikotiinivieroituksesta -webinaarisarjan osa 2
DESCRIPTION:Tietoa tupakka- ja nikotiinivieroituksesta webinaarisarjassa käydään läpi perusasiat liittyen tupakoinnin terveyshaittoihin\, tupakka- ja nikotiiniriippuvuuteen\, uusiin nikotiinituotteisiin sekä nikotiiniriippuvuuden hoitoon. Webinaarisarjan viimeisessä koulutuksessa erityisteemana on puheeksiotto\, motivoiva keskustelu sekä verkosta löytyvät apuvälineet vieroitustyön tueksi. Suosittelemme osallistumista koko webinaarisarjaan\, mutta on myös mahdollista ilmoittautua yksittäisin koulutuksiin. Webinaarisarja soveltuu erityisesti uusille tupakastavieroitustyötä tekeville\, mutta myös kertauksena kokeneemmille vieroittajille. \nWebinaarisarja on uusinta keväältä 2023. \nOsa 2: Tupakka- ja nikotiiniriippuvuuden hoito\nToteutus\nWebinaari toteutetaan Teams-kokouksena. Koulutuksesta ei tehdä tallennetta\, mutta webinaarisarja uusitaan myöhemmin. Linkki koulutukseen lähetetään ilmoittautuneille lähempänä koulutusta. \nKohderyhmä\nSosiaali- ja terveydenhuollon ammattilaiset \nOsallistumismaksu\nWebinarin osallistumismaksu on 40 € / yksi webinaari\, 70 € / kaksi webinaaria ja 100 € / kaikki kolme webinaaria\nKolmen webinaarin kokonaisuus on mahdollista valita myös isommalle osallistujajoukolle. Organisaatiohinta on 500 € / organisaatio. \nOrganisaatiohinnassa ei osallistujien määrää ole rajattu\, mutta huomioi seuraava: \nOrganisaatiohinta on toimipaikkakohtainen. Organisaatio on esim. yksi hoitoyksikkö. \nOhjelma\n13.30-14.00 Tupakka- ja nikotiiniriippuvuuden hoito Käypä hoito -suosituksen mukaisesti; Patrick Sandström\, erityisasiantuntija\, Filha \n14.00-14.50 Nikotiinikorvaushoito ja reseptilääkkeet käytännön vieroitustyössä; Päivi Grönroos\, tupakastavieroitushoitaja\, Tyks\n \n14.50-15.00 Keskustelu \nKatso tästä tiedostosta koko webinaarisarjan ohjelmat. Päivitetään.  \nIlmoittautuminen\nIlmoittautuminen viimeistään 9.10.2023. \nIlmoittautumislinkki webinaariin.\n \nVarmistathan\, että saat ilmoittautumisesta vahvistusviestin sähköpostiisi. Tarkista tarvittaessa myös roskaposti. Mikäli et saa vahvistusviestiä\, otathan yhteyttä koulutuksen yhteyshenkilöön\, kiitos! \nIlmoittautumisen yhteydessä kysytään laskutustietoja. Tarkistathan etukäteen\, että laskutustiedot ovat oikein. Laskutus tapahtuu jälkikäteen näiden tietojen pohjalta. \nOrganisaatiohinnan valitseville tiedoksi\, että vain yksi henkilö/organisaatio ilmoittautuu. Linkki webinaariin lähetetään ilmoittautujan sähköpostiin. \nPeruutusehdot\nViimeinen kuluton peruutuspäivä on viikkoa ennen koulutusta. Tämän jälkeen tulleista peruutuksista tai peruuttamatta jättämisistä veloitetaan täysi osallistumismaksu. Edellä mainittu ei koske sairastapauksia. \nMuut sarjan webinaarit\nOsa 1 (26.9.) Terveyshaitat ja riippuvuus \nOsa 3 (1.11.) Kuinka otan tupakka- ja nikotiinituotteet puheeksi ja tuen lopettamaan
URL:https://www.filha.fi/koulutus/tietoa-tupakka-ja-nikotiinivieroituksesta-webinaarisarjan-osa-2-6/
END:VEVENT
BEGIN:VEVENT
DTSTART;TZID=Europe/Helsinki:20231026T090000
DTEND;TZID=Europe/Helsinki:20231026T153000
DTSTAMP:20260422T144034
CREATED:20221020T155913Z
LAST-MODIFIED:20230509T092053Z
UID:18288-1698310800-1698334200@www.filha.fi
SUMMARY:Alueellinen Keuhko- ja allergiapäivä\, Turku
DESCRIPTION:Ajankohta: 26.10.2023 klo 9-15:30 \nPaikka: Tyks\, T-sairaala\, Johan Haartman -sali (Hämeentie 11\, Turku) \nKohderyhmä: Sosiaali- ja terveydenhuollon ammattilaiset\, jotka kohtaavat työssään astmaa/allergioita sairastavia. \nTavoitteet: Tavoitteena on lisätä tietoa keuhkosairauksien ja allergioiden hoidosta sekä kehittää alueen ammattihenkilöstön osaamista. \nJärjestäjä: TYKS ja Filha ry \nLuokitus: Terveydenhuollon ammatillinen koulutus \nIlmoittautuminen Varhan verkkosivujen kautta 25.10.2023 mennessä. \nOhjelma:  \n9:00 Aamukahvi ja näyttelyyn tutustuminen \n9:30 Tervetulosanat \nArja Viinanen\, LT\, keuhkosairauksien ja keuhkoallergologian erikoislääkäri\, Tyks keuhkosairauksien klinikka \nMitä uutta Filhassa ammattilaisille \nKrista Abdulla Hama Salih\, Filha ry \n9:45 Vaikean astman hoito \nArja Viinanen \n10:30 Mitä huomioin omahoidon ohjauksessa \nMilla Tuominen ja Sanna Anttila\, sairaanhoitajat\, Keuhkopoliklinikka\, Tyks Salon sairaala \n11:00 Keskustelua \n11:15 Lounas (omakustanteinen) ja näyttelyyn tutustuminen \n12:15 Urtikaria ja angioödeema. Kuinka tunnistan ja hoidan \nPilvi Riihilä\, LT\, dosentti\, erikoislääkäri\, iho- ja sukupuolitaudit\, kliininen opettaja\, Turun yliopisto ja TYKS ihoklinikka \n13:00 Urtikariaa sairastavan potilaan ohjaus \nMarjukka Sillanpää\, sairaanhoitaja\, allergiahoitaja\, TYKS ihoklinikka \n13:30 Kahvit ja näyttelyyn tutustuminen \n14:00 Keuhkoahtaumatautipotilaan kokonaisvaltainen hoito \nHenrik Söderström\, keuhkosairauksien ja allergologian erikoislääkäri \n14:45 Keuhkoahtaumapotilaan liikunnallinen kuntoutus \nHerkko Ryynänen\, fysioterapeutti\, TtM\, Filha ry \n15:15 Keskustelua \n15:30 Tilaisuus päättyy. Hyvää kotimatkaa! \nOhjelma PDF-muodossa.
URL:https://www.filha.fi/koulutus/alueellinen-keuhko-ja-allergiapaiva-turku-2/
END:VEVENT
END:VCALENDAR