BEGIN:VCALENDAR
VERSION:2.0
PRODID:-//Filha - ECPv6.15.20//NONSGML v1.0//EN
CALSCALE:GREGORIAN
METHOD:PUBLISH
X-ORIGINAL-URL:https://www.filha.fi
X-WR-CALDESC:Tapahtumat Filha
REFRESH-INTERVAL;VALUE=DURATION:PT1H
X-Robots-Tag:noindex
X-PUBLISHED-TTL:PT1H
BEGIN:VTIMEZONE
TZID:Europe/Helsinki
BEGIN:DAYLIGHT
TZOFFSETFROM:+0200
TZOFFSETTO:+0300
TZNAME:EEST
DTSTART:20230326T010000
END:DAYLIGHT
BEGIN:STANDARD
TZOFFSETFROM:+0300
TZOFFSETTO:+0200
TZNAME:EET
DTSTART:20231029T010000
END:STANDARD
BEGIN:DAYLIGHT
TZOFFSETFROM:+0200
TZOFFSETTO:+0300
TZNAME:EEST
DTSTART:20240331T010000
END:DAYLIGHT
BEGIN:STANDARD
TZOFFSETFROM:+0300
TZOFFSETTO:+0200
TZNAME:EET
DTSTART:20241027T010000
END:STANDARD
BEGIN:DAYLIGHT
TZOFFSETFROM:+0200
TZOFFSETTO:+0300
TZNAME:EEST
DTSTART:20250330T010000
END:DAYLIGHT
BEGIN:STANDARD
TZOFFSETFROM:+0300
TZOFFSETTO:+0200
TZNAME:EET
DTSTART:20251026T010000
END:STANDARD
END:VTIMEZONE
BEGIN:VEVENT
DTSTART;TZID=Europe/Helsinki:20240109T133000
DTEND;TZID=Europe/Helsinki:20240109T150000
DTSTAMP:20260420T142507
CREATED:20231006T065427Z
LAST-MODIFIED:20231114T143442Z
UID:29202-1704807000-1704812400@www.filha.fi
SUMMARY:Astmawebinaari hoitajille\, osa 1
DESCRIPTION:Paikka: Teams-kokous\, linkki lähetetään ilmoittautuneille.\nKoulutus on maksuton. \nIlmoittaudu tästä: klikkaa ilmoittautumaan. \nOhjelma \n13:30 Koulutuksen avaus\nKrista Abdulla Hama Salih\, allergia- ja astma-asiantuntija\, Filha ry \n13:35 Astman hallinta\nAntti Saarinen\, asiantuntijaylilääkäri\, Filha ry \n14:15 Yhteistyökumppanin puheenvuoro \n14:30 Astmapotilas vastaanotolla\, mitä huomioin\nKrista Abdulla Hama Salih \n14:50 Keskustelua ja aikaa kysymyksille \n15:00 Koulutus päättyy \nKlikkaa tästä PDF-tiedostoon\, jossa webinaarin tiedot ja ilmoittautumislinkki.
URL:https://www.filha.fi/koulutus/astmawebinaari-hoitajille-osa-1-2/
END:VEVENT
END:VCALENDAR