BEGIN:VCALENDAR
VERSION:2.0
PRODID:-//Filha - ECPv6.15.20//NONSGML v1.0//EN
CALSCALE:GREGORIAN
METHOD:PUBLISH
X-WR-CALNAME:Filha
X-ORIGINAL-URL:https://www.filha.fi
X-WR-CALDESC:Tapahtumat Filha
REFRESH-INTERVAL;VALUE=DURATION:PT1H
X-Robots-Tag:noindex
X-PUBLISHED-TTL:PT1H
BEGIN:VTIMEZONE
TZID:Europe/Helsinki
BEGIN:DAYLIGHT
TZOFFSETFROM:+0200
TZOFFSETTO:+0300
TZNAME:EEST
DTSTART:20230326T010000
END:DAYLIGHT
BEGIN:STANDARD
TZOFFSETFROM:+0300
TZOFFSETTO:+0200
TZNAME:EET
DTSTART:20231029T010000
END:STANDARD
BEGIN:DAYLIGHT
TZOFFSETFROM:+0200
TZOFFSETTO:+0300
TZNAME:EEST
DTSTART:20240331T010000
END:DAYLIGHT
BEGIN:STANDARD
TZOFFSETFROM:+0300
TZOFFSETTO:+0200
TZNAME:EET
DTSTART:20241027T010000
END:STANDARD
BEGIN:DAYLIGHT
TZOFFSETFROM:+0200
TZOFFSETTO:+0300
TZNAME:EEST
DTSTART:20250330T010000
END:DAYLIGHT
BEGIN:STANDARD
TZOFFSETFROM:+0300
TZOFFSETTO:+0200
TZNAME:EET
DTSTART:20251026T010000
END:STANDARD
END:VTIMEZONE
BEGIN:VEVENT
DTSTART;TZID=Europe/Helsinki:20240312T090000
DTEND;TZID=Europe/Helsinki:20240312T153000
DTSTAMP:20260420T105430
CREATED:20231006T064857Z
LAST-MODIFIED:20240125T133345Z
UID:29183-1710234000-1710257400@www.filha.fi
SUMMARY:Etelä-Savon Hyvinvointialueen Keuhko- ja allergiapäivä
DESCRIPTION:ALUEELLINEN ASTMA- JA ALLERGIAKOULUTUS ETELÄ-SAVON HYVINVOINTIALUE \nMikkeli 12.3.2024\nKeskussairaalan auditorio. Porrassalmenkatu 35–37. Etäosallistuminen mahdollinen pitkämatkalaisille.                                                                                        \nKohderyhmät: Perusterveydenhuollon lääkärit ja hoitajat\, terveydenhoitajat ja lastentautien\, keuhkosairauksien\, ihotautien\, korva-\, nenä- ja kurkkutautien lääkärit ja hoitajat\, työterveyshuollon lääkärit ja hoitajat\, ravitsemusterapeutit\, apteekkien astmayhdyshenkilöt sekä kaikki asiasta kiinnostuneet terveydenhuollon ammattilaiset. Koulutus on maksuton. Koulutukseen haetaan erikoistumispisteitä Itä-Suomen yliopistosta. \nIlmoittaudu viimeistään 4.3. tämän linkin kautta.  \nTapahtumatiedot ja ohjelma PDF-tiedostona tästä. \nOHJELMA \n9:00 Aamukahvi ja näyttelyyn tutustuminen \n9:30 Koulutuksen avaus\nAnssi Ukkonen\, keuhkosairauksien ylilääkäri\, Eloisa \n 9:40 Mitä Filhassa terveydenhuollon ammattilaisille työn tueksi\nKrista Abdulla Hama Salih\, allergia- ja astma-asiantuntija\, Filha ry \n10:00 Tarvittaessa toteutettava astmalääkehoito ja milloin nenästeroidi astmaatikolle?\nAnssi Ukkonen \n10:30 Mitä huomioitava astmaatikon kontrollissa astmahoitajan vastaanotolla\, milloin konsultoida lääkäriä?\nKrista Abdulla Hama Salih \n11:00 Lounas (omakustanteinen) ja näyttelyyn tutustuminen \n12:00 Keuhkoahtaumatautia sairastava kontrollissa\nAntti Saarinen\, keuhkosairauksien erikoislääkäri\, asiantuntijaylilääkäri\, Filha ry \n12:40 Tupakkariippuvuus\, lopettamisen tuki ja hoito\nKrista Abdulla Hama Salih \n13:15 Iltapäivän kahvi ja näyttelyyn tutustuminen \n13:45 Vaikean nenäpolypoosin hoito\nEmma Hyvärinen\, erikoistuva lääkäri\, KNK\, Eloisa \n14:20 Vaikeimpien allergiaoireiden diagnosointi ja hoito aikuisilla\nAntti Saarinen \n15:00 Keskustelua koulutuksen teemoista ja seuraavasta koulutuksesta sopiminen \n15:30 Tilaisuus päättyy. Hyvää kotimatkaa. \nLämpimästi tervetuloa! \nItä-Suomen yliopistolta saadut erikoistumispisteet Allergia- ja astmakoulutukseen: \nKeuhkosairaudet ja allergologia(3)\nKorva\,- nenä- ja kurkkutaudit(1)\nLastentaudit(1)\nLiikuntalääketiede(3)\nTerveydenhuolto (EL)(1)\nTyöterveyshuolto(3)\nYleislääketiede(3)
URL:https://www.filha.fi/koulutus/etela-savon-hyvinvointialueen-keuhko-ja-allergiapaiva/
END:VEVENT
BEGIN:VEVENT
DTSTART;TZID=Europe/Helsinki:20240313T133000
DTEND;TZID=Europe/Helsinki:20240313T150000
DTSTAMP:20260420T105430
CREATED:20231110T204316Z
LAST-MODIFIED:20231113T165626Z
UID:29631-1710336600-1710342000@www.filha.fi
SUMMARY:Tietoa tupakka- ja nikotiinivieroituksesta -webinaarisarjan osa 2
DESCRIPTION:Tietoa tupakka- ja nikotiinivieroituksesta webinaarisarjassa käydään läpi perusasiat liittyen tupakoinnin terveyshaittoihin\, tupakka- ja nikotiiniriippuvuuteen\, uusiin nikotiinituotteisiin sekä nikotiiniriippuvuuden hoitoon. Webinaarisarjan viimeisessä koulutuksessa erityisteemana on puheeksiotto\, motivoiva keskustelu sekä verkosta löytyvät apuvälineet vieroitustyön tueksi. Suosittelemme osallistumista koko webinaarisarjaan\, mutta on myös mahdollista ilmoittautua yksittäisin koulutuksiin. Webinaarisarja soveltuu erityisesti uusille tupakastavieroitustyötä tekeville\, mutta myös kertauksena kokeneemmille vieroittajille. \nWebinaarisarja on uusinta vuodelta 2023. \nOsa 2: Tupakka- ja nikotiiniriippuvuuden hoito\nToteutus\nWebinaari toteutetaan Teams-kokouksena. Koulutuksesta ei tehdä tallennetta\, mutta webinaarisarja uusitaan myöhemmin. Linkki koulutukseen lähetetään ilmoittautuneille lähempänä koulutusta. \nKohderyhmä\nSosiaali- ja terveydenhuollon ammattilaiset \nOsallistumismaksu\nWebinarin osallistumismaksu on 40 € / yksi webinaari\, 70 € / kaksi webinaaria ja 100 € / kaikki kolme webinaaria\nKolmen webinaarin kokonaisuus on mahdollista valita myös isommalle osallistujajoukolle. Organisaatiohinta on 500 € / organisaatio. \nOrganisaatiohinnassa ei osallistujien määrää ole rajattu\, mutta huomioi seuraava: \nOrganisaatiohinta on toimipaikkakohtainen. Organisaatio on esim. yksi hoitoyksikkö. \nOhjelma\n13.30-14.00 Tupakka- ja nikotiiniriippuvuuden hoito Käypä hoito -suosituksen mukaisesti; Patrick Sandström\, erityisasiantuntija\, Filha \n14.00-14.50 Nikotiinikorvaushoito ja reseptilääkkeet käytännön vieroitustyössä; Päivi Grönroos\, tupakastavieroitushoitaja\, Tyks\n \n14.50-15.00 Keskustelu \nKatso tästä tiedostosta koko webinaarisarjan ohjelmat. Päivitetään. \nIlmoittautuminen\nIlmoittautumislinkki webinaariin.\n \nVarmistathan\, että saat ilmoittautumisesta vahvistusviestin sähköpostiisi. Tarkista tarvittaessa myös roskaposti. Mikäli et saa vahvistusviestiä\, otathan yhteyttä koulutuksen yhteyshenkilöön\, kiitos! \nIlmoittautumisen yhteydessä kysytään laskutustietoja. Tarkistathan etukäteen\, että laskutustiedot ovat oikein. Laskutus tapahtuu jälkikäteen näiden tietojen pohjalta. \nOrganisaatiohinnan valitseville tiedoksi\, että vain yksi henkilö/organisaatio ilmoittautuu. Linkki webinaariin lähetetään ilmoittautujan sähköpostiin. \nPeruutusehdot\nViimeinen kuluton peruutuspäivä on viikkoa ennen koulutusta. Tämän jälkeen tulleista peruutuksista tai peruuttamatta jättämisistä veloitetaan täysi osallistumismaksu. Edellä mainittu ei koske sairastapauksia. \nMuut sarjan webinaarit\nOsa 1 (8.2.) Terveyshaitat ja riippuvuus \nOsa 3 (9.4.) Kuinka otan tupakka- ja nikotiinituotteet puheeksi ja tuen lopettamaan
URL:https://www.filha.fi/koulutus/tietoa-tupakka-ja-nikotiinivieroituksesta-webinaarisarjan-osa-2-7/
END:VEVENT
BEGIN:VEVENT
DTSTART;TZID=Europe/Helsinki:20240314T130000
DTEND;TZID=Europe/Helsinki:20240314T150000
DTSTAMP:20260420T105430
CREATED:20231006T065007Z
LAST-MODIFIED:20240111T133615Z
UID:29187-1710421200-1710428400@www.filha.fi
SUMMARY:Keuhkohoitajaverkoston koulutus ja kevätkokous
DESCRIPTION:Aika: 14.3.2024 klo 13–15\nPaikka: Teams-kokous\, linkki lähetetään verkoston\njäsenille. Koulutus on maksuton. Keuhkohoitajaverkostoon voi liittyä mukaan täältä! \nTapahtuman tiedot ja ohjelma PDF-tiedostona tästä. \nOhjelma:\n13:00 Koulutuksen avaus\nKrista Abdulla Hama Salih\, Filha ry\n13:05 Interstitiaaliset keuhkosairaudet\nAntti Saarinen\, asiantuntijaylilääkäri\, Filha ry\n13:35 Koulutuksen tukijan puheenvuoro.\nChiesi Pharma\n13:45 Keuhkot ja uni\nMiia Aro\, asiantuntijaylilääkäri\, Filha ry\n14:15 Kysymykset ja kommentit\n14:20 Keuhkohoitajaverkoston kevätkokous\n15:00 Tilaisuus päättyy!
URL:https://www.filha.fi/koulutus/keuhkohoitajaverkoston-koulutus-ja-kokous/
END:VEVENT
END:VCALENDAR