BEGIN:VCALENDAR
VERSION:2.0
PRODID:-//Filha - ECPv6.15.20//NONSGML v1.0//EN
CALSCALE:GREGORIAN
METHOD:PUBLISH
X-ORIGINAL-URL:https://www.filha.fi
X-WR-CALDESC:Tapahtumat Filha
REFRESH-INTERVAL;VALUE=DURATION:PT1H
X-Robots-Tag:noindex
X-PUBLISHED-TTL:PT1H
BEGIN:VTIMEZONE
TZID:Europe/Helsinki
BEGIN:DAYLIGHT
TZOFFSETFROM:+0200
TZOFFSETTO:+0300
TZNAME:EEST
DTSTART:20230326T010000
END:DAYLIGHT
BEGIN:STANDARD
TZOFFSETFROM:+0300
TZOFFSETTO:+0200
TZNAME:EET
DTSTART:20231029T010000
END:STANDARD
BEGIN:DAYLIGHT
TZOFFSETFROM:+0200
TZOFFSETTO:+0300
TZNAME:EEST
DTSTART:20240331T010000
END:DAYLIGHT
BEGIN:STANDARD
TZOFFSETFROM:+0300
TZOFFSETTO:+0200
TZNAME:EET
DTSTART:20241027T010000
END:STANDARD
BEGIN:DAYLIGHT
TZOFFSETFROM:+0200
TZOFFSETTO:+0300
TZNAME:EEST
DTSTART:20250330T010000
END:DAYLIGHT
BEGIN:STANDARD
TZOFFSETFROM:+0300
TZOFFSETTO:+0200
TZNAME:EET
DTSTART:20251026T010000
END:STANDARD
END:VTIMEZONE
BEGIN:VEVENT
DTSTART;TZID=Europe/Helsinki:20240507T090000
DTEND;TZID=Europe/Helsinki:20240507T150000
DTSTAMP:20260420T073048
CREATED:20231006T065324Z
LAST-MODIFIED:20240116T125953Z
UID:29199-1715072400-1715094000@www.filha.fi
SUMMARY:Länsi-Pohjan alueellinen keuhkopäivä
DESCRIPTION:Tornio 7.5.2024\nPaikka: Park hotelli\, Itäranta 4\, Tornio\nKohderyhmät: Perusterveydenhuollon lääkärit ja hoitajat\, terveydenhoitajat ja lastentautien\, keuhkosairauksien\, ihotautien\, korva-\, nenä- ja kurkkutautien lääkärit ja hoitajat\, työterveyshuollon lääkärit ja hoitajat\, apteekkien th-henkilöstö sekä kaikki muut th-ammattilaiset. Koulutus on maksuton.\nIlmoittautuminen: klikkaa ilmoittautumaan tästä \nOHJELMA\nOhjelma myös PDF-tiedostona tästä. \n9:00 Aamukahvit ja näyttelyyn tutustuminen\n9:30 Koulutuksen avaus ja Filhan tervehdys\nSakari Saviaro\, keuhkosairauksien ylilääkäri\, Mehiläinen Länsi-Pohja\nMarianne Junes-Leinonen\, avoth osastonhoitaja\, Tornion kaupunki\nKrista Abdulla Hama Salih\, allergia- ja astma-asiantuntija\, Filha ry\n9:45 Uniapnea. Miten hoidan ja tutkin sekä huomioin ajoterveysvaatimukset. (etäluento)\nAntti Saarinen\, asiantuntijaylilääkäri\, Filha ry\n10:30 Uniapnean paikalliset hoito- ja tutkimuskäytännöt.\nSakari Saviaro\n11:00 Unihoitajan ohjauskäynnin sisältö\nMerja Kestilä\, sairaanhoitaja\, Mehiläinen Länsi-Pohja\n11:30 Lounastauko (omakustanteinen) ja näyttelyyn tutustuminen\n12:30 Miten uudistunut käypä hoito muutti astman hoitoa?\nSakari Saviaro\n13:00 Kuinka ohjaan astmapotilasta\, mitä huomioida vastaanotolla.\nKaisa Palokangas tai/ja Marjo Tallgren\, sairaanhoitaja\, Mehiläinen Länsi-Pohja\n13:15 Keuhkopotilaan liikunnallinen kuntoutus\nVirve Piittinen\, fysioterapeutti\, Mehiläinen Länsi-Pohja\n13:30 Iltapäivän kahvit ja näyttelyyn tutustuminen.\n14:00 Lasten astmatutkimukset ja hoito (etäluento)\nMarja Ruotsalainen\, lastentautien erikoislääkäri\, KYS\n14:30 Perhe astmaohjauskäynnillä\npaikallinen luennoitsija tai Krista Abdulla Hama Salih\n14:45 Päätössanat ja seuraavasta koulutuksesta sopiminen\nSakari Saviaro\, Marianne Junes-Leinonen ja Krista Abdulla Hama Salih\n15:00 Koulutus päättyy. Hyvää kotimatkaa. \nLämpimästi tervetuloa!
URL:https://www.filha.fi/koulutus/lapin-hyvinvointialueen-keuhko-ja-allergiapaiva-kemi-tornio/
END:VEVENT
END:VCALENDAR