BEGIN:VCALENDAR
VERSION:2.0
PRODID:-//Filha - ECPv6.15.20//NONSGML v1.0//EN
CALSCALE:GREGORIAN
METHOD:PUBLISH
X-WR-CALNAME:Filha
X-ORIGINAL-URL:https://www.filha.fi
X-WR-CALDESC:Tapahtumat Filha
REFRESH-INTERVAL;VALUE=DURATION:PT1H
X-Robots-Tag:noindex
X-PUBLISHED-TTL:PT1H
BEGIN:VTIMEZONE
TZID:Europe/Helsinki
BEGIN:DAYLIGHT
TZOFFSETFROM:+0200
TZOFFSETTO:+0300
TZNAME:EEST
DTSTART:20230326T010000
END:DAYLIGHT
BEGIN:STANDARD
TZOFFSETFROM:+0300
TZOFFSETTO:+0200
TZNAME:EET
DTSTART:20231029T010000
END:STANDARD
BEGIN:DAYLIGHT
TZOFFSETFROM:+0200
TZOFFSETTO:+0300
TZNAME:EEST
DTSTART:20240331T010000
END:DAYLIGHT
BEGIN:STANDARD
TZOFFSETFROM:+0300
TZOFFSETTO:+0200
TZNAME:EET
DTSTART:20241027T010000
END:STANDARD
BEGIN:DAYLIGHT
TZOFFSETFROM:+0200
TZOFFSETTO:+0300
TZNAME:EEST
DTSTART:20250330T010000
END:DAYLIGHT
BEGIN:STANDARD
TZOFFSETFROM:+0300
TZOFFSETTO:+0200
TZNAME:EET
DTSTART:20251026T010000
END:STANDARD
END:VTIMEZONE
BEGIN:VEVENT
DTSTART;TZID=Europe/Helsinki:20240918T093000
DTEND;TZID=Europe/Helsinki:20240918T150000
DTSTAMP:20260420T003710
CREATED:20240322T061043Z
LAST-MODIFIED:20240322T093510Z
UID:30489-1726651800-1726671600@www.filha.fi
SUMMARY:Kainuun hyvinvointialueen keuhkopäivä\, Kajaani
DESCRIPTION:Paikka: Kainuun keskussairaala\, luentosali F4\, Sotkamontie 13 \nKohderyhmät: Perusterveydenhuollon lääkärit ja hoitajat\, terveydenhoitajat ja lastentautien\, keuhkosairauksien\, ihotautien\, korva-\, nenä- ja kurkkutautien lääkärit ja hoitajat\, työterveyshuollon lääkärit ja hoitajat\, ravitsemusterapeutit\, fysioterapeutit\, apteekkien henkilöstö sekä kaikki asiasta kiinnostuneet terveydenhuollon ammattilaiset \nIlmoittautuminen: Kainuun soten henkilöstö ilmoittautuu eTyöpöydän koulutuskalenterin kautta\, muut sähköpostilla: koulutus@kainuu.fi \nOHJELMA (PDF)\n \n9:30 Aamukahvit ja näyttelyyn tutustuminen \n10:00 Koulutuksen avaus\nElsa Nylund\, keuhkosairauksien ylilääkäri\, Kainuun sote \n10:15 Miten Filha tukee terveydenhuollon ammattilaisia\nKrista Abdulla Hama Salih\, allergia- ja astma-asiantuntija\, Filha ry \n10:30 Astman fenotyypit ja niiden vaikutus hoitoon\nMaria Rytkönen\, keuhkosairauksien ja allergologian erikoislääkäri\, Kainuun sote \n11:15 Astman omahoidon ohjauksen sisältöalueet\nKrista Abdulla Hama Salih \n11:30 Lounastauko (omakustanne) ja näyttelyyn tutustuminen \n12:30 Interstitiaaliset keuhkosairaudet\, miten tunnistan ja hoidan\nAntti Saarinen\, LT\, keuhkosairauksien ja allergologian erikoislääkäri\,\nasiantuntijaylilääkäri\, Filha ry \n13:30 Iltapäiväkahvit ja näyttelyyn tutustuminen \n14:00 Tupakka- ja nikotiiniriippuvuuden uusi käypä hoito 2024\, mitä uutta?\nPatrick Sandström\, erityisasiantuntija\, Filha ry \n14:45 Keskustelua koulutuksen teemoista \n15:00 Seuraavasta koulutuksesta sopiminen. Tilaisuus päättyy.
URL:https://www.filha.fi/koulutus/kainuun-hyvinvointialueen-keuhko-ja-allergiapaiva-kajaani/
END:VEVENT
BEGIN:VEVENT
DTSTART;TZID=Europe/Helsinki:20240919T133000
DTEND;TZID=Europe/Helsinki:20240919T150000
DTSTAMP:20260420T003710
CREATED:20240613T094630Z
LAST-MODIFIED:20240614T125735Z
UID:30812-1726752600-1726758000@www.filha.fi
SUMMARY:Tietoa tupakka- ja nikotiinivieroituksesta -webinaari\, osa 1 Terveyshaitat ja riippuvuus
DESCRIPTION:Tietoa tupakka- ja nikotiinivieroituksesta webinaarisarjassa käydään läpi perusasiat liittyen tupakoinnin terveyshaittoihin\, tupakka- ja nikotiiniriippuvuuteen\, uusiin nikotiinituotteisiin sekä nikotiiniriippuvuuden hoitoon. Webinaarisarjan viimeisessä koulutuksessa erityisteemana on puheeksiotto\, motivoiva keskustelu sekä verkosta löytyvät apuvälineet vieroitustyön tueksi. Suosittelemme osallistumista koko webinaarisarjaan\, mutta on myös mahdollista ilmoittautua yksittäisin koulutuksiin. Webinaarisarja soveltuu erityisesti uusille tupakastavieroitustyötä tekeville\, mutta myös kertauksena kokeneemmille vieroittajille. \nWebinaarisarja on uusinta keväältä 2024. \nOsa 1: Terveyshaitat ja riippuvuus\nToteutus\nWebinaari toteutetaan Teams-kokouksena. Koulutuksesta ei tehdä tallennetta\, mutta webinaarisarja uusitaan myöhemmin. Linkki koulutukseen lähetetään ilmoittautuneille ma 16.9.2024. \nKohderyhmä\nSosiaali- ja terveydenhuollon ammattilaiset \nOsallistumismaksu\nWebinarin osallistumismaksu on 40 € / yksi webinaari\, 70 € / kaksi webinaaria ja 100 € / kaikki kolme webinaaria \nKolmen webinaarin kokonaisuus on mahdollista valita myös isommalle osallistujajoukolle. Organisaatiohinta on 500 € / organisaatio. \nOrganisaatiohinnassa ei osallistujien määrää ole rajattu\, mutta ota huomioon seuraava:\nOrganisaatiohinta on toimipaikkakohtainen. Julkisten terveyspalvelujen ollessa kyseessä\, organisaatiolla tarkoitetaan yksittäistä terveysasemaa\, kaupungin hyvinvointipalveluiden yhtä osaa\, kuten neuvolapalveluita tai erikoissairaanhoidon yhden sairaalan klinikkaa. \nOhjelma\n13.30-14.10 Tupakoinnin ja nikotiinin terveyshaitat; Krista Abdulla Hama Salih\, koulutuksen erityisasiantuntija\, Filha\n14.10-14.50 Tupakka- ja nikotiiniriippuvuus sekä uudet nikotiinituotteet\, Patrick Sandström\, erityisasiantuntija\, Filha\n14.50-15.00 Keskustelu \nIlmoittautuminen\nIlmoittaudu webinaariin tästä linkistä \nIlmoittautumisen yhteydessä kysytään laskutustietoja. Tarkistathan etukäteen\, että laskutustiedot ovat oikein. Laskutus tapahtuu jälkikäteen näiden tietojen pohjalta. \nOrganisaatiohinnan valitseville tiedoksi\, että vain yksi henkilö/organisaatio ilmoittautuu. Linkki webinaariin lähetetään ilmoittautujan sähköpostiin. \nPeruutusehdot\nViimeinen kuluton peruutuspäivä on viikkoa ennen koulutusta. Tämän jälkeen tulleista peruutuksista tai peruuttamatta jättämisistä veloitetaan täysi osallistumismaksu. Edellä mainittu ei koske sairastapauksia. \nMuut sarjan webinaarit\n22.10.2024 osa 2: Tupakka- ja nikotiiniriippuvuuden hoito\n13.11.2024 osa 3: Kuinka otan puheeksi ja tuen lopettamaan?
URL:https://www.filha.fi/koulutus/tietoa-tupakka-ja-nikotiinivieroituksesta-webinaari-osa-1-terveyshaitat-ja-riippuvuus/
END:VEVENT
BEGIN:VEVENT
DTSTART;VALUE=DATE:20240926
DTEND;VALUE=DATE:20240927
DTSTAMP:20260420T003710
CREATED:20240122T102108Z
LAST-MODIFIED:20240904T090321Z
UID:30122-1727308800-1727395199@www.filha.fi
SUMMARY:Pohjois-Savon hyvinvointialueen Keuhko- ja allergiapäivä
DESCRIPTION:Aika torstai 26.9.2024 klo 9.30–15.00\nPaikka auditorio 1\, KYS Pääsairaala\, rak. M\, 2. krs\, Puijonlaaksontie 2\, Kuopio\nKohderyhmä perusterveydenhuollon lääkärit ja hoitajat\, terveydenhoitajat ja lastentautien\, keuhkosairauksien\, ihotautien\, korva-\, nenä- ja kurkkutautien lääkärit ja hoitajat\, työterveyshuollon lääkärit ja hoitajat\, ravitsemusterapeutit\, apteekkien astmayhdyshenkilöt sekä kaikki asiasta kiinnostuneet terveydenhuollon ammattilaiset \nJärjestäjä Pohjois-Savon hyvinvointialue (PSHVA) / Henkilöstön kehittämisyksikkö yhteistyössä Filha ry:n kanssa \nErikoistumiskoulutus Itä-Suomen yliopiston Terveystieteiden tiedekunta on hyväksynyt tilaisuuden erikoislääkärikoulutuksen teoreettiseksi kurssimuotoiseksi koulu-tukseksi seuraavasti:\n6 tuntia: Keuhkosairaudet ja allergologia\, Korva-\, nenä- ja kurkkusairau-det\, Lastentaudit\, Työterveyshuolto ja Yleislääketiede\, 3 tuntia: Ihotaudit ja allergologia\nEtäyhteys Ei etäyhteysosallistumista. \nKustannukset Koulutus on osallistujille lounasta lukuun ottamatta maksuton. Tervetuloa!\nIlmoittautuminen viimeistään 19.9.2024\nPSHVA:n henkilöstö: Pulssi-intra – OSS Koulutuskalenteri\nMuut: https://q.surveypal.com/ilmoittautuminen_26092024 \nLisätietoja \nSisältö: erityisasiantuntija Krista Abdulla Hama Salih puh. 044 544 2209\,\nkrista.abdullahamasalih@filha.fi\nKäytännön järjestelyt: henkilöstön kehittämisasiantuntija Eeva-Maria Ruuskanen puh. 044 717 2106\, eeva-maria.ruuskanen@pshyvinvointi-alue.fi \nOhjelma (PDF)\n09.30–10.00 Aamukahvi (Filha ry tarjoaa) ja näyttelyyn tutustuminen \n10.00–10.15 Koulutuksen avaus. Mitä uutta Filhassa ammattilaisille\n– allergiatyöryhmän puheenjohtaja\, korva-\, nenä- ja kurkkutautien erikoislääkäri Karoliina Pajala\, KYS\n– allergia- ja astma-asiantuntija Krista Abdulla Hama Salih\, Filha ry \n10.15–10.45 Nuoren urheilijan hengenahdistuksen tutkiminen astmaa vai EILOA\n– kliinisen fysiologian ja isotooppilääketieteen erikoislääkäri Timo Eronen\, KYS \n10.45–11.15 Lapsen ja nuoren tukkoinen nenä\n– korva-\, nenä- ja kurkkutautien erikoislääkäri\, osastoylilääkäri\, LT Johanna Nokso-Koivisto\, HUS \n11.15–12.15 Lounas (omakustanteinen) ja näyttelyyn tutustuminen \n12.15–12.45 Lasten keuhkofunktiotutkimukset ja tulkinta\n– erikoistuva lääkäri Markus Rannankari\, KYS \n12.45–13.15 Aikuisten keuhkofunktiotutkimukset ja tulkinta\n– kliinisen fysiologian ja isotooppilääketieteen erikoislääkäri Suvi Harti-kainen\, KYS \n13.15–13.45 Iltapäivän kahvit (Filha ry tarjoaa) ja näyttelyyn tutustuminen \n13.45–14.15 Ilmastonmuutos ja allergiat\n– ympäristöaltisteiden toksikologian professori Marjut Roponen\, Itä-Suo-men yliopisto \n14.15–14.45 Kosketusihottumat\n– ihotautien ja allergologian erikoislääkäri\, LT Maria Suttle\, KYS \n14.45–15.00 Päivän yhteenveto\nKoulutus päättyy. Hyvää kotimatkaa
URL:https://www.filha.fi/koulutus/pohjois-savon-hyvinvointialueen-keuhko-ja-allergiapaiva/
END:VEVENT
END:VCALENDAR