BEGIN:VCALENDAR
VERSION:2.0
PRODID:-//Filha - ECPv6.15.20//NONSGML v1.0//EN
CALSCALE:GREGORIAN
METHOD:PUBLISH
X-WR-CALNAME:Filha
X-ORIGINAL-URL:https://www.filha.fi
X-WR-CALDESC:Tapahtumat Filha
REFRESH-INTERVAL;VALUE=DURATION:PT1H
X-Robots-Tag:noindex
X-PUBLISHED-TTL:PT1H
BEGIN:VTIMEZONE
TZID:Europe/Helsinki
BEGIN:DAYLIGHT
TZOFFSETFROM:+0200
TZOFFSETTO:+0300
TZNAME:EEST
DTSTART:20230326T010000
END:DAYLIGHT
BEGIN:STANDARD
TZOFFSETFROM:+0300
TZOFFSETTO:+0200
TZNAME:EET
DTSTART:20231029T010000
END:STANDARD
BEGIN:DAYLIGHT
TZOFFSETFROM:+0200
TZOFFSETTO:+0300
TZNAME:EEST
DTSTART:20240331T010000
END:DAYLIGHT
BEGIN:STANDARD
TZOFFSETFROM:+0300
TZOFFSETTO:+0200
TZNAME:EET
DTSTART:20241027T010000
END:STANDARD
BEGIN:DAYLIGHT
TZOFFSETFROM:+0200
TZOFFSETTO:+0300
TZNAME:EEST
DTSTART:20250330T010000
END:DAYLIGHT
BEGIN:STANDARD
TZOFFSETFROM:+0300
TZOFFSETTO:+0200
TZNAME:EET
DTSTART:20251026T010000
END:STANDARD
END:VTIMEZONE
BEGIN:VEVENT
DTSTART;TZID=Europe/Helsinki:20241001T133000
DTEND;TZID=Europe/Helsinki:20241001T150000
DTSTAMP:20260419T225133
CREATED:20240207T114908Z
LAST-MODIFIED:20240322T094206Z
UID:30263-1727789400-1727794800@www.filha.fi
SUMMARY:Astmakoulutus hoitajille\, osa 2
DESCRIPTION:Aika: 1.10.2024 klo 13:30-15:00\nPaikka: Teams-kokous\, linkki lähetetään ilmoittautuneille.\nKoulutus on maksuton.\nIlmoittaudu tästä: klikkaa tästä \nOhjelma: (PDF)\n13:30 Koulutuksen avaus.\nKrista Abdulla Hama Salih\, allergia- ja astma-asiantuntija\, Filha ry.\n13:35 Spirometriatutkimukseen ohjaaminen ja tutkimuksen laadukas suorittaminen.\nKrista Abdulla Hama Salih\n13:55 Chiesi Pharman puheenvuoro.\n14:10 Miten tulkitsen spirometrian\, mitä tutkimus kertoo. Antti Saarinen\, asiantuntijaylilääkäri\, Filha ry.\n14:50 Keskustelua ja aikaa kysymyksille.\n15:00 Koulutus päättyy.
URL:https://www.filha.fi/koulutus/astmawebinaari/
END:VEVENT
BEGIN:VEVENT
DTSTART;TZID=Europe/Helsinki:20241022T133000
DTEND;TZID=Europe/Helsinki:20241022T150000
DTSTAMP:20260419T225133
CREATED:20240613T105117Z
LAST-MODIFIED:20240614T125815Z
UID:30817-1729603800-1729609200@www.filha.fi
SUMMARY:Tietoa tupakka- ja nikotiinivieroituksesta -webinaari osa 2: Tupakka- ja nikotiiniriippuvuuden hoito
DESCRIPTION:Tietoa tupakka- ja nikotiinivieroituksesta webinaarisarjassa käydään läpi perusasiat liittyen tupakoinnin terveyshaittoihin\, tupakka- ja nikotiiniriippuvuuteen\, uusiin nikotiinituotteisiin sekä nikotiiniriippuvuuden hoitoon. Webinaarisarjan viimeisessä koulutuksessa erityisteemana on puheeksiotto\, motivoiva keskustelu sekä verkosta löytyvät apuvälineet vieroitustyön tueksi. Suosittelemme osallistumista koko webinaarisarjaan\, mutta on myös mahdollista ilmoittautua yksittäisin koulutuksiin. Webinaarisarja soveltuu erityisesti uusille tupakastavieroitustyötä tekeville\, mutta myös kertauksena kokeneemmille vieroittajille. \nWebinaarisarja on uusinta keväältä 2024. \nOsa 2: Tupakka- ja nikotiiniriippuvuuden hoito\nToteutus\nWebinaari toteutetaan Teams-kokouksena. Koulutuksesta ei tehdä tallennetta\, mutta webinaarisarja uusitaan myöhemmin. Linkki koulutukseen lähetetään ilmoittautuneille ma 21.10.2024. \nKohderyhmä\nSosiaali- ja terveydenhuollon ammattilaiset \nOsallistumismaksu\nWebinarin osallistumismaksu on 40 € / yksi webinaari\, 70 € / kaksi webinaaria ja 100 € / kaikki kolme webinaaria. \nKolmen webinaarin kokonaisuus on mahdollista valita myös isommalle osallistujajoukolle. Organisaatiohinta on 500 € / organisaatio. \nOrganisaatiohinnassa ei osallistujien määrää ole rajattu\, mutta ota huomioon seuraava:\nOrganisaatiohinta on toimipaikkakohtainen. Julkisten terveyspalvelujen ollessa kyseessä\, organisaatiolla tarkoitetaan yksittäistä terveysasemaa\, kaupungin hyvinvointipalveluiden yhtä osaa\, kuten neuvolapalveluita tai erikoissairaanhoidon yhden sairaalan klinikkaa. \nOhjelma\n13.30–14.00 Tupakka- ja nikotiiniriippuvuuden hoito Käypä hoito -suosituksen mukaisesti\, Patrick Sandström\, erityisasiantuntija\, Filha ry\n14.05–14.55 Nikotiinikorvaushoito ja reseptilääkkeet käytännön vieroitustyössä\, Päivi Grönroos\, tupakastavieroitushoitaja\, TYKS keuhkopoliklinikka\n14.55–15.00 Keskustelua \nIlmoittautuminen\nIlmoittaudu webinaariin tästä linkistä \nIlmoittautumisen yhteydessä kysytään laskutustietoja. Tarkistathan etukäteen\, että laskutustiedot ovat oikein. Laskutus tapahtuu jälkikäteen näiden tietojen pohjalta. \nOrganisaatiohinnan valitseville tiedoksi\, että vain yksi henkilö/organisaatio ilmoittautuu. Linkki webinaariin lähetetään ilmoittautujan sähköpostiin. \nPeruutusehdot\nViimeinen kuluton peruutuspäivä on viikkoa ennen koulutusta. Tämän jälkeen tulleista peruutuksista tai peruuttamatta jättämisistä veloitetaan täysi osallistumismaksu. Edellä mainittu ei koske sairastapauksia. \nMuut sarjan webinaarit\n19.9.2024 osa 1: Terveyshaitat ja riippuvuus\n13.11.2024 osa 3: Kuinka otan puheeksi ja tuen lopettamaan?
URL:https://www.filha.fi/koulutus/tietoa-tupakka-ja-nikotiinivieroituksesta-webinaari-osa-2-tupakka-ja-nikotiiniriippuvuuden-hoito/
END:VEVENT
BEGIN:VEVENT
DTSTART;TZID=Europe/Helsinki:20241029T133000
DTEND;TZID=Europe/Helsinki:20241029T150000
DTSTAMP:20260419T225133
CREATED:20240207T115055Z
LAST-MODIFIED:20240612T073245Z
UID:30267-1730208600-1730214000@www.filha.fi
SUMMARY:Keuhkoahtaumatauti webinaari
DESCRIPTION:KEUHKOAHTAUMATAUTIKOULUTUS\nWebinaarisarja\, osa 2 \nAika: 29.10.2024 klo 13:30-15:00\nPaikka: Teams-kokous\, linkki lähetetään ilmoittautuneille.\nKoulutus on maksuton.\nIlmoittautuminen: klikkaa tästä ilmoittautumaan \nOhjelma: (PDF)\n13:30 Koulutuksen avaus. Krista Abdulla Hama Salih\, Filha ry.\n13:35 Keuhkoahtaumataudin liitännäissairaudet.\nAntti Saarinen\, asiantuntijaylilääkäri\, Filha ry.\n14:15 Chiesi Pharman puheenvuoro.\n14:25 Keuhkoahtaumatautipotilaan kuntoutus.\nHerkko Ryynänen\, ft\, TtM\, Filha ry.\n14:55 Keskustelua\, kysymyksiä.\n15:00 Koulutus päättyy.
URL:https://www.filha.fi/koulutus/keuhkoahtaumatauti-webinaari/
END:VEVENT
END:VCALENDAR