BEGIN:VCALENDAR
VERSION:2.0
PRODID:-//Filha - ECPv6.15.20//NONSGML v1.0//EN
CALSCALE:GREGORIAN
METHOD:PUBLISH
X-WR-CALNAME:Filha
X-ORIGINAL-URL:https://www.filha.fi
X-WR-CALDESC:Tapahtumat Filha
REFRESH-INTERVAL;VALUE=DURATION:PT1H
X-Robots-Tag:noindex
X-PUBLISHED-TTL:PT1H
BEGIN:VTIMEZONE
TZID:Europe/Helsinki
BEGIN:DAYLIGHT
TZOFFSETFROM:+0200
TZOFFSETTO:+0300
TZNAME:EEST
DTSTART:20240331T010000
END:DAYLIGHT
BEGIN:STANDARD
TZOFFSETFROM:+0300
TZOFFSETTO:+0200
TZNAME:EET
DTSTART:20241027T010000
END:STANDARD
BEGIN:DAYLIGHT
TZOFFSETFROM:+0200
TZOFFSETTO:+0300
TZNAME:EEST
DTSTART:20250330T010000
END:DAYLIGHT
BEGIN:STANDARD
TZOFFSETFROM:+0300
TZOFFSETTO:+0200
TZNAME:EET
DTSTART:20251026T010000
END:STANDARD
BEGIN:DAYLIGHT
TZOFFSETFROM:+0200
TZOFFSETTO:+0300
TZNAME:EEST
DTSTART:20260329T010000
END:DAYLIGHT
BEGIN:STANDARD
TZOFFSETFROM:+0300
TZOFFSETTO:+0200
TZNAME:EET
DTSTART:20261025T010000
END:STANDARD
END:VTIMEZONE
BEGIN:VEVENT
DTSTART;TZID=Europe/Helsinki:20250826T130000
DTEND;TZID=Europe/Helsinki:20250826T170000
DTSTAMP:20260420T042128
CREATED:20250503T052246Z
LAST-MODIFIED:20250821T051237Z
UID:32972-1756213200-1756227600@www.filha.fi
SUMMARY:Keuhkosyövän diagnostinen polku
DESCRIPTION:Kohderyhmä: Maksuton koulutus on tarkoitettu keuhkosyövän tutkimukseen\, diagnostiikkaan ja hoitoon osallistuville lääkäreille. \nAika: 26.8.2025 klo 13-17 \nPaikka: BIOMEDICUM\, sali 2\, Haartmaninkatu 8\, Helsinki \nKoulutus striimataan Teams-yhteydellä etäosallistujille. Jos et ole saanut etäosallistumisen linkkiä\, ota yhteyttä tiina.kononen@filha.fi. \nIlmoittautuminen: lomakkeella 19.8.2025 mennessä. \nOhjelma: (PDF) \n13:00 Lounas (Helsingissä paikan päällä osallistuville) \nPuheenjohtaja Tuula Vasankari\, pääsihteeri\, LT\, professori\, keuhkosairauksien erikoislääkäri\, Filha ry \n14:00  Keuhkosyöpäohjelma – Miia Aro\, asiantuntijaylilääkäri\, LT\, erikoislääkäri\, keuhkosairaudet ja allergologia\, Filha ry \n14:30  Radiologia keuhkosyövän diagnostiikassa – Airi Jartti\, Osastonylilääkäri\, OYS Kuvantaminen\, OYS \n15:00  Standardoitu diagnostiikkapolku ja potilaan hoitokelpoisuuden arvio – Heidi Andersén\, LT\, keuhkosairauksien ja allerologian erikoislääkäri\, kliininen opettaja\, Vaasan KS \n15:30 Keuhkosyövän näytteenotto ja levinneisyyskartoitus – Toomas Uibu\, LT\, osastonylilääkäri\, keuhkosairauksien ja allergologian erikoislääkäri\, TAYS \n16:00 Näkökulma  patologian prosessiin ja refleksitutkimuksiin – Jatta Saarenheimo\, FT\, sairaalasolubiologi\, Fimlab \n16:30 Kysymykset etäpaikkakunnilta ja keskustelu moniammatillisen yhteistyön parantamisesta Suomessa – pj Tuula Vasankari\, pääsihteeri\, LT\, professori\, keuhkosairauksien erikoislääkäri\, Filha ry
URL:https://www.filha.fi/koulutus/keuhkosyovan-diagnostinen-polku/
END:VEVENT
END:VCALENDAR