BEGIN:VCALENDAR
VERSION:2.0
PRODID:-//Filha - ECPv6.15.20//NONSGML v1.0//EN
CALSCALE:GREGORIAN
METHOD:PUBLISH
X-WR-CALNAME:Filha
X-ORIGINAL-URL:https://www.filha.fi
X-WR-CALDESC:Tapahtumat Filha
REFRESH-INTERVAL;VALUE=DURATION:PT1H
X-Robots-Tag:noindex
X-PUBLISHED-TTL:PT1H
BEGIN:VTIMEZONE
TZID:Europe/Helsinki
BEGIN:DAYLIGHT
TZOFFSETFROM:+0200
TZOFFSETTO:+0300
TZNAME:EEST
DTSTART:20240331T010000
END:DAYLIGHT
BEGIN:STANDARD
TZOFFSETFROM:+0300
TZOFFSETTO:+0200
TZNAME:EET
DTSTART:20241027T010000
END:STANDARD
BEGIN:DAYLIGHT
TZOFFSETFROM:+0200
TZOFFSETTO:+0300
TZNAME:EEST
DTSTART:20250330T010000
END:DAYLIGHT
BEGIN:STANDARD
TZOFFSETFROM:+0300
TZOFFSETTO:+0200
TZNAME:EET
DTSTART:20251026T010000
END:STANDARD
BEGIN:DAYLIGHT
TZOFFSETFROM:+0200
TZOFFSETTO:+0300
TZNAME:EEST
DTSTART:20260329T010000
END:DAYLIGHT
BEGIN:STANDARD
TZOFFSETFROM:+0300
TZOFFSETTO:+0200
TZNAME:EET
DTSTART:20261025T010000
END:STANDARD
END:VTIMEZONE
BEGIN:VEVENT
DTSTART;TZID=Europe/Helsinki:20251002T093000
DTEND;TZID=Europe/Helsinki:20251002T151500
DTSTAMP:20260420T075434
CREATED:20240930T120856Z
LAST-MODIFIED:20250912T101241Z
UID:31263-1759397400-1759418100@www.filha.fi
SUMMARY:Pohjois-Savon alueellinen allergia- ja astmakoulutus\, Kuopio
DESCRIPTION:Alueellinen allergia- ja astmapäivä\nAika torstai 2.10.2025 klo 9.30–15.15\nPaikka auditorio 1\, KYS Pääsairaala\, rak. M\, 2. krs\, Puijonlaaksontie 2\, Kuopio\nKohderyhmä perusterveydenhuollon\, erikoissairaanhoidon ja yksityispuolen lääkärit ja\nhoitajat sekä apteekkarit\, proviisorit\, farmaseutit\, jotka kohtaavat työssään\nja ohjaavat keuhkosairauksia ja allergioita sairastavia potilaita\nJärjestäjät Pohjois-Savon hyvinvointialue (PSHVA) / Koulutuksen palvelualue yhteistyössä Filha ry:n kanssa\nTavoite Päivittää tietoa allergioiden ja astman hoidosta. Alueen eri toimijoiden yhteistyön vahvistaminen. \nOhjelma (PDF)\n09.30–10.00 Aamukahvi (Filha ry tarjoaa) ja näyttelyyn tutustuminen\n10.00–10.15 Koulutuksen avaus ja mitä uutta Filhassa ammattilaisille\n– allergiatyöryhmän puheenjohtaja\, korva-\, nenä- ja kurkkutautien erikoislääkäri Karoliina Pajala\, PSHVA / KYS\n– erityisasiantuntija Krista Ahvenjärvi\, Filha ry\n10.15–10.45 Anafylaksia päivystyksessä\n– infektiosairauksien erikoislääkäri Ülle Tamm\, PSHVA / KYS\n10.45–11.15 Angioödeema ja HAE\n– ihotautien ja allergologian erikoislääkäri Maria Suttle\, PSHVA / KYS\n11.15–12.15 Lounas (omakustanteinen) ja näyttelyyn tutustuminen\n12.15–12.45 Akuutti ja krooninen urtikaria\n– ihotautien ja allergologian erikoislääkäri Suvi Rannankari\, PSHVA / KYS\n12.45–13.15 Akuutti astmakohtaus aikuisella\n– keuhkosairauksien professori Heikki Koskela\, PSHVA / KYS ja UEF\n13.15–13.45 Iltapäiväkahvit (Filha tarjoaa) ja näyttelyyn tutustuminen\n13.45–14.15 Lasten ruoka-allergian päivittynyt Käypä hoito -suositus\n– lastentautien erikoislääkäri Marja Ruotsalainen\, PSHVA / KYS\n14.15–14.45 Lasten ruoka-allergian päivittynyt Käypä hoito -suositus – ravitsemus\n– ravitsemusterapian professori Ursula Schwab\, PSHVA / KYS ja UEF\n14.45–15.05 Allergialääkkeiden käyttö itsehoidon Käypä hoito -suosituksen pohjalta\n– farmasian tohtori Miia Tiihonen\, UEF\n15.05–15.15 Keskustelua päivän teemoista ja seuraavasta koulutuksesta päättäminen\n– puheenjohtajan johdolla\nKoulutus päättyy. Hyvää kotimatkaa.
URL:https://www.filha.fi/koulutus/pohjois-savon-alueellinen-allergia-ja-astmakoulutus/
END:VEVENT
BEGIN:VEVENT
DTSTART;VALUE=DATE:20251007
DTEND;VALUE=DATE:20251008
DTSTAMP:20260420T075434
CREATED:20240930T120959Z
LAST-MODIFIED:20250912T101324Z
UID:31266-1759795200-1759881599@www.filha.fi
SUMMARY:Etelä-Karjalan alueellinen keuhko- ja allergiapäivä\, Lappeenranta
DESCRIPTION:ALUEELLINEN KEUHKOSAIRAUKSIEN KOULUTUSPÄIVÄ \nLappeenranta 7.10.2025\nPaikka: Lappeenrannan kaupungintalo\, valtuustosali\nKohderyhmät: Perusterveydenhuollon\, erikoissairaanhoidon ja yksityispuolen lääkärit ja\nhoitajat sekä apteekkarit\, proviisorit\, farmaseutit\, jotka kohtaavat työssään ja ohjaavat\nkeuhkosairauksia ja allergioita sairastavia potilaita. Koulutus on maksuton.\nIlmoittautuminen \nOHJELMA (PDF)\n9:00 Aamupäivän kahvit ja näyttelyyn tutustuminen\n9:30 Koulutuksen avaus ja mitä uutta Filhassa ammattilaisille\nSeveri Seppälä\, keuhkosairauksien ylilääkäri\, EKHVA\nKrista Ahvenjärvi\, asiantuntija\, Filha ry\n9:45 Ajankohtaista uniapneasta\nSeveri Seppälä\n10:30 Uniapneapotilaan ohjaus\nTiina Tarhila\, sairaanhoitaja\, EKHVA\n11:00 Lounas (omakustanne) ja näyttelyyn tutustuminen\n12:00 Mitä jokaisen terveydenhuollon ammattilaisen tulisi tietää tuberkuloosista\nTuula Vasankari\, LT\, professori\, keuhkosairauksien el\, pääsihteeri\, Filha ry\n13:00 Iltapäivän kahvit ja näyttelyyn tutustuminen\n13:30 Keuhkoahtaumatauti nykypäivänä\nHenna Kupiainen\, keuhkolääkäri\, EKHVA\n14:15 Kuinka tuen ja ohjaan potilasta tupakka- ja nikotiinivieroituksessa\nKrista Ahvenjärvi\n14:45 Keskustelua ja seuraavasta koulutuksesta sopiminen\npj Severi Seppälän johdolla\n15:00 Koulutus päättyy. Hyvää kotimatkaa.
URL:https://www.filha.fi/koulutus/etela-karjalan-alueellinen-keuhko-ja-allergiapaiva/
END:VEVENT
BEGIN:VEVENT
DTSTART;TZID=Europe/Helsinki:20251009T133000
DTEND;TZID=Europe/Helsinki:20251009T150000
DTSTAMP:20260420T075434
CREATED:20250324T135610Z
LAST-MODIFIED:20250422T093644Z
UID:32543-1760016600-1760022000@www.filha.fi
SUMMARY:Tietoa tupakka- ja nikotiinivieroituksesta -webinaari osa 2: Tupakka- ja nikotiiniriippuvuuden hoito
DESCRIPTION:Tietoa tupakka- ja nikotiinivieroituksesta webinaarisarjassa käydään läpi perusasiat liittyen tupakoinnin terveyshaittoihin\, tupakka- ja nikotiiniriippuvuuteen\, uusiin nikotiinituotteisiin sekä nikotiiniriippuvuuden hoitoon. Webinaarisarjan viimeisessä koulutuksessa erityisteemana on puheeksiotto\, motivoiva keskustelu sekä verkosta löytyvät apuvälineet vieroitustyön tueksi. Suosittelemme osallistumista koko webinaarisarjaan\, mutta on myös mahdollista ilmoittautua yksittäisin koulutuksiin. Webinaarisarja soveltuu erityisesti uusille tupakastavieroitustyötä tekeville\, mutta myös kertauksena kokeneemmille vieroittajille. \nWebinaarisarja on uusinta syksyltä 2024. \nOsa 2: Tupakka- ja nikotiiniriippuvuuden hoito\nToteutus\nWebinaari toteutetaan Teams-kokouksena. Koulutuksesta ei tehdä tallennetta\, mutta webinaarisarja uusitaan myöhemmin. Linkki koulutukseen lähetetään ilmoittautuneille etukäteen sähköpostitse. \nKohderyhmä\nSosiaali- ja terveydenhuollon ammattilaiset \nOsallistumismaksu\nWebinarin osallistumismaksu on 40 € / yksi webinaari\, 70 € / kaksi webinaaria ja 100 € / kaikki kolme webinaaria. \nKolmen webinaarin kokonaisuus on mahdollista valita myös isommalle osallistujajoukolle. Organisaatiohinta on 500 € / organisaatio. \nOrganisaatiohinnassa ei osallistujien määrää ole rajattu\, mutta ota huomioon seuraava:\nOrganisaatiohinta on toimipaikkakohtainen. Julkisten terveyspalvelujen ollessa kyseessä\, organisaatiolla tarkoitetaan yksittäistä terveysasemaa\, kaupungin hyvinvointipalveluiden yhtä osaa\, kuten neuvolapalveluita tai erikoissairaanhoidon yhden sairaalan klinikkaa. \nOhjelma\n13.30–14.00 Tupakka- ja nikotiiniriippuvuuden hoito Käypä hoito -suosituksen mukaisesti\, Patrick Sandström\, erityisasiantuntija\, Filha ry\n14.05–14.55 Nikotiinikorvaushoito ja reseptilääkkeet käytännön vieroitustyössä\, Päivi Grönroos\, tupakastavieroitushoitaja\, TYKS keuhkopoliklinikka\n14.55–15.00 Keskustelua \nIlmoittautuminen\nIlmoittaudu webinaariin tästä linkistä \nIlmoittautumisen yhteydessä kysytään laskutustietoja. Tarkistathan etukäteen\, että laskutustiedot ovat oikein. Laskutus tapahtuu jälkikäteen näiden tietojen pohjalta. \nOrganisaatiohinnan valitseville tiedoksi\, että vain yksi henkilö/organisaatio ilmoittautuu. Linkki webinaariin lähetetään ilmoittautujan sähköpostiin. \nPeruutusehdot\nViimeinen kuluton peruutuspäivä on viikkoa ennen koulutusta. Tämän jälkeen tulleista peruutuksista tai peruuttamatta jättämisistä veloitetaan täysi osallistumismaksu. Edellä mainittu ei koske sairastapauksia. \nMuut sarjan webinaarit\n18.9.2025 osa 1: Terveyshaitat ja riippuvuus\n\n5.11.2025 osa 3: Kuinka otan puheeksi ja tuen lopettamaan? \n 
URL:https://www.filha.fi/koulutus/tietoa-tupakka-ja-nikotiinivieroituksesta-webinaari-osa-2-tupakka-ja-nikotiiniriippuvuuden-hoito-3/
END:VEVENT
BEGIN:VEVENT
DTSTART;VALUE=DATE:20251029
DTEND;VALUE=DATE:20251030
DTSTAMP:20260420T075434
CREATED:20240930T121114Z
LAST-MODIFIED:20250912T101752Z
UID:31269-1761696000-1761782399@www.filha.fi
SUMMARY:Kainuun alueellinen keuhko- ja allergiapäivä
DESCRIPTION:ALUEELLINEN KEUHKO- JA ALLERGIAPÄIVÄ 29.10.2025 \nPaikka: Kainuun keskussairaala\, luentosali F4\, Sotkamontie 13\nKohderyhmät: Perusterveydenhuollon\, erikoissairaanhoidon ja yksityispuolen lääkärit ja hoitajat sekä apteekkarit\, proviisorit\, farmaseutit\, jotka kohtaavat työssään ja ohjaavat keuhkosairauksia ja allergioita sairastavia potilaita.\nIlmoittautuminen: Kainuun hyvinvointialueen henkilöstö ilmoittautuu HR-koulutuskalenterin kautta\, muut sähköpostilla: koulutus@kainuu.fi \nOHJELMA (PDF)\n08:10 Koulutuksen avaus\nLiisa Kalliokoski\, lastentautien ylilääkäri\, Kainuun hva\n08:15 Filhan tervehdys. Miten tuemme terveydenhuollon ammattilaisia.\nKrista Ahvenjärvi\, allergia- ja astma-asiantuntija\, Filha ry\n08:20 Lasten ruoka-allergiat ja ruoka-allergisen lapsen perheen ohjaus\nLiisa Kalliokoski\nSinikka Laatikainen\, apulaispalveluesihenkilö ja Ulla Lintula\, sh\, Kainuun hva\n09:30 Aamukahvi ja näyttelyyn tutustuminen\n10:00 Lasten ruoka-allergiat ja ruoka-allergisen lapsen perheen ohjaus aihe jatkuu\nLiisa Kalliokoski\nSinikka Laatikainen\, apulaispalveluesihenkilö ja Ulla Lintula\, sh\, Kainuun hva\n11:15 Lounastauko (omakustanne) ja näyttelyyn tutustuminen\n12:15 Tuberkuloosi tänään\nTuula Vasankari\, professori\, Filhan pääsihteeri\n13:15 Iltapäiväkahvit ja näyttelyyn tutustuminen\n13:45 Keuhkosarkoidoosi\, milloin epäilen ja miten diagnosoin\, etäluento\nAntti Saarinen\, keuhkosairauksien erikoislääkäri\, Filha ry\n14:30 Ravitsemus keuhkosairauksissa\nAnna-Maria Teeriniemi laillistettu ravitsemusterapeutti\, FT\, Kainuun hva\nHanna-Mari Sonninen laillistettu ravitsemusterapeutti\, TtM\, Kainuun hva\n15:00 Seuraavasta koulutuksesta sopiminen.\nTilaisuus päättyy.
URL:https://www.filha.fi/koulutus/kainuun-alueellinen-keuhko-ja-allergiapaiva/
END:VEVENT
BEGIN:VEVENT
DTSTART;TZID=Europe/Helsinki:20251030T090000
DTEND;TZID=Europe/Helsinki:20251030T150000
DTSTAMP:20260420T075434
CREATED:20250623T062113Z
LAST-MODIFIED:20250912T101834Z
UID:33288-1761814800-1761836400@www.filha.fi
SUMMARY:Keuhkosairauksien ja allergologian koulutuspäivä\, Varha
DESCRIPTION:Ajankohta: 30.10.2025\, klo 9 – 15:00\nPaikka: Tyks\, T-sairaala\, Johan Haartman –Sali\, Hämeentie 11\, Turku\nKohderyhmä: Sosiaali- ja terveydenhuollon ammattilaiset\nTavoitteet: Tavoitteena on lisätä tietoa aikuisten ja lasten hengityssairauksista\, allergioista ja atooppisen ekseeman hoidosta\, sekä vahvistaa Varsinais-Suomen hyvinvointialueen yhteistyötä kyseisten sairauksien hoidossa.\nJärjestäjä: Varsinais-Suomen hyvinvointialue ja FILHA Ry\nLuokitus: Terveydenhuollon ammatillinen koulutus\nIlmoittaudu tästä: Ilmoittaudu mukaan tästä \nOhjelma (PDF)\nklo 9:00 Aamukahvi ja näyttelyyn tutustuminen\nklo 9:30 Tervetulosanat\npj Arja Viinanen.\nMitä uutta Filhassa ammattilaisille.\nKrista Ahvenjärvi\, asiantuntija\, Filha ry.\nklo 9:45 Hengenahdistuksen erotusdiagnostiikka\nArja Viinanen\, LT\, keuhkosairauksien ja keuhko allergologian erikoislääkäri\, Tyks Keuhkosairaudet\nklo 10:15 Kurkunpääongelmat hengenahdistuksen syynä\nMiia Ruuskanen\, LT\, korva-\, nenä-\, kurkkutautien ja foniatrian erikoislääkäri\, Tyks Korvaklinikka / foniatria\nklo 10:45 Pitkittynyt yskä – koska jatkotutkimuksia\nHenrik Söderström\, LL\, keuhkosairauksien ja allergologian erikoislääkäri\, TYKS keuhkosairaudet\nklo 11:15 Keskustelua\nklo 11:30 Näyttelyyn tutustuminen ja Lounastauko (omakustanteinen)\nklo 12:30 Käypä hoito -suositus – Lasten ruoka-allergiat\nVarpu Elenius\, lasten allergologi\, dosentti\, TYKS Lasten allergia- ja keuhkopoliklinikka\nklo 13:00 Milloin epäillä\, että lapsella tai nuorella on astma?\nMaria Hartiala\, LT\, lastentautien erikoislääkäri\, TYKS\, Lasten allergia- ja keuhkopoliklinikka\nklo 13:30 Kahvit ja näyttelyyn tutustuminen\nklo 14:00 Atooppinen ekseeman nykyhoito\nEmilia Piispanen\, LL\, ihotautien ja allergologian eval\, TYKS Ihoklinikka
URL:https://www.filha.fi/koulutus/keuhkosairauksien-ja-allergologian-koulutuspaiva-varha/
END:VEVENT
BEGIN:VEVENT
DTSTART;TZID=Europe/Helsinki:20251030T130000
DTEND;TZID=Europe/Helsinki:20251030T143000
DTSTAMP:20260420T075434
CREATED:20250520T072022Z
LAST-MODIFIED:20250919T074013Z
UID:33082-1761829200-1761834600@www.filha.fi
SUMMARY:Sisäilmawebinaari terveydenhuollon ammattilaisille
DESCRIPTION:Aika \nTorstai 30.10.2025 klo 13-14:30 \nKuvaus\nMaksuton (Teams) -webinaari on suunnattu terveydenhuollon ammattilaisille. Webinaarissa käydään läpi\, mitä ”Sisäilmaan liittyvän oireilun ja sairastumisen hoitosuositus” tuo käytäntöön. Sisällössä painotetaan\, mitä terveydenhuollon ammattilaisen tulee ottaa huomioon\, kun potilaan oireilun syyksi epäillään sisäilmaa. \nTule kuuntelemaan\, mitä juuri sinun olisi työssäsi hyvä tietää aihepiiristä. \nKohderyhmä\nPerusterveydenhuollon\, erikoissairaanhoidon ja työterveyshuollon lääkärit\, hoitajat ja muut asiantuntijat sekä kaikki asiasta kiinnostuneet terveydenhuollon ammattilaiset. \nIlmoittautuminen: lomakkeella viimeistään 29.10.2025 \nWebinaarin tallenne on kaikkien ilmoittautuneiden katsottavissa 2 viikon ajan. \nOhjelma:  \nPuheenjohtaja Kati Huttunen\, ympäristöterveyden ja -toksikologian dosentti / THL \n13:00-13:40 Sisäympäristön haittatekijät ja sisäilmatilanteiden selvittäminen \n\nKati Huttunen\, ympäristöterveyden ja -toksikologian dosentti / THL\n\n13:40-13:45 Työkalut terveydenhuollon ammattilaisten työn tueksi \n\nHanna Lahti-Renkola\, hankevastaava / Filha ry\n\n13:45-14:15 Sisäilmaoireiden selvittely ja hoito terveydenhuollossa \n\nMiia Aro\, Asiantuntijaylilääkäri\, LT\, erikoislääkäri\, keuhkosairaudet ja allergologia / Filha ry  \n\n14:15-14:30 Kysymykset ja yhteenvetokeskustelu \nTervetuloa! \nWebinaarin toteuttaa keuhkoterveysjärjestö Filha ry osana Kansallista sisäilma ja terveys -ohjelmaa (2018-2028)\, jonka tavoitteena on edistää terveyttä ja hyvinvointia vähentämällä sisäympäristöön liittyviä haittoja Suomessa. Ohjelmaa koordinoi Terveyden ja hyvinvoinnin laitos\, ja työhön osallistuvat aktiivisesti Työterveyslaitos\, Filha ry\, Hengitysliitto\, Allergia-\, Iho- ja Astmaliitto sekä Sisäilmayhdistys ry.
URL:https://www.filha.fi/koulutus/sisailmawebinaari-terveydenhuollon-ammattilaisille/
END:VEVENT
END:VCALENDAR