BEGIN:VCALENDAR
VERSION:2.0
PRODID:-//Filha - ECPv6.15.20//NONSGML v1.0//EN
CALSCALE:GREGORIAN
METHOD:PUBLISH
X-WR-CALNAME:Filha
X-ORIGINAL-URL:https://www.filha.fi
X-WR-CALDESC:Tapahtumat Filha
REFRESH-INTERVAL;VALUE=DURATION:PT1H
X-Robots-Tag:noindex
X-PUBLISHED-TTL:PT1H
BEGIN:VTIMEZONE
TZID:Europe/Helsinki
BEGIN:DAYLIGHT
TZOFFSETFROM:+0200
TZOFFSETTO:+0300
TZNAME:EEST
DTSTART:20240331T010000
END:DAYLIGHT
BEGIN:STANDARD
TZOFFSETFROM:+0300
TZOFFSETTO:+0200
TZNAME:EET
DTSTART:20241027T010000
END:STANDARD
BEGIN:DAYLIGHT
TZOFFSETFROM:+0200
TZOFFSETTO:+0300
TZNAME:EEST
DTSTART:20250330T010000
END:DAYLIGHT
BEGIN:STANDARD
TZOFFSETFROM:+0300
TZOFFSETTO:+0200
TZNAME:EET
DTSTART:20251026T010000
END:STANDARD
BEGIN:DAYLIGHT
TZOFFSETFROM:+0200
TZOFFSETTO:+0300
TZNAME:EEST
DTSTART:20260329T010000
END:DAYLIGHT
BEGIN:STANDARD
TZOFFSETFROM:+0300
TZOFFSETTO:+0200
TZNAME:EET
DTSTART:20261025T010000
END:STANDARD
END:VTIMEZONE
BEGIN:VEVENT
DTSTART;TZID=Europe/Helsinki:20251104T090000
DTEND;TZID=Europe/Helsinki:20251104T153000
DTSTAMP:20260420T095138
CREATED:20240930T121211Z
LAST-MODIFIED:20250912T102004Z
UID:31272-1762246800-1762270200@www.filha.fi
SUMMARY:Etelä-Savon alueellinen keuhko- ja allergiapäivä
DESCRIPTION:ALUEELLINEN ASTMA- JA ALLERGIAKOULUTUS ETELÄ-SAVON HYVINVOINTIALUE\, \nELOISA Mikkeli 4.11.2025 \nPaikka: Mikkelin keskussairaalan auditorio. Porrassalmenkatu 35–37. Koulutus on Mikkelin alueella työskenteleville lähikoulutus. Etäosallistuminen on mahdollinen vain Savonlinnan ja Pieksämäen alueen osallistujille. \nKohderyhmät: Perusterveydenhuollon lääkärit ja hoitajat\, terveydenhoitajat ja lastentautien\, keuhkosairauksien\, ihotautien\, korva-\, nenä- ja kurkkutautien lääkärit ja hoitajat\, työterveyshuollon lääkärit ja hoitajat\, apteekkien th-ammattilaiset sekä kaikki asiasta kiinnostuneet muut sote-ammattilaiset. \nKoulutukselle on saatu erikoistumispisteet Itä-Suomen yliopistolta: Geriatria(2)\, Ihotaudit ja allergologia(5)\, Keuhkosairaudet ja allergologia(6)\, Kliininen fysiologia ja isotooppilääketiede(3)\, Korva\,- nenä- ja kurkkutaudit(1)\, Lastentaudit(5)\, Liikuntalääketiede(3)\, Terveydenhuolto (EL)(1)\, Työterveyshuolto(3)\, Yleislääketiede(6). \nIlmoittautuminen: https://link.webropolsurveys.com/EP/405020D5C627D89D Viimeinen ilmoittautumispäivä 31.10.2025. \nKoulutus on maksuton. \nOHJELMA (PDF)\n9:00 Aamukahvi ja näyttelyyn tutustuminen (FILHA Ry tarjoaa)\n9:30 Koulutuksen avaus\nAnssi Ukkonen\, keuhkosairauksien ylilääkäri\, Eloisa\n9:40 Mitä Filhassa terveydenhuollon ammattilaisille työn tueksi\nKrista Ahvenjärvi\, allergia- ja astma-asiantuntija\, FILHA ry\n9:50 Lasten ruoka-allergian uusi Käypä hoito -suositus\nMika Mäkelä\, Professori\, vastaava ylilääkäri\, HUS Tulehduskeskus\, Allergiasairaudet\n10:30 Lasten ruoka-allergia – miten ohjata perhettä ruokavalinnoissa\nSatu Parkkinen\, ravitsemusterapeutti\, Eloisa\n11:00 Lounas (omakustanteinen) ja näyttelyyn tutustuminen\n12:00 Kun iho kutisee ja oireilee – atooppisen ihottuman hoito\nTiina Ilves\, LT\, ihotautien ylilääkäri\, Eloisa\n12:45 Atooppisen ihon perushoidon ohjaus\nTommi Utriainen\, sh ja Suvi Martikainen\, sh\, ihotautien vastaanotto\, Eloisa\n13:15 Iltapäivän kahvi ja näyttelyyn tutustuminen (FILHA Ry tarjoaa)\n13:45 Mitä tehdä\, kun astmaa ei saada hallintaan\nAnssi Ukkonen\, keuhkosairauksien ylilääkäri\, Eloisa\n14:25 Ikäihmisen astma – miten hoidetaan\nHanna Nurmi\, LT\, keuhkosairauksien erikoislääkäri\, asiantuntijaylilääkäri\, FILHA Ry\n15:15 Keskustelua koulutuksen teemoista ja seuraavasta koulutuksesta sopiminen\n15:30 Tilaisuus päättyy. Hyvää kotimatkaa
URL:https://www.filha.fi/koulutus/etela-savon-alueellinen-keuhko-ja-allergiapaiva/
END:VEVENT
BEGIN:VEVENT
DTSTART;TZID=Europe/Helsinki:20251105T133000
DTEND;TZID=Europe/Helsinki:20251105T150000
DTSTAMP:20260420T095138
CREATED:20250324T135904Z
LAST-MODIFIED:20251015T091710Z
UID:32550-1762349400-1762354800@www.filha.fi
SUMMARY:Tietoa tupakka- ja nikotiinivieroituksesta -webinaari\, osa 3 Kuinka otan puheeksi ja tuen lopettamaan?
DESCRIPTION:Tietoa tupakka- ja nikotiinivieroituksesta webinaarisarjassa käydään läpi perusasiat liittyen tupakoinnin terveyshaittoihin\, tupakka- ja nikotiiniriippuvuuteen\, uusiin nikotiinituotteisiin sekä nikotiiniriippuvuuden hoitoon. Webinaarisarjan viimeisessä koulutuksessa erityisteemana on puheeksiotto\, motivoiva keskustelu sekä verkosta löytyvät apuvälineet vieroitustyön tueksi. Suosittelemme osallistumista koko webinaarisarjaan\, mutta on myös mahdollista ilmoittautua yksittäisin koulutuksiin. Webinaarisarja soveltuu erityisesti uusille tupakastavieroitustyötä tekeville\, mutta myös kertauksena kokeneemmille vieroittajille. \nWebinaarisarja on uusinta keväältä 2025. \nOsa 3: Kuinka otan puheeksi ja tuen lopettamaan?\nToteutus\nWebinaari toteutetaan Teams-kokouksena. Koulutuksesta ei tehdä tallennetta\, mutta webinaarisarja uusitaan myöhemmin. Linkki koulutukseen lähetetään ilmoittautuneille etukäteen sähköpostitse. \nKohderyhmä\nSosiaali- ja terveydenhuollon ammattilaiset \nOsallistumismaksu\nWebinarin osallistumismaksu on 40 € / yksi webinaari\, 70 € / kaksi webinaaria ja 100 € / kaikki kolme webinaaria. \nKolmen webinaarin kokonaisuus on mahdollista valita myös isommalle osallistujajoukolle. Organisaatiohinta on 500 € / organisaatio. \nOrganisaatiohinnassa ei osallistujien määrää ole rajattu\, mutta ota huomioon seuraava:\nOrganisaatiohinta on toimipaikkakohtainen. Julkisten terveyspalvelujen ollessa kyseessä\, organisaatiolla tarkoitetaan yksittäistä terveysasemaa\, kaupungin hyvinvointipalveluiden yhtä osaa\, kuten neuvolapalveluita tai erikoissairaanhoidon yhden sairaalan klinikkaa. \nOhjelma\n13.30–13.50 Kuinka otan tupakoinnin puheeksi?\, Patrick Sandström\n13.50–14.30 Motivoiva keskustelu\, Krista Ahvenjärvi\n14.30–14.50 Miten hyödynnän erilaisia työkaluja vieroitustyössä\, Patrick Sandström\n14.50–15.00 Keskustelua \nIlmoittautuminen\nIlmoittaudu webinaariin tästä linkistä \nIlmoittautumisen yhteydessä kysytään laskutustietoja. Tarkistathan etukäteen\, että laskutustiedot ovat oikein. Laskutus tapahtuu jälkikäteen näiden tietojen pohjalta. \nOrganisaatiohinnan valitseville tiedoksi\, että vain yksi henkilö/organisaatio ilmoittautuu. Linkki webinaariin lähetetään ilmoittautujan sähköpostiin. \nPeruutusehdot\nViimeinen kuluton peruutuspäivä on viikkoa ennen koulutusta. Tämän jälkeen tulleista peruutuksista tai peruuttamatta jättämisistä veloitetaan täysi osallistumismaksu. Edellä mainittu ei koske sairastapauksia. \nMuut sarjan webinaarit\n  \n18.9.2025 osa 1: Terveyshaitat ja riippuvuus \n9.10.2025 osa 2: Tupakka- ja nikotiiniriippuvuuden hoito \n 
URL:https://www.filha.fi/koulutus/tietoa-tupakka-ja-nikotiinivieroituksesta-webinaari-osa-3-kuinka-otan-puheeksi-ja-tuen-lopettamaan-3/
END:VEVENT
BEGIN:VEVENT
DTSTART;TZID=Europe/Helsinki:20251111T090000
DTEND;TZID=Europe/Helsinki:20251111T151500
DTSTAMP:20260420T095138
CREATED:20250617T113429Z
LAST-MODIFIED:20250912T102101Z
UID:33258-1762851600-1762874100@www.filha.fi
SUMMARY:Etelä-Pohjanmaan alueellinen astma- ja allergiakoulutus\, Seinäjoki
DESCRIPTION:ALUEELLINEN ASTMA- JA ALLERGIAKOULUTUS –\nETELÄ-POHJANMAAN HYVINVOINTIALUE\, SEINÄJOKI \nAika ti 11.11. klo 9 – 15:15\nPaikka Seinäjoen keskussairaalan auditoriot\, C-osa\, 3krs. Hanneksenrinne 7\, 60220\nSeinäjoki\nKohderyhmä Perusterveydenhuollon lääkärit ja hoitajat\, terveydenhoitajat ja lastentautien\,\nkeuhkosairauksien\, ihotautien\, korva-\, nenä- ja kurkkutautien lääkärit ja\nhoitajat\, työterveyshuollon lääkärit ja hoitajat\, fysioterapeutit\, apteekkien th-ammattilaiset sekä kaikki asiasta kiinnostuneet muut sote-ammattilaiset. \nKoulutus on maksuton. Koulutus on live koulutus. \nIlmoittautuminen Koulutuspäivä on maksuton\, mutta siihen tulee ilmoittautua. Hyvinvointialueen\ntyöntekijät ilmoittautuvat koulutukseen HR-koulutuskalenterin kautta ja\ntekevät osallistumisesta koulutuspoissaolohakemuksen.\nHyvinvointialueen ulkopuoliset ilmoittautuvat koulutukseen seuraavasta linkistä:\nhttps://link.webropol.com/s/astmaallergiakoulutus \nJärjestäjä Filha ry ja Etelä-Pohjanmaan hyvinvointialue\nLisätietoja Krista Ahvenjärvi\, asiantuntija Filha ry\, p. 044 5442209 \nOhjelma (PDF) \n9:00 Aamukahvit ja näyttelyyn tutustuminen \n9:30 Koulutuksen avaus\nSamuli Suokko\, keuhkosairauksien ja allergologian el\, vs. keuhkosairauksien yl\, HYVAEP\n9:40 Mitä uutta Filhassa ammattilaisille\nKrista Ahvenjärvi\, asiantuntija\, FILHA ry\n9:45 Lapsen ja nuoren astma\nTeemu Kalliokoski\, lastentautien el\, ylilääkäri\, HYVAEP\n10:30 Tablettisiedätyshoito\nTeemu Kalliokoski\n11:00 Lounas (omakustanteinen) ja näyttelyyn tutustuminen\n12:00 Keuhkoahtaumatautipotilaan hoito\nSamuli Suokko\n12:45 Keuhkoahtaumataudin liitännäissairaudet\nAntti Saarinen\, LT\, keuhkosairauksien el\, asiantuntijaylilääkäri\, FILHA Ry\n13:15 Iltapäivän kahvit ja näyttelyyn tutustuminen\n13:45 Älä kuorsaa niin kauheasti\nOlga Korobov\, yleislääketieteen el\, oyl\, HYVAEP\n14:15 Bronkiektasiatauti\, taudin etiologia\nAntti Saarinen\, keuhkosairauksien ja allergologian el\, asiantuntijaylilääkäri\, FILHA Ry\n15:00 Keskustelua koulutuksen teemoista ja seuraavasta koulutuksesta sopiminen\npj. Samuli Suokko\n15:15 Tilaisuus päättyy. Hyvää kotimatkaa.
URL:https://www.filha.fi/koulutus/etela-pohjanmaan-alueellinen-astma-ja-allergiakoulutus-seinajoki/
END:VEVENT
BEGIN:VEVENT
DTSTART;TZID=Europe/Helsinki:20251119T133000
DTEND;TZID=Europe/Helsinki:20251119T150000
DTSTAMP:20260420T095138
CREATED:20250425T062558Z
LAST-MODIFIED:20250912T102150Z
UID:32837-1763559000-1763564400@www.filha.fi
SUMMARY:Keuhkoahtaumatautikoulutus  hoitajille\, webinaari\, osa 2
DESCRIPTION:KEUHKOAHTAUMATAUTIKOULUTUS HOITAJILLE\nWebinaari\, osa 2 \nAika: 19.11.2025 klo 13:30-15:00\nPaikka: Teams-kokous\, linkki lähetetään ilmoittautuneille.\nKoulutus on maksuton.\nIlmoittaudu tästä \nOhjelma: (PDF)\n13:30 Koulutuksen avaus.\nKrista Ahvenjärvi\, allergia- ja astma-asiantuntija\, Filha ry\n13:35 Keuhkoahtaumataudin omahoito ja sen ohjaus\nAntti Saarinen\, asiantuntijaylilääkäri\, Filha ry\n14:15 Yhteistyökumppanin puheenvuoro\n14:30 Keuhkoahtaumatautia sairastavan omahoidon\nohjaussisällöt\, Salla-Maaret Keijälä\, sh\, TtM\, Filha ry\n14:50 Keskustelua ja aikaa kysymyksille\n15:00 Koulutus päättyY
URL:https://www.filha.fi/koulutus/keuhkoahtaumatautikoulutus-hoitajille-webinaari-osa-2/
END:VEVENT
END:VCALENDAR