BEGIN:VCALENDAR
VERSION:2.0
PRODID:-//Filha - ECPv6.15.20//NONSGML v1.0//EN
CALSCALE:GREGORIAN
METHOD:PUBLISH
X-ORIGINAL-URL:https://www.filha.fi
X-WR-CALDESC:Tapahtumat Filha
REFRESH-INTERVAL;VALUE=DURATION:PT1H
X-Robots-Tag:noindex
X-PUBLISHED-TTL:PT1H
BEGIN:VTIMEZONE
TZID:Europe/Helsinki
BEGIN:DAYLIGHT
TZOFFSETFROM:+0200
TZOFFSETTO:+0300
TZNAME:EEST
DTSTART:20240331T010000
END:DAYLIGHT
BEGIN:STANDARD
TZOFFSETFROM:+0300
TZOFFSETTO:+0200
TZNAME:EET
DTSTART:20241027T010000
END:STANDARD
BEGIN:DAYLIGHT
TZOFFSETFROM:+0200
TZOFFSETTO:+0300
TZNAME:EEST
DTSTART:20250330T010000
END:DAYLIGHT
BEGIN:STANDARD
TZOFFSETFROM:+0300
TZOFFSETTO:+0200
TZNAME:EET
DTSTART:20251026T010000
END:STANDARD
BEGIN:DAYLIGHT
TZOFFSETFROM:+0200
TZOFFSETTO:+0300
TZNAME:EEST
DTSTART:20260329T010000
END:DAYLIGHT
BEGIN:STANDARD
TZOFFSETFROM:+0300
TZOFFSETTO:+0200
TZNAME:EET
DTSTART:20261025T010000
END:STANDARD
END:VTIMEZONE
BEGIN:VEVENT
DTSTART;TZID=Europe/Helsinki:20251202T130000
DTEND;TZID=Europe/Helsinki:20251202T150000
DTSTAMP:20260422T115318
CREATED:20250904T130014Z
LAST-MODIFIED:20251006T055123Z
UID:33627-1764680400-1764687600@www.filha.fi
SUMMARY:Keuhkohoitajaverkoston koulutus & kokous
DESCRIPTION:Aika: 2.12.2025 klo 13–15\nPaikka: Teams-alusta. Osallistumislinkki lähetetään vain\nverkoston jäsenille. Tilaisuus on maksuton.\nMuista ilmoittautua tästä \nOhjelma: (PDF)\n13:00 Koulutuksen avaus\nKrista Ahvenjärvi\, asiantuntija\, Filha ry\n13:05 Bronkiektasioiden hoito\nAntti Saarinen\, asiantuntijaylilääkäri\, Filha ry\n13:25 Koulutuksen tukijan puheenvuoro\nAstraZeneca\n13:40 Yskäpotilaan kliininen tutkiminen ja hoitokokeilut\ntavallisimpiin taustasairauksiin\nHanna Nurmi\, asiantuntijaylilääkäri\, Filha ry\n14:00 Vuoden keuhkohoitajan tervehdys\nSanna Olkkonen\, sh\, Jyväskylä\n14:10 Keuhkohoitajaverkoston kokous\n15:00 Tilaisuus päättyy
URL:https://www.filha.fi/koulutus/keuhkohoitajaverkoston-koulutus-kokous/
END:VEVENT
BEGIN:VEVENT
DTSTART;VALUE=DATE:20251203
DTEND;VALUE=DATE:20251204
DTSTAMP:20260422T115318
CREATED:20241228T071743Z
LAST-MODIFIED:20250910T122524Z
UID:31909-1764720000-1764806399@www.filha.fi
SUMMARY:XI Valtakunnallinen Tupakka ja terveys -päivä
DESCRIPTION:Aika: 3.12.2025 \nPaikka: THL\, Mannerheimintie 166\, Helsinki \nOsallistuminen mahdollista vain paikan päällä. \nJärjestäjä: Filha ry \nYhteistyössä THL:n ja Syöpäjärjestöjen kanssa \nKohderyhmä: Sote-ammattilaiset ja tulevat ammattilaiset\, tutkijat\, viranomaiset\, päätöksentekijät sekä muut asiasta kiinnostuneet. \nKoulutus on tarkoitettu henkilöille\, jotka sitoutuvat nikotiinittomuuden edistämiseen. \nOhjelma \nErikoistumispisteet: Koulutus anotaan erikoistumiskoulutukseksi soveltuville erikoisaloille Helsingin yliopistolta. \nOsallistumismaksut: 110 € \nIlmoittautuminen: lomakkeella 26.11.2025 mennessä. \nTarkistathan etukäteen\, että laskutustietosi ovat ajantasaiset\, koska niitä kysytään ilmoittautuessa. \nPeruutusehdot: Viimeinen kuluton peruutuspäivä on viikkoa ennen koulutusta. Tämän jälkeen tulleista peruutuksista tai peruuttamatta jättämisistä veloitetaan täysi osallistumismaksu. Edellä mainittu ei koske sairastapauksia. \nNäyttely \nPosterinäyttely
URL:https://www.filha.fi/koulutus/xi-valtakunnalliset-tupakka-ja-terveys-paivat/
END:VEVENT
END:VCALENDAR