BEGIN:VCALENDAR
VERSION:2.0
PRODID:-//Filha - ECPv6.15.20//NONSGML v1.0//EN
CALSCALE:GREGORIAN
METHOD:PUBLISH
X-ORIGINAL-URL:https://www.filha.fi
X-WR-CALDESC:Tapahtumat Filha
REFRESH-INTERVAL;VALUE=DURATION:PT1H
X-Robots-Tag:noindex
X-PUBLISHED-TTL:PT1H
BEGIN:VTIMEZONE
TZID:Europe/Helsinki
BEGIN:DAYLIGHT
TZOFFSETFROM:+0200
TZOFFSETTO:+0300
TZNAME:EEST
DTSTART:20250330T010000
END:DAYLIGHT
BEGIN:STANDARD
TZOFFSETFROM:+0300
TZOFFSETTO:+0200
TZNAME:EET
DTSTART:20251026T010000
END:STANDARD
BEGIN:DAYLIGHT
TZOFFSETFROM:+0200
TZOFFSETTO:+0300
TZNAME:EEST
DTSTART:20260329T010000
END:DAYLIGHT
BEGIN:STANDARD
TZOFFSETFROM:+0300
TZOFFSETTO:+0200
TZNAME:EET
DTSTART:20261025T010000
END:STANDARD
BEGIN:DAYLIGHT
TZOFFSETFROM:+0200
TZOFFSETTO:+0300
TZNAME:EEST
DTSTART:20270328T010000
END:DAYLIGHT
BEGIN:STANDARD
TZOFFSETFROM:+0300
TZOFFSETTO:+0200
TZNAME:EET
DTSTART:20271031T010000
END:STANDARD
END:VTIMEZONE
BEGIN:VEVENT
DTSTART;TZID=Europe/Helsinki:20260203T100000
DTEND;TZID=Europe/Helsinki:20260203T153000
DTSTAMP:20260421T134251
CREATED:20250908T101131Z
LAST-MODIFIED:20251208T133432Z
UID:33680-1770112800-1770132600@www.filha.fi
SUMMARY:Päijät-Hämeen alueellinen keuhkosairauksien ja allergologian koulutus\, Lahti
DESCRIPTION:Paikka: Koulutustilat Tähkä\, Laidun ja Kaski. Toimistorakennus K1 (parkkihalli).\nPHKS\, Keskussairaalankatu 7\, Lahti. \nKohderyhmät: Perusterveydenhuollon\, erikoissairaanhoidon ja yksityispuolen lääkärit ja hoitajat sekä apteekkarit\, proviisorit\, farmaseutit\, jotka kohtaavat työssään tai ohjaavat keuhkosairauksia ja allergioita sairastavia potilaita. Koulutus on maksuton. \nIlmoittautuminen: Koulutuskalenterin kautta (hae sanalla ”alueellinen…”\, ulkopuoliset voivat ilmoittautua: marketta.koskinen@paijatha.fi \nOHJELMA (PDF): \n 10:00  Aamukahvit (Filha ry tarjoaa) ja näyttelyyn tutustuminen \n10:20  Koulutuksen avaus\nOscar Hilden\, keuhkosairauksien ylilääkäri\, Päijät-Hämeen hyvinvointialue \n10:30 Filhan tervehdys. Miten tuemme terveydenhuollon ammattilaisia.\nKrista Ahvenjärvi\, asiantuntija\, ahtauttavat keuhkosairaudet\, Filha ry \n10:40 Uniapnean päivittynyt uusi hoitoketju\nOscar Hilden \n 11:15  Ajoterveysvaatimukset uniapneapotilaalla\nAntti Saarinen\, keuhkosairauksien erikoislääkäri\, asiantuntijaylilääkäri\, Filha Ry \n 11:45 Lounastauko (omakustanne) ja näyttelyyn tutustuminen \n12:30 Uniapnean hoidon tulevaisuuden näkymät\nTanja Broman\, Mia Hietala\, Tuuli Varila ja Mikko Partio asiantuntijasairaanhoitajat\, Päijät-Hämeen hyvinvointialue \n 13:00  Ei-sairaalahoitoinen pneumonia\nHenri Vartiainen\, keuhkosairauksien erikoislääkäri\, osastonylilääkäri\, Päijät-Hämeen hyvinvointialue \n 13:30  Jaloittelutauko\, pientä tarjoilua (Filha ry tarjoaa) ja näyttelyyn tutustuminen \n 14:00  Keuhkoahtaumapotilaan hoito\nHenri Vartiainen\, keuhkosairauksien ja allergologian erikoislääkäri\, osastonylilääkäri\, Päijät-Hämeen hyvinvointialue \n14:30  Keuhkoahtaumatautia sairastavan lääkehoito ja inhalaattorit\nMikko Partio\, apulaisosastonhoitaja \n 15:00 Keskustelua koulutuksen teemoista\n pj Oscar Hilden \n 15:30  Seuraavasta koulutuksesta sopiminen.  \nKoulutuspäivä päättyy. Hyvää kotimatkaa.  \nKoulutukselle haetaan erikoistumispisteitä Helsingin yliopistosta soveltuville\nerikoisaloille
URL:https://www.filha.fi/koulutus/paijat-hameen-alueellinen-keuhkosairauksien-ja-allergologian-koulutus/
END:VEVENT
BEGIN:VEVENT
DTSTART;TZID=Europe/Helsinki:20260205T140000
DTEND;TZID=Europe/Helsinki:20260205T150000
DTSTAMP:20260421T134251
CREATED:20250908T101702Z
LAST-MODIFIED:20250910T063608Z
UID:33684-1770300000-1770303600@www.filha.fi
SUMMARY:Keuhkot ja sydän webinaari
DESCRIPTION:KEUHKOT JA SYDÄN WEBINAARI\nKUINKA TUNNISTAA KARDIOPULMONAALIRISKI\nKEUHKOAHTAUMATAUTIA SAIRASTAVALLA \nAika: 5.2.2026 KLO 14\nPaikka: Teams-kokous\, linkki lähetetään ilmoittautuneille.\nKoulutus on maksuton.\nTilaisuus tarkoitettu vain lääkäreille\nIlmoittaudu mukaan TÄSTÄ \nOhjelma: (PDF)\n14:00 Koulutuksen avauspuheenvuoro\nKrista Ahvenjärvi\, asiantuntija\, Filha ry\n14:05 Keuhkot ja sydän – kuinka tunnistaa\nkardiopulmonaaliriski keuhkoahtaumatautipotilaalla\nWitold Mazur\, LT\, keuhkosairauksien ja allergologian\nerikoislääkäri\, HUS\n14:35 Yhteistyökumppanin puheenvuoro\n14:50 Keuhkoahtaumatautipotilaan ohjaaminen\nKrista Ahvenjärvi\n15:00 Koulutus päätty
URL:https://www.filha.fi/koulutus/keuhkot-ja-sydan-webinaari/
END:VEVENT
BEGIN:VEVENT
DTSTART;TZID=Europe/Helsinki:20260209T133000
DTEND;TZID=Europe/Helsinki:20260209T150000
DTSTAMP:20260421T134251
CREATED:20251015T091053Z
LAST-MODIFIED:20251015T092047Z
UID:33991-1770643800-1770649200@www.filha.fi
SUMMARY:Tietoa tupakka- ja nikotiinivieroituksesta -webinaari\, osa 1. Terveyshaitat ja riippuvuus.
DESCRIPTION:Tietoa tupakka- ja nikotiinivieroituksesta webinaarisarjassa käydään läpi perusasiat liittyen tupakoinnin terveyshaittoihin\, tupakka- ja nikotiiniriippuvuuteen\, uusiin nikotiinituotteisiin sekä nikotiiniriippuvuuden hoitoon. Webinaarisarjan viimeisessä koulutuksessa erityisteemana on puheeksiotto\, motivoiva keskustelu sekä verkosta löytyvät apuvälineet vieroitustyön tueksi. Suosittelemme osallistumista koko webinaarisarjaan\, mutta on myös mahdollista ilmoittautua yksittäisin koulutuksiin. Webinaarisarja soveltuu erityisesti uusille tupakastavieroitustyötä tekeville\, mutta myös kertauksena kokeneemmille vieroittajille. \nWebinaarisarja on uusinta syksyltä 2025. \nOsa 1: Terveyshaitat ja riippuvuus\nToteutus\nWebinaari toteutetaan Teams-kokouksena. Koulutuksesta ei tehdä tallennetta\, mutta webinaarisarja uusitaan myöhemmin. Linkki koulutukseen lähetetään ilmoittautuneille etukäteen sähköpostitse. \nKohderyhmä\nSosiaali- ja terveydenhuollon ammattilaiset \nOsallistumismaksu\nWebinarin osallistumismaksu on 40 € / yksi webinaari\, 70 € / kaksi webinaaria ja 100 € / kaikki kolme webinaaria \nKolmen webinaarin kokonaisuus on mahdollista valita myös isommalle osallistujajoukolle. Organisaatiohinta on 500 € / organisaatio. \nOrganisaatiohinnassa ei osallistujien määrää ole rajattu\, mutta ota huomioon seuraava:\nOrganisaatiohinta on toimipaikkakohtainen. Julkisten terveyspalvelujen ollessa kyseessä\, organisaatiolla tarkoitetaan yksittäistä terveysasemaa\, kaupungin hyvinvointipalveluiden yhtä osaa\, kuten neuvolapalveluita tai erikoissairaanhoidon yhden sairaalan klinikkaa. \nOhjelma\n13.30-14.10 Tupakoinnin ja nikotiinin terveyshaitat; Krista Ahvenjärvi\, koulutuksen erityisasiantuntija\, Filha\n14.10-14.50 Tupakka- ja nikotiiniriippuvuus sekä uudet nikotiinituotteet\, Patrick Sandström\, erityisasiantuntija\, Filha\n14.50-15.00 Keskustelu \nIlmoittautuminen\nIlmoittaudu webinaariin tästä linkistä \nIlmoittautumisen yhteydessä kysytään laskutustietoja. Tarkistathan etukäteen\, että laskutustiedot ovat oikein. Laskutus tapahtuu jälkikäteen näiden tietojen pohjalta. \nOrganisaatiohinnan valitseville tiedoksi\, että vain yksi henkilö/organisaatio ilmoittautuu. Linkki webinaariin lähetetään ilmoittautujan sähköpostiin. \nPeruutusehdot\nViimeinen kuluton peruutuspäivä on viikkoa ennen koulutusta. Tämän jälkeen tulleista peruutuksista tai peruuttamatta jättämisistä veloitetaan täysi osallistumismaksu. Edellä mainittu ei koske sairastapauksia. \nMuut sarjan webinaarit\n12.3.2026 osa 2: Tupakka- ja nikotiiniriippuvuuden hoito\n28.4.2026 osa 3: Kuinka otan puheeksi ja tuen lopettamaan?
URL:https://www.filha.fi/koulutus/tietoa-tupakka-ja-nikotiinivieroituksesta-webinaari-osa-1-terveyshaitat-ja-riippuvuus-3/
END:VEVENT
BEGIN:VEVENT
DTSTART;TZID=Europe/Helsinki:20260212T090000
DTEND;TZID=Europe/Helsinki:20260212T153000
DTSTAMP:20260421T134251
CREATED:20250908T102653Z
LAST-MODIFIED:20260113T063928Z
UID:33683-1770886800-1770910200@www.filha.fi
SUMMARY:Lapin alueellinen keuhkosairauksien koulutuspäivä\, Rovaniemi
DESCRIPTION:  \nPaikka: Lapin keskussairaalan auditorio (0-kerros)\,\nOunasvaarantie 22\, Rovaniemi\nTeams-etäyhteys tarvittaessa vain pitkänmatkalaisille. \nKohderyhmä: Perusterveydenhuollon\, erikoissairaanhoidon ja yksityispuolen lääkärit\nja hoitajat sekä apteekkarit\, proviisorit\, farmaseutit\, jotka kohtaavat työssään ja ohjaavat keuhkosairauksia sairastavia potilaita. \nOsallistumismaksu: Koulutus on maksuton \nIlmoittautuminen: Ilmoittautuminen Laphan henkilöstön osalta OSS koulutuskalenteriin. Laphan ulkopuolisien ilmoittautuminen tehdään Laphan internetin kautta Forms-linkistä \nIlmoittautuminen viimeistään 9.2. Ilmoittautumisen peruminen Laphan henkilöstön osalta OSS koulutuskalenteriin tai koulutuksen järjestäjälle. Auditorioon mahtuu 90 henkilöä! \nOsallistuminen etänä: Koulutukseen voi osallistua paikan päällä ja tarvittaessa etänä (vain pitkänmatkalaiset). Linkki etäyhteyteen toimitetaan sähköpostitse paria päivää ennen koulutusta. \nLisätiedot:\nLeena Korpi\, ylilääkäri\, keuhkosairaudet Lapha \nMervi Soudunsaari\, Osastonhoitaja sisätautien poliklinikka\, Lapha keuhkosairauksien poliklinikka ja keuhkofunktio \nOhjelma (PDF) \n9:00 Aamukahvit (Filha tarjoaa) ja näyttelyyn tutustuminen \n10:00 Koulutuksen avaus ja mitä uutta Filhassa\nLeena Korpi\, keuhkosairauksien ylilääkäri\, Lapin hva\,\nKrista Ahvenjärvi\, asiantuntija\, Filha Ry \n10:15 Keuhkoahtaumataudin nykyhoito\nUlpu Tervashonka\, osastonylilääkäri\, Lapin hyvinvointialue \n11:00 Keuhkokuvan tulkinta\, mitä kuva kertoo ja mitä lääkärin olisi hyvä huomioida\nJuho Nissilä\, radiologi\, Lapin hyvinvointialue e \n11:30 Lounas (omakustanne) ja näyttelyyn tutustuminen \n12:30 Keuhkoahtaumatautia sairastava ohjausvastaanotolla\, mitä huomioin\nSari Ravelin ja Sanna Saariniemi\, sairaanhoitajat\, Lapin hyvinvointialue  \n13:00 Spirometria tutkimus\, tulkintaa ja diagnostiikkaa\nAntti Saarinen\, asiantuntijaylilääkäri\, Filha Ry \n13:30 lltapäivän kahvit (Filha tarjoaa) ja näyttelyyn tutustuminen \n14:00 Uudet laitehoidot keuhkosairauksissa\, mitä mahdollisuuksia myös kotihoitoon\nLeena Korpi \n14:45 Korkeavirtaushoidon toteuttaminen kotona\, kuinka ohjaan ja tuen hoidon onnistumiseen\nSeija Marski\, apuvälineohjaaja\, Lapin hyvinvointialue \n15:15 Keskustelua ja kysymyksiä. \n15:30 Päätössanat. Seuraavasta koulutuksesta (2028) sopiminen.
URL:https://www.filha.fi/koulutus/lapin-alueellinen-keuhkosairauksien-koulutuspaiva/
END:VEVENT
END:VCALENDAR