BEGIN:VCALENDAR
VERSION:2.0
PRODID:-//Filha - ECPv6.15.20//NONSGML v1.0//EN
CALSCALE:GREGORIAN
METHOD:PUBLISH
X-WR-CALNAME:Filha
X-ORIGINAL-URL:https://www.filha.fi
X-WR-CALDESC:Tapahtumat Filha
REFRESH-INTERVAL;VALUE=DURATION:PT1H
X-Robots-Tag:noindex
X-PUBLISHED-TTL:PT1H
BEGIN:VTIMEZONE
TZID:Europe/Helsinki
BEGIN:DAYLIGHT
TZOFFSETFROM:+0200
TZOFFSETTO:+0300
TZNAME:EEST
DTSTART:20250330T010000
END:DAYLIGHT
BEGIN:STANDARD
TZOFFSETFROM:+0300
TZOFFSETTO:+0200
TZNAME:EET
DTSTART:20251026T010000
END:STANDARD
BEGIN:DAYLIGHT
TZOFFSETFROM:+0200
TZOFFSETTO:+0300
TZNAME:EEST
DTSTART:20260329T010000
END:DAYLIGHT
BEGIN:STANDARD
TZOFFSETFROM:+0300
TZOFFSETTO:+0200
TZNAME:EET
DTSTART:20261025T010000
END:STANDARD
BEGIN:DAYLIGHT
TZOFFSETFROM:+0200
TZOFFSETTO:+0300
TZNAME:EEST
DTSTART:20270328T010000
END:DAYLIGHT
BEGIN:STANDARD
TZOFFSETFROM:+0300
TZOFFSETTO:+0200
TZNAME:EET
DTSTART:20271031T010000
END:STANDARD
END:VTIMEZONE
BEGIN:VEVENT
DTSTART;VALUE=DATE:20261103
DTEND;VALUE=DATE:20261104
DTSTAMP:20260421T135002
CREATED:20260209T071959Z
LAST-MODIFIED:20260209T071959Z
UID:34682-1793664000-1793750399@www.filha.fi
SUMMARY:Etelä-Karjan hyvinvointialue\, Lappeenranta
DESCRIPTION:Tiedot päivittyy.
URL:https://www.filha.fi/koulutus/etela-karjan-hyvinvointialue-lappeenranta/
END:VEVENT
BEGIN:VEVENT
DTSTART;VALUE=DATE:20261110
DTEND;VALUE=DATE:20261112
DTSTAMP:20260421T135002
CREATED:20251030T130241Z
LAST-MODIFIED:20260302T081805Z
UID:34070-1794268800-1794441599@www.filha.fi
SUMMARY:XXXVIII Valtakunnalliset Tartuntatautipäivät
DESCRIPTION:Tietoja päivitetään. \nOhjelmassa on monipuolisesti ajankohtaista tietoa infektiosairauksista sekä infektioiden torjunnasta. \nAika: 10.-11.11.2026\nPaikka: Marina Congress Center\, Katajanokanlaituri 6\, Helsinki \nKoulutukseen voi osallistua myös etänä videostriimin välityksellä. \nJärjestäjät: Filha ry\, STM\, THL \nKohderyhmä: \n\nsairaaloiden ja terveyskeskusten tartuntatautilääkärit ja -hoitajat\nkeskussairaaloiden sisätautien klinikoiden sekä iho- ja sukupuoliklinikoiden henkilöstö\nterveysvalvonnan johtotehtävissä työskentelevät\napteekkihenkilöstö\nmuut tartuntatauteja työssään kohtaavat ammattiryhmät\n\nOhjelma: päivitetään \nErikoistumispisteet: Koulutus anotaan erikoistumiskoulutukseksi soveltuville erikoisaloille Helsingin yliopistolta. \nOsallistumismaksut: \n \nOsallistumismaksu paikan päällä osallistuville: \n\n2 pv 330 €\, 1 pv 240 €\nOpiskelija/eläkeläinen 2 pv 160 €\, 1 pv 100 €\n\nOsallistumismaksu etänä osallistuville (online): \n\n2 pv 250 €\, 1 pv 190 €\nOpiskelija/eläkeläinen 2 pv 140 €\, 1 pv 70 €\n\nIlmoittautuminen: lomakkeella 2.11.2026 mennessä. \nTarkistathan etukäteen\, että laskutustietosi ovat ajantasaiset\, koska niitä kysytään ilmoittautuessa. \nPeruutusehdot:\nViimeinen kuluton peruutuspäivä on viikkoa ennen koulutusta. Tämän jälkeen tulleista peruutuksista tai peruuttamatta jättämisistä veloitetaan täysi osallistumismaksu. Edellä mainittu ei koske sairastapauksia. \nNäyttely: katso tiedot täältä. \nMajoitus: Majoituksen voi halutessaan varata seuraavasta linkistä: VARAA MAJOITUS. \nLinkin kautta voi varata suoraan alennushintaisen huoneen. Huoneen voi halutessaan varata myös muusta Helsingin hotellista\, jossa on saatavuutta kyseiselle ajankohdalle. \nMajoittujat voivat valita mieleisensä huonetyypin sekä saada lisäalennusta maksaessaan varauksen heti varauksen yhteydessä. Yksittäisen majoitusvarauksen peruutusehto riippuu majoittujan valitsemasta varaustyypistä. Varauksen vahvistamiseksi majoittujan tulee antaa hotellille voimassa olevat luottokorttitiedot. Huoneet ovat varattavissa hotellin varaustilanteen mukaan viimeistään 10 päivää ennen saapumista. \nScandic Friends-jäsenten kannattaa tarkistaa myös saatavilla olevat kanta-asiakastarjoukset.
URL:https://www.filha.fi/koulutus/xxxviii-valtakunnalliset-tartuntatautipaivat/
END:VEVENT
BEGIN:VEVENT
DTSTART;TZID=Europe/Helsinki:20261111T140000
DTEND;TZID=Europe/Helsinki:20261111T151500
DTSTAMP:20260421T135002
CREATED:20260420T062142Z
LAST-MODIFIED:20260420T062416Z
UID:35001-1794405600-1794410100@www.filha.fi
SUMMARY:Koulutus interstitiaalisista keuhkosairauksista lääkäreille\, webinaari
DESCRIPTION:Sopii esimerkiksi sisätautilääkäreille\, reumatologeille\, keuhkolääkäreille ja\nerikoistuville lääkäreille sekä kaikille muille asiasta kiinnostuneille\nlääkäreille \nMAKSUTON WEBINAARI \nVerkkoalusta: Teams\, kutsu lähetetään ilmoittautuneille\nIlmoittaudu: klikkaa ilmoittautumiseen \nOhjelma (PDF)\n\n14:00 Koulutuksen avauspuheenvuoro\npj Antti Saarinen\, LT\, keuhkosairauksien erikoislääkäri\, asiantuntijaylilääkäri\, Filha ry\n\n14:05 Sidekudostauteihin liittyvän interstitiaalisen keuhkosairauden ERS-ohjeet\nRiitta Kaarteenaho\, LT\, professori\, keuhkosairauksien ylilääkäri\, OYS\, Oulun yliopisto \n14:35 Keskustelua luennosta pj:n johdolla\n\n14:40 ILD-hoidon haasteet\nAntti Saarinen\, LT\, keuhkosairauksien erikoislääkäri\, asiantuntijaylilääkäri\, Filha ry\n\n15:10 Keskustelua luennosta pj:n johdolla\n\n15:15 Päätössana
URL:https://www.filha.fi/koulutus/koulutus-interstitiaalisista-keuhkosairauksista-laakareille-webinaari/
END:VEVENT
BEGIN:VEVENT
DTSTART;VALUE=DATE:20261112
DTEND;VALUE=DATE:20261113
DTSTAMP:20260421T135002
CREATED:20260209T072102Z
LAST-MODIFIED:20260209T072102Z
UID:34685-1794441600-1794527999@www.filha.fi
SUMMARY:Varsinais-Suomen hyvinvointialue\, Turku\, TYKS
DESCRIPTION:Tiedot päivittyy.
URL:https://www.filha.fi/koulutus/varsinais-suomen-hyvinvointialue-turku-tyks/
END:VEVENT
BEGIN:VEVENT
DTSTART;VALUE=DATE:20261125
DTEND;VALUE=DATE:20261126
DTSTAMP:20260421T135002
CREATED:20260209T072223Z
LAST-MODIFIED:20260209T072223Z
UID:34688-1795564800-1795651199@www.filha.fi
SUMMARY:Etelä-Pohjanmaan hyvinvointialue\, Seinäjoki
DESCRIPTION:Tiedot päivittyy.
URL:https://www.filha.fi/koulutus/etela-pohjanmaan-hyvinvointialue-seinajoki/
END:VEVENT
BEGIN:VEVENT
DTSTART;TZID=Europe/Helsinki:20261126T133000
DTEND;TZID=Europe/Helsinki:20261126T150000
DTSTAMP:20260421T135002
CREATED:20260318T095147Z
LAST-MODIFIED:20260318T095707Z
UID:34893-1795699800-1795705200@www.filha.fi
SUMMARY:Tietoa tupakka- ja nikotiinivieroituksesta -webinaari\, osa 3. Kuinka otan puheeksi ja tuen lopettamaan.
DESCRIPTION:Tietoa tupakka- ja nikotiinivieroituksesta webinaarisarjassa käydään läpi perusasiat liittyen tupakoinnin terveyshaittoihin\, tupakka- ja nikotiiniriippuvuuteen\, uusiin nikotiinituotteisiin sekä nikotiiniriippuvuuden hoitoon. Webinaarisarjan viimeisessä koulutuksessa erityisteemana on puheeksiotto\, motivoiva keskustelu sekä verkosta löytyvät apuvälineet vieroitustyön tueksi. Suosittelemme osallistumista koko webinaarisarjaan\, mutta on myös mahdollista ilmoittautua yksittäisin koulutuksiin. Webinaarisarja soveltuu erityisesti uusille tupakastavieroitustyötä tekeville\, mutta myös kertauksena kokeneemmille vieroittajille. \nWebinaarisarja on uusinta keväältä 2026. \nOsa 3: Kuinka otan puheeksi ja tuen lopettamaan?\nToteutus\nWebinaari toteutetaan Teams-kokouksena. Koulutuksesta ei tehdä tallennetta\, mutta webinaarisarja uusitaan myöhemmin. Linkki koulutukseen lähetetään ilmoittautuneille etukäteen sähköpostitse. \nKohderyhmä\nSosiaali- ja terveydenhuollon ammattilaiset \nOsallistumismaksu\nWebinarin osallistumismaksu on 40 € / yksi webinaari\, 70 € / kaksi webinaaria ja 100 € / kaikki kolme webinaaria. \nKolmen webinaarin kokonaisuus on mahdollista valita myös isommalle osallistujajoukolle. Organisaatiohinta on 500 € / organisaatio. \nOrganisaatiohinnassa ei osallistujien määrää ole rajattu\, mutta ota huomioon seuraava:\nOrganisaatiohinta on toimipaikkakohtainen. Julkisten terveyspalvelujen ollessa kyseessä\, organisaatiolla tarkoitetaan yksittäistä terveysasemaa\, kaupungin hyvinvointipalveluiden yhtä osaa\, kuten neuvolapalveluita tai erikoissairaanhoidon yhden sairaalan klinikkaa. \nOhjelma\n13.30–13.50 Kuinka otan tupakoinnin puheeksi?\, Patrick Sandström\n13.50–14.30 Motivoiva keskustelu\, Krista Ahvenjärvi\n14.30–14.50 Miten hyödynnän erilaisia työkaluja vieroitustyössä\, Patrick Sandström\n14.50–15.00 Keskustelua \nIlmoittautuminen\nIlmoittaudu webinaariin tästä linkistä \nIlmoittautumisen yhteydessä kysytään laskutustietoja. Tarkistathan etukäteen\, että laskutustiedot ovat oikein. Laskutus tapahtuu jälkikäteen näiden tietojen pohjalta. \nOrganisaatiohinnan valitseville tiedoksi\, että vain yksi henkilö/organisaatio ilmoittautuu. Linkki webinaariin lähetetään ilmoittautujan sähköpostiin. \nPeruutusehdot\nViimeinen kuluton peruutuspäivä on viikkoa ennen koulutusta. Tämän jälkeen tulleista peruutuksista tai peruuttamatta jättämisistä veloitetaan täysi osallistumismaksu. Edellä mainittu ei koske sairastapauksia. \nMuut sarjan webinaarit\n17.9.2026 osa 1: Terveyshaitat ja riippuvuus\n27.10.2026 osa 2: Tupakka- ja nikotiiniriippuvuuden hoito
URL:https://www.filha.fi/koulutus/tietoa-tupakka-ja-nikotiinivieroituksesta-webinaari-osa-3-kuinka-otan-puheeksi-ja-tuen-lopettamaan-5/
END:VEVENT
BEGIN:VEVENT
DTSTART;VALUE=DATE:20261127
DTEND;VALUE=DATE:20261128
DTSTAMP:20260421T135002
CREATED:20251229T120757Z
LAST-MODIFIED:20260119T112410Z
UID:34535-1795737600-1795823999@www.filha.fi
SUMMARY:Valtakunnallinen Keuhkosyöpäpäivä lääkäreille
DESCRIPTION:Keuhkosyövän koulutuskokonaisuus. \nKoulutuspäivän aikana tarjotaan uusinta tietoa keuhkosyövästä\, perehdytään uusimpiin tekniikoihin\, tutkimuksiin ja hoitoihin. \nAika: 27.11.2026 \nPaikka: Scandic Park\, Vision 1-3\, Mannerheimintie 46\, 00260 Helsinki \nTapahtumaan on mahdollista osallistua vain paikan päällä. \nKohderyhmä: Tilaisuus on tarkoitettu keuhkosyövän tutkimukseen\, diagnostiikkaan ja hoitoon osallistuville lääkäreille (keuhkolääkärit\, onkologit\, patologit\, radiologit\, thoraxkirurgit\, yleislääkärit). \nOhjelma: Tiedot päivitetään \nErikoistumispisteet: Koulutus (Valtakunnallinen Keuhkosyöpäpäivä lääkäreille 27.11.2026) anotaan erikoistumiskoulutukseksi soveltuville erikoisaloille Helsingin yliopistolta. \nOsallistumismaksu: 140 € \nIlmoittautuminen: Tiedot päivitetään \nPeruutusehdot (Valtakunnallinen Keuhkosyöpäpäivä lääkäreille):\nViimeinen kuluton peruutuspäivä on viikkoa ennen koulutusta. Tämän jälkeen tulleista peruutuksista tai peruuttamatta jättämisistä veloitetaan täysi osallistumismaksu. Edellä mainittu ei koske sairastapauksia. \nNäyttely: Katso tiedot täältä. \nMajoitus ja matkat: Tiedot päivitetään
URL:https://www.filha.fi/koulutus/valtakunnallinen-keuhkosyopapaiva-laakareille-6/
END:VEVENT
END:VCALENDAR